{"text_format":"1","workbook":"xlsx","n_sheets":9,"sheets":["銷售與開支","分類銷售","次分類銷售","食材分類","付款統計","不同付款對比數據","FoodItem","工作表1","工作表2"],"not_rendered":{"charts":29,"images":0,"macros":1,"external_links":14,"defined_names":4,"comments":0,"pivot_tables":0},"unopened":[],"bounds":{"document_bytes":16777216,"sheet_cells":100000,"rows_first":2000,"rows_last":500,"rows_between":2000,"halvings":0,"cell_chars":16384,"cell_head_chars":4096},"cells_cut":0,"cells_raw":0,"read":"whole","date_system":"1900"}

{"sheet":"銷售與開支","index":0,"n_rows":27,"n_cols":14,"rows_kept":27,"cut":false,"hidden":false,"merged":[]}
[null,"每月銷售綜合結果"]
[]
[null,"2021年"]
[null,"總銷售及開支"]
[]
[null,"月","一月","二月","三月","4月","5月","6月","7月","8月","9月","10月","11月","12月"]
[null,"合共銷售",{"$f":"C$16+C$26","v":1024762},{"$f":"D$16+D$26","v":682388},1140860,1399549.8,948311,958794,1079527,1125943,1122645,1143112,1244652,0]
[null,"合共開支",{"$f":"C$17+C$27","v":1037162.45},{"$f":"D$17+D$27","v":869794.15},997865.07000000007,1194863.7399999998,1037158.5699999998,1051116.79,1076956.5099999998,1141487.08,1099298.96,1126806.1400000001,1157529.0899999999,0]
[]
[]
[null,"品味每月銷售及開支"]
[]
[null,"2021年"]
[]
[null,"月","一月","二月","三月","4月","5月","6月","7月","8月","9月","10月","11月","12月"]
[null,"合共銷售",{"$f":"[1]Analysis!AY$51","v":653451},{"$f":"[1]Analysis!AZ$51","v":447402},{"$f":"[1]Analysis!BA$51","v":726380},{"$f":"[1]Analysis!BB$51","v":843146.4},{"$f":"[1]Analysis!BC$51","v":635669},{"$f":"[1]Analysis!BD$51","v":620160},{"$f":"[1]Analysis!BE$51","v":728478},{"$f":"[1]Analysis!BF$51","v":767462},{"$f":"[1]Analysis!BG$51","v":749225},{"$f":"[1]Analysis!BH$51","v":793437},{"$f":"[1]Analysis!BI$51","v":855758},{"$f":"[1]Analysis!BJ$51","v":0}]
[null,"合共開支",{"$f":"[1]Analysis!AY$52","v":576307.97},{"$f":"[1]Analysis!AZ$52","v":463559.87000000005},{"$f":"[1]Analysis!BA$52","v":538673.43000000017},{"$f":"[1]Analysis!BB$52","v":650949.16},{"$f":"[1]Analysis!BC$52","v":496887.60999999993},{"$f":"[1]Analysis!BD$52","v":543085.19000000006},{"$f":"[1]Analysis!BE$52","v":613805.82999999996},{"$f":"[1]Analysis!BF$52","v":654135.68000000017},{"$f":"[1]Analysis!BG$52","v":586933.8600000001},{"$f":"[1]Analysis!BH$52","v":617792.27},{"$f":"[1]Analysis!BI$52","v":624679.0199999999},{"$f":"[1]Analysis!BJ$52","v":0}]
[]
[]
[]
[null,"和味每月銷售及開支"]
[]
[null,"2021年"]
[]
[null,"月","一月","二月","三月","4月","5月","6月","7月","8月","9月","10月","11月","12月"]
[null,"合共銷售",{"$f":"[1]Analysis!AY$53","v":371311},{"$f":"[1]Analysis!AZ$53","v":234986},{"$f":"[1]Analysis!BA$53","v":414480},{"$f":"[1]Analysis!BB$53","v":556403.4},{"$f":"[1]Analysis!BC$53","v":312642},{"$f":"[1]Analysis!BD$53","v":338634},{"$f":"[1]Analysis!BE$53","v":351049},{"$f":"[1]Analysis!BF$53","v":358481},{"$f":"[1]Analysis!BG$53","v":373420},{"$f":"[1]Analysis!BH$53","v":349675},{"$f":"[1]Analysis!BI$53","v":388894},{"$f":"[1]Analysis!BJ$53","v":0}]
[null,"合共開支",{"$f":"[1]Analysis!AY$54","v":460854.48},{"$f":"[1]Analysis!AZ$54","v":406234.27999999997},{"$f":"[1]Analysis!BA$54","v":459191.63999999996},{"$f":"[1]Analysis!BB$54","v":543914.57999999984},{"$f":"[1]Analysis!BC$54","v":540270.96},{"$f":"[1]Analysis!BD$54","v":508031.6},{"$f":"[1]Analysis!BE$54","v":463150.67999999993},{"$f":"[1]Analysis!BF$54","v":487351.4},{"$f":"[1]Analysis!BG$54","v":512365.09999999986},{"$f":"[1]Analysis!BH$54","v":509013.87},{"$f":"[1]Analysis!BI$54","v":532850.06999999995},{"$f":"[1]Analysis!BJ$54","v":0}]

{"sheet":"分類銷售","index":1,"n_rows":32,"n_cols":15,"rows_kept":32,"cut":false,"hidden":false,"merged":[]}
[null,"每月類別綜合銷售價"]
[]
[null,"2021年"]
[null,"月","一月","二月","三月","4月","5月","6月","7月","8月","9月","10月","11月","12月","TOTAL"]
[null,"中式總銷售",{"$f":"C$14+C$23","v":3980},{"$f":"D$14+D$23","v":5861.4},5834,4854,7084,7903,7934,12407,8396.4,4922.2,532034.08000000007,598767.43999999994,{"$f":"SUM(C5:N5)","v":1199977.52}]
[null,"西式總銷售",{"$f":"C$15+C$24","v":621},{"$f":"D$15+D$24","v":245},153,527,855,1082,906,1066,1588,943,61696.5,63929.7,{"$f":"SUM(C6:N6)","v":133612.20000000001}]
[null,"越式總銷售",{"$f":"C$16+C$25","v":1484},{"$f":"D$16+D$25","v":1039},1126,1187,2643,3957.8,3362.2,5848,3986.5,3466.2,214869,265318.53999999998,508287.24]
[null,"飲料總銷售",{"$f":"C$17+C$26","v":457},{"$f":"D$17+D$26","v":403},854,747,1204,1156,1114,1203,968,693,38471.64,59142,106412.64]
[null,"其他總銷售",{"$f":"C$18+C$27","v":4974},{"$f":"D$18+D$27","v":4594},6321,6438.8,6695,8510.7999999999993,6389,6124,6519.8,6778,216495.26,221207.32,501046.98000000004]
[]
[null,"品味類別綜合銷售"]
[null,"2021年"]
[null,"月","一月","二月","三月","4月","5月","6月","7月","8月","9月","10月","11月","12月","TOTAL"]
[null,"中式總銷售",{"$f":"[2]GroupItem!$C37","v":3980},{"$f":"[3]GroupItem!$C37","v":5861.4},{"$f":"[4]GroupItem!$C37","v":5834},{"$f":"[5]GroupItem!$C37","v":4854},{"$f":"[6]GroupItem!$C37","v":7084},{"$f":"[7]GroupItem!$C37","v":7903},{"$f":"[8]GroupItem!$C37","v":7934},{"$f":"[9]GroupItem!$C37","v":12407},{"$f":"[10]GroupItem!$C37","v":8396.4},{"$f":"[11]GroupItem!$C37","v":4922.2},{"$f":"[12]GroupItem!$C37","v":532034.08000000007},{"$f":"[13]GroupItem!$C37","v":598767.43999999994},{"$f":"SUM(C14:N14)","v":1199977.52}]
[null,"西式總銷售",{"$f":"[2]GroupItem!$C38","v":621},{"$f":"[3]GroupItem!$C38","v":245},{"$f":"[4]GroupItem!$C38","v":153},{"$f":"[5]GroupItem!$C38","v":527},{"$f":"[6]GroupItem!$C38","v":855},{"$f":"[7]GroupItem!$C38","v":1082},{"$f":"[8]GroupItem!$C38","v":906},{"$f":"[9]GroupItem!$C38","v":1066},{"$f":"[10]GroupItem!$C38","v":1588},{"$f":"[11]GroupItem!$C38","v":943},{"$f":"[12]GroupItem!$C38","v":61696.5},{"$f":"[13]GroupItem!$C38","v":63929.7},{"$f":"SUM(C15:N15)","v":133612.20000000001}]
[null,"越式總銷售",{"$f":"[2]GroupItem!$C39","v":1484},{"$f":"[3]GroupItem!$C39","v":1039},{"$f":"[4]GroupItem!$C39","v":1126},{"$f":"[5]GroupItem!$C39","v":1187},{"$f":"[6]GroupItem!$C39","v":2643},{"$f":"[7]GroupItem!$C39","v":3957.8},{"$f":"[8]GroupItem!$C39","v":3362.2},{"$f":"[9]GroupItem!$C39","v":5848},{"$f":"[10]GroupItem!$C39","v":3986.5},{"$f":"[11]GroupItem!$C39","v":3466.2},{"$f":"[12]GroupItem!$C39","v":214869},{"$f":"[13]GroupItem!$C39","v":265318.53999999998},508287.24]
[null,"飲料總銷售",{"$f":"[2]GroupItem!$C40","v":457},{"$f":"[3]GroupItem!$C40","v":403},{"$f":"[4]GroupItem!$C40","v":854},{"$f":"[5]GroupItem!$C40","v":747},{"$f":"[6]GroupItem!$C40","v":1204},{"$f":"[7]GroupItem!$C40","v":1156},{"$f":"[8]GroupItem!$C40","v":1114},{"$f":"[9]GroupItem!$C40","v":1203},{"$f":"[10]GroupItem!$C40","v":968},{"$f":"[11]GroupItem!$C40","v":693},{"$f":"[12]GroupItem!$C40","v":38471.64},{"$f":"[13]GroupItem!$C40","v":59142},106412.64]
[null,"其他總銷售",{"$f":"[2]GroupItem!$C41","v":4974},{"$f":"[3]GroupItem!$C41","v":4594},{"$f":"[4]GroupItem!$C41","v":6321},{"$f":"[5]GroupItem!$C41","v":6438.8},{"$f":"[6]GroupItem!$C41","v":6695},{"$f":"[7]GroupItem!$C41","v":8510.7999999999993},{"$f":"[8]GroupItem!$C41","v":6389},{"$f":"[9]GroupItem!$C41","v":6124},{"$f":"[10]GroupItem!$C41","v":6519.8},{"$f":"[11]GroupItem!$C41","v":6778},{"$f":"[12]GroupItem!$C41","v":216495.26},{"$f":"[13]GroupItem!$C41","v":221207.32},501046.98000000004]
[]
[null,"和味類別綜合銷售"]
[null,"2021年"]
[null,"月","一月","二月","三月","4月","5月","6月","7月","8月","9月","10月","11月","12月","TOTAL"]
[null,"中式總銷售",{"$f":"[2]GroupItem!$D37","v":0},{"$f":"[3]GroupItem!$D37","v":0},{"$f":"[4]GroupItem!$D37","v":0},{"$f":"[5]GroupItem!$D37","v":0},{"$f":"[6]GroupItem!$D37","v":0},{"$f":"[7]GroupItem!$D37","v":0},{"$f":"[8]GroupItem!$D37","v":0},{"$f":"[9]GroupItem!$D37","v":0},{"$f":"[10]GroupItem!$D37","v":0},{"$f":"[11]GroupItem!$D37","v":0},{"$f":"[12]GroupItem!$D37","v":0},{"$f":"[13]GroupItem!$D37","v":0},{"$f":"SUM(C23:N23)","v":0}]
[null,"西式總銷售",{"$f":"[2]GroupItem!$D38","v":0},{"$f":"[3]GroupItem!$D38","v":0},{"$f":"[4]GroupItem!$D38","v":0},{"$f":"[5]GroupItem!$D38","v":0},{"$f":"[6]GroupItem!$D38","v":0},{"$f":"[7]GroupItem!$D38","v":0},{"$f":"[8]GroupItem!$D38","v":0},{"$f":"[9]GroupItem!$D38","v":0},{"$f":"[10]GroupItem!$D38","v":0},{"$f":"[11]GroupItem!$D38","v":0},{"$f":"[12]GroupItem!$D38","v":0},{"$f":"[13]GroupItem!$D38","v":0},{"$f":"SUM(C24:N24)","v":0}]
[null,"越式總銷售",{"$f":"[2]GroupItem!$D39","v":0},{"$f":"[3]GroupItem!$D39","v":0},{"$f":"[4]GroupItem!$D39","v":0},{"$f":"[5]GroupItem!$D39","v":0},{"$f":"[6]GroupItem!$D39","v":0},{"$f":"[7]GroupItem!$D39","v":0},{"$f":"[8]GroupItem!$D39","v":0},{"$f":"[9]GroupItem!$D39","v":0},{"$f":"[10]GroupItem!$D39","v":0},{"$f":"[11]GroupItem!$D39","v":0},{"$f":"[12]GroupItem!$D39","v":0},{"$f":"[13]GroupItem!$D39","v":0},0]
[null,"飲料總銷售",{"$f":"[2]GroupItem!$D40","v":0},{"$f":"[3]GroupItem!$D40","v":0},{"$f":"[4]GroupItem!$D40","v":0},{"$f":"[5]GroupItem!$D40","v":0},{"$f":"[6]GroupItem!$D40","v":0},{"$f":"[7]GroupItem!$D40","v":0},{"$f":"[8]GroupItem!$D40","v":0},{"$f":"[9]GroupItem!$D40","v":0},{"$f":"[10]GroupItem!$D40","v":0},{"$f":"[11]GroupItem!$D40","v":0},{"$f":"[12]GroupItem!$D40","v":0},{"$f":"[13]GroupItem!$D40","v":0},0]
[null,"其他總銷售",{"$f":"[2]GroupItem!$D41","v":0},{"$f":"[3]GroupItem!$D41","v":0},{"$f":"[4]GroupItem!$D41","v":0},{"$f":"[5]GroupItem!$D41","v":0},{"$f":"[6]GroupItem!$D41","v":0},{"$f":"[7]GroupItem!$D41","v":0},{"$f":"[8]GroupItem!$D41","v":0},{"$f":"[9]GroupItem!$D41","v":0},{"$f":"[10]GroupItem!$D41","v":0},{"$f":"[11]GroupItem!$D41","v":0},{"$f":"[12]GroupItem!$D41","v":0},{"$f":"[13]GroupItem!$D41","v":0},0]
[]
[null,"整體佔比"]
[]
[]
[null,"銷售走勢"]

{"sheet":"次分類銷售","index":2,"n_rows":26,"n_cols":47,"rows_kept":26,"cut":false,"hidden":false,"merged":[]}
[null,"每月次類別綜合銷售",null,null,null,null,null,null,null,null,null,null,null,null,null,null,null,"每月次類別品味銷售",null,null,null,null,null,null,null,null,null,null,null,null,null,null,null,"每月次類別和味銷售"]
[]
[null,"月","一月","二月","三月","4月","5月","6月","7月","8月","9月","10月","11月","12月","TOTAL",null,null,"月","一月","二月","三月","4月","5月","6月","7月","8月","9月","10月","11月","12月","TOTAL",null,null,"月","一月","二月","三月","4月","5月","6月","7月","8月","9月","10月","11月","12月","TOTAL"]
[null,"中式頭盤",{"$f":"S$4+AI$4","v":0},{"$f":"T$4+AJ$4","v":146},{"$f":"U$4+AK$4","v":38},38,176,180,360,556,324,76,11720.880000000001,13328,{"$f":"SUM(C4:N4)","v":26942.880000000001},null,null,"中式頭盤",{"$f":"[2]GroupItem!$L15","v":0},{"$f":"[3]GroupItem!$L15","v":146},{"$f":"[4]GroupItem!$L15","v":38},{"$f":"[5]GroupItem!$L15","v":38},{"$f":"[6]GroupItem!$L15","v":176},{"$f":"[7]GroupItem!$L15","v":180},{"$f":"[8]GroupItem!$L15","v":360},{"$f":"[9]GroupItem!$L15","v":556},{"$f":"[10]GroupItem!$L15","v":324},{"$f":"[11]GroupItem!$L15","v":76},{"$f":"[12]GroupItem!$L15","v":11720.880000000001},{"$f":"[13]GroupItem!$L15","v":13328},{"$f":"SUM(S4:AD4)","v":26942.880000000001},null,null,"中式頭盤",{"$f":"[2]GroupItem!$M15","v":0},{"$f":"[3]GroupItem!$M15","v":0},{"$f":"[4]GroupItem!$M15","v":0},{"$f":"[5]GroupItem!$M15","v":0},{"$f":"[6]GroupItem!$M15","v":0},{"$f":"[7]GroupItem!$M15","v":0},{"$f":"[8]GroupItem!$M15","v":0},{"$f":"[9]GroupItem!$M15","v":0},{"$f":"[10]GroupItem!$M15","v":0},{"$f":"[11]GroupItem!$M15","v":0},{"$f":"[12]GroupItem!$M15","v":0},{"$f":"[13]GroupItem!$M15","v":0},{"$f":"SUM(AI4:AT4)","v":0}]
[null,"燒味",{"$f":"S$5+AI$5","v":2874},{"$f":"T$5+AJ$5","v":4408},4257,3214,5090,5533,4581,5394,4690,3762.2,240235.96000000005,264635.43999999994,{"$f":"SUM(C5:N5)","v":548674.6},null,null,"燒味",{"$f":"[2]GroupItem!$L16","v":2874},{"$f":"[3]GroupItem!$L16","v":4408},{"$f":"[4]GroupItem!$L16","v":4257},{"$f":"[5]GroupItem!$L16","v":3214},{"$f":"[6]GroupItem!$L16","v":5090},{"$f":"[7]GroupItem!$L16","v":5533},{"$f":"[8]GroupItem!$L16","v":4581},{"$f":"[9]GroupItem!$L16","v":5394},{"$f":"[10]GroupItem!$L16","v":4690},{"$f":"[11]GroupItem!$L16","v":3762.2},{"$f":"[12]GroupItem!$L16","v":240235.96000000005},{"$f":"[13]GroupItem!$L16","v":264635.43999999994},{"$f":"SUM(S5:AD5)","v":548674.6},null,null,"燒味",{"$f":"[2]GroupItem!$M16","v":0},{"$f":"[3]GroupItem!$M16","v":0},{"$f":"[4]GroupItem!$M16","v":0},{"$f":"[5]GroupItem!$M16","v":0},{"$f":"[6]GroupItem!$M16","v":0},{"$f":"[7]GroupItem!$M16","v":0},{"$f":"[8]GroupItem!$M16","v":0},{"$f":"[9]GroupItem!$M16","v":0},{"$f":"[10]GroupItem!$M16","v":0},{"$f":"[11]GroupItem!$M16","v":0},{"$f":"[12]GroupItem!$M16","v":0},{"$f":"[13]GroupItem!$M16","v":0},{"$f":"SUM(AI5:AT5)","v":0}]
[null,"中式小菜",{"$f":"S$6+AI$6","v":0},{"$f":"T$6+AJ$6","v":254.4},78,208,234,496,500,1850,348,0,81242,108943.2,194153.59999999998,null,null,"中式小菜",{"$f":"[2]GroupItem!$L17","v":0},{"$f":"[3]GroupItem!$L17","v":254.4},{"$f":"[4]GroupItem!$L17","v":78},{"$f":"[5]GroupItem!$L17","v":208},{"$f":"[6]GroupItem!$L17","v":234},{"$f":"[7]GroupItem!$L17","v":496},{"$f":"[8]GroupItem!$L17","v":500},{"$f":"[9]GroupItem!$L17","v":1850},{"$f":"[10]GroupItem!$L17","v":348},{"$f":"[11]GroupItem!$L17","v":0},{"$f":"[12]GroupItem!$L17","v":81242},{"$f":"[13]GroupItem!$L17","v":108943.2},194153.59999999998,null,null,"中式小菜",{"$f":"[2]GroupItem!$M17","v":0},{"$f":"[3]GroupItem!$M17","v":0},{"$f":"[4]GroupItem!$M17","v":0},{"$f":"[5]GroupItem!$M17","v":0},{"$f":"[6]GroupItem!$M17","v":0},{"$f":"[7]GroupItem!$M17","v":0},{"$f":"[8]GroupItem!$M17","v":0},{"$f":"[9]GroupItem!$M17","v":0},{"$f":"[10]GroupItem!$M17","v":0},{"$f":"[11]GroupItem!$M17","v":0},{"$f":"[12]GroupItem!$M17","v":0},{"$f":"[13]GroupItem!$M17","v":0},0]
[null,"中式海鮮",{"$f":"S$7+AI$7","v":0},{"$f":"T$7+AJ$7","v":60},0,0,404,118,0,748,224,0,27918,40517.199999999997,69989.2,null,null,"中式海鮮",{"$f":"[2]GroupItem!$L18","v":0},{"$f":"[3]GroupItem!$L18","v":60},{"$f":"[4]GroupItem!$L18","v":0},{"$f":"[5]GroupItem!$L18","v":0},{"$f":"[6]GroupItem!$L18","v":404},{"$f":"[7]GroupItem!$L18","v":118},{"$f":"[8]GroupItem!$L18","v":0},{"$f":"[9]GroupItem!$L18","v":748},{"$f":"[10]GroupItem!$L18","v":224},{"$f":"[11]GroupItem!$L18","v":0},{"$f":"[12]GroupItem!$L18","v":27918},{"$f":"[13]GroupItem!$L18","v":40517.199999999997},69989.2,null,null,"中式海鮮",{"$f":"[2]GroupItem!$M18","v":0},{"$f":"[3]GroupItem!$M18","v":0},{"$f":"[4]GroupItem!$M18","v":0},{"$f":"[5]GroupItem!$M18","v":0},{"$f":"[6]GroupItem!$M18","v":0},{"$f":"[7]GroupItem!$M18","v":0},{"$f":"[8]GroupItem!$M18","v":0},{"$f":"[9]GroupItem!$M18","v":0},{"$f":"[10]GroupItem!$M18","v":0},{"$f":"[11]GroupItem!$M18","v":0},{"$f":"[12]GroupItem!$M18","v":0},{"$f":"[13]GroupItem!$M18","v":0},0]
[null,"中式素菜",{"$f":"S$8+AI$8","v":216},{"$f":"T$8+AJ$8","v":76},134,162,160,84,134,260,56,168,6350,8674,16474,null,null,"中式素菜",{"$f":"[2]GroupItem!$L19","v":216},{"$f":"[3]GroupItem!$L19","v":76},{"$f":"[4]GroupItem!$L19","v":134},{"$f":"[5]GroupItem!$L19","v":162},{"$f":"[6]GroupItem!$L19","v":160},{"$f":"[7]GroupItem!$L19","v":84},{"$f":"[8]GroupItem!$L19","v":134},{"$f":"[9]GroupItem!$L19","v":260},{"$f":"[10]GroupItem!$L19","v":56},{"$f":"[11]GroupItem!$L19","v":168},{"$f":"[12]GroupItem!$L19","v":6350},{"$f":"[13]GroupItem!$L19","v":8674},16474,null,null,"中式素菜",{"$f":"[2]GroupItem!$M19","v":0},{"$f":"[3]GroupItem!$M19","v":0},{"$f":"[4]GroupItem!$M19","v":0},{"$f":"[5]GroupItem!$M19","v":0},{"$f":"[6]GroupItem!$M19","v":0},{"$f":"[7]GroupItem!$M19","v":0},{"$f":"[8]GroupItem!$M19","v":0},{"$f":"[9]GroupItem!$M19","v":0},{"$f":"[10]GroupItem!$M19","v":0},{"$f":"[11]GroupItem!$M19","v":0},{"$f":"[12]GroupItem!$M19","v":0},{"$f":"[13]GroupItem!$M19","v":0},0]
[null,"中式粉麵飯",{"$f":"S$9+AI$9","v":846},{"$f":"T$9+AJ$9","v":917},1327,1232,1010,1492,2339,3541,2754.3999999999996,916,164009.24,160667.6,341051.24,null,null,"中式粉麵飯",{"$f":"[2]GroupItem!$L20","v":846},{"$f":"[3]GroupItem!$L20","v":917},{"$f":"[4]GroupItem!$L20","v":1327},{"$f":"[5]GroupItem!$L20","v":1232},{"$f":"[6]GroupItem!$L20","v":1010},{"$f":"[7]GroupItem!$L20","v":1492},{"$f":"[8]GroupItem!$L20","v":2339},{"$f":"[9]GroupItem!$L20","v":3541},{"$f":"[10]GroupItem!$L20","v":2754.3999999999996},{"$f":"[11]GroupItem!$L20","v":916},{"$f":"[12]GroupItem!$L20","v":164009.24},{"$f":"[13]GroupItem!$L20","v":160667.6},341051.24,null,null,"中式粉麵飯",{"$f":"[2]GroupItem!$M20","v":0},{"$f":"[3]GroupItem!$M20","v":0},{"$f":"[4]GroupItem!$M20","v":0},{"$f":"[5]GroupItem!$M20","v":0},{"$f":"[6]GroupItem!$M20","v":0},{"$f":"[7]GroupItem!$M20","v":0},{"$f":"[8]GroupItem!$M20","v":0},{"$f":"[9]GroupItem!$M20","v":0},{"$f":"[10]GroupItem!$M20","v":0},{"$f":"[11]GroupItem!$M20","v":0},{"$f":"[12]GroupItem!$M20","v":0},{"$f":"[13]GroupItem!$M20","v":0},0]
[null,"中式湯",{"$f":"S$10+AI$10","v":44},{"$f":"T$10+AJ$10","v":0},0,0,10,0,20,58,0,0,558,2002,2692,null,null,"中式湯",{"$f":"[2]GroupItem!$L21","v":44},{"$f":"[3]GroupItem!$L21","v":0},{"$f":"[4]GroupItem!$L21","v":0},{"$f":"[5]GroupItem!$L21","v":0},{"$f":"[6]GroupItem!$L21","v":10},{"$f":"[7]GroupItem!$L21","v":0},{"$f":"[8]GroupItem!$L21","v":20},{"$f":"[9]GroupItem!$L21","v":58},{"$f":"[10]GroupItem!$L21","v":0},{"$f":"[11]GroupItem!$L21","v":0},{"$f":"[12]GroupItem!$L21","v":558},{"$f":"[13]GroupItem!$L21","v":2002},2692,null,null,"中式湯",{"$f":"[2]GroupItem!$M21","v":0},{"$f":"[3]GroupItem!$M21","v":0},{"$f":"[4]GroupItem!$M21","v":0},{"$f":"[5]GroupItem!$M21","v":0},{"$f":"[6]GroupItem!$M21","v":0},{"$f":"[7]GroupItem!$M21","v":0},{"$f":"[8]GroupItem!$M21","v":0},{"$f":"[9]GroupItem!$M21","v":0},{"$f":"[10]GroupItem!$M21","v":0},{"$f":"[11]GroupItem!$M21","v":0},{"$f":"[12]GroupItem!$M21","v":0},{"$f":"[13]GroupItem!$M21","v":0},0]
[null,"西式小食",{"$f":"S$11+AI$11","v":78},{"$f":"T$11+AJ$11","v":41},15,40,232,272,100,158,116,76,4483,5305,10916,null,null,"西式小食",{"$f":"[2]GroupItem!$L22","v":78},{"$f":"[3]GroupItem!$L22","v":41},{"$f":"[4]GroupItem!$L22","v":15},{"$f":"[5]GroupItem!$L22","v":40},{"$f":"[6]GroupItem!$L22","v":232},{"$f":"[7]GroupItem!$L22","v":272},{"$f":"[8]GroupItem!$L22","v":100},{"$f":"[9]GroupItem!$L22","v":158},{"$f":"[10]GroupItem!$L22","v":116},{"$f":"[11]GroupItem!$L22","v":76},{"$f":"[12]GroupItem!$L22","v":4483},{"$f":"[13]GroupItem!$L22","v":5305},10916,null,null,"西式小食",{"$f":"[2]GroupItem!$M22","v":0},{"$f":"[3]GroupItem!$M22","v":0},{"$f":"[4]GroupItem!$M22","v":0},{"$f":"[5]GroupItem!$M22","v":0},{"$f":"[6]GroupItem!$M22","v":0},{"$f":"[7]GroupItem!$M22","v":0},{"$f":"[8]GroupItem!$M22","v":0},{"$f":"[9]GroupItem!$M22","v":0},{"$f":"[10]GroupItem!$M22","v":0},{"$f":"[11]GroupItem!$M22","v":0},{"$f":"[12]GroupItem!$M22","v":0},{"$f":"[13]GroupItem!$M22","v":0},0]
[null,"西式麵包",{"$f":"S$12+AI$12","v":188},{"$f":"T$12+AJ$12","v":84},138,247,263,421,318,371,542,306,21085,26692,50655,null,null,"西式麵包",{"$f":"[2]GroupItem!$L23","v":188},{"$f":"[3]GroupItem!$L23","v":84},{"$f":"[4]GroupItem!$L23","v":138},{"$f":"[5]GroupItem!$L23","v":247},{"$f":"[6]GroupItem!$L23","v":263},{"$f":"[7]GroupItem!$L23","v":421},{"$f":"[8]GroupItem!$L23","v":318},{"$f":"[9]GroupItem!$L23","v":371},{"$f":"[10]GroupItem!$L23","v":542},{"$f":"[11]GroupItem!$L23","v":306},{"$f":"[12]GroupItem!$L23","v":21085},{"$f":"[13]GroupItem!$L23","v":26692},50655,null,null,"西式麵包",{"$f":"[2]GroupItem!$M23","v":0},{"$f":"[3]GroupItem!$M23","v":0},{"$f":"[4]GroupItem!$M23","v":0},{"$f":"[5]GroupItem!$M23","v":0},{"$f":"[6]GroupItem!$M23","v":0},{"$f":"[7]GroupItem!$M23","v":0},{"$f":"[8]GroupItem!$M23","v":0},{"$f":"[9]GroupItem!$M23","v":0},{"$f":"[10]GroupItem!$M23","v":0},{"$f":"[11]GroupItem!$M23","v":0},{"$f":"[12]GroupItem!$M23","v":0},{"$f":"[13]GroupItem!$M23","v":0},0]
[null,"西式粉麵飯",{"$f":"S$13+AI$13","v":355},{"$f":"T$13+AJ$13","v":120},0,240,360,389,488,537,930,561,36128.5,31932.7,72041.2,null,null,"西式粉麵飯",{"$f":"[2]GroupItem!$L24","v":355},{"$f":"[3]GroupItem!$L24","v":120},{"$f":"[4]GroupItem!$L24","v":0},{"$f":"[5]GroupItem!$L24","v":240},{"$f":"[6]GroupItem!$L24","v":360},{"$f":"[7]GroupItem!$L24","v":389},{"$f":"[8]GroupItem!$L24","v":488},{"$f":"[9]GroupItem!$L24","v":537},{"$f":"[10]GroupItem!$L24","v":930},{"$f":"[11]GroupItem!$L24","v":561},{"$f":"[12]GroupItem!$L24","v":36128.5},{"$f":"[13]GroupItem!$L24","v":31932.7},72041.2,null,null,"西式粉麵飯",{"$f":"[2]GroupItem!$M24","v":0},{"$f":"[3]GroupItem!$M24","v":0},{"$f":"[4]GroupItem!$M24","v":0},{"$f":"[5]GroupItem!$M24","v":0},{"$f":"[6]GroupItem!$M24","v":0},{"$f":"[7]GroupItem!$M24","v":0},{"$f":"[8]GroupItem!$M24","v":0},{"$f":"[9]GroupItem!$M24","v":0},{"$f":"[10]GroupItem!$M24","v":0},{"$f":"[11]GroupItem!$M24","v":0},{"$f":"[12]GroupItem!$M24","v":0},{"$f":"[13]GroupItem!$M24","v":0},0]
[null,"越式小菜",{"$f":"S$14+AI$14","v":68},{"$f":"T$14+AJ$14","v":74},84,28,140,429.4,191,142,152,38,7554,9406,18306.400000000001,null,null,"越式小菜",{"$f":"[2]GroupItem!$L25","v":68},{"$f":"[3]GroupItem!$L25","v":74},{"$f":"[4]GroupItem!$L25","v":84},{"$f":"[5]GroupItem!$L25","v":28},{"$f":"[6]GroupItem!$L25","v":140},{"$f":"[7]GroupItem!$L25","v":429.4},{"$f":"[8]GroupItem!$L25","v":191},{"$f":"[9]GroupItem!$L25","v":142},{"$f":"[10]GroupItem!$L25","v":152},{"$f":"[11]GroupItem!$L25","v":38},{"$f":"[12]GroupItem!$L25","v":7554},{"$f":"[13]GroupItem!$L25","v":9406},18306.400000000001,null,null,"越式小菜",{"$f":"[2]GroupItem!$M25","v":0},{"$f":"[3]GroupItem!$M25","v":0},{"$f":"[4]GroupItem!$M25","v":0},{"$f":"[5]GroupItem!$M25","v":0},{"$f":"[6]GroupItem!$M25","v":0},{"$f":"[7]GroupItem!$M25","v":0},{"$f":"[8]GroupItem!$M25","v":0},{"$f":"[9]GroupItem!$M25","v":0},{"$f":"[10]GroupItem!$M25","v":0},{"$f":"[11]GroupItem!$M25","v":0},{"$f":"[12]GroupItem!$M25","v":0},{"$f":"[13]GroupItem!$M25","v":0},0]
[null,"越式燒物",{"$f":"S$15+AI$15","v":0},{"$f":"T$15+AJ$15","v":0},0,0,0,0,38,0,0,0,1064,11984,13086,null,null,"越式燒物",{"$f":"[2]GroupItem!$L26","v":0},{"$f":"[3]GroupItem!$L26","v":0},{"$f":"[4]GroupItem!$L26","v":0},{"$f":"[5]GroupItem!$L26","v":0},{"$f":"[6]GroupItem!$L26","v":0},{"$f":"[7]GroupItem!$L26","v":0},{"$f":"[8]GroupItem!$L26","v":38},{"$f":"[9]GroupItem!$L26","v":0},{"$f":"[10]GroupItem!$L26","v":0},{"$f":"[11]GroupItem!$L26","v":0},{"$f":"[12]GroupItem!$L26","v":1064},{"$f":"[13]GroupItem!$L26","v":11984},13086,null,null,"越式燒物",{"$f":"[2]GroupItem!$M26","v":0},{"$f":"[3]GroupItem!$M26","v":0},{"$f":"[4]GroupItem!$M26","v":0},{"$f":"[5]GroupItem!$M26","v":0},{"$f":"[6]GroupItem!$M26","v":0},{"$f":"[7]GroupItem!$M26","v":0},{"$f":"[8]GroupItem!$M26","v":0},{"$f":"[9]GroupItem!$M26","v":0},{"$f":"[10]GroupItem!$M26","v":0},{"$f":"[11]GroupItem!$M26","v":0},{"$f":"[12]GroupItem!$M26","v":0},{"$f":"[13]GroupItem!$M26","v":0},0]
[null,"越式海鮮",{"$f":"S$16+AI$16","v":0},{"$f":"T$16+AJ$16","v":0},0,0,0,0,"",0,0,0,690,3224,3914,null,null,"越式海鮮",{"$f":"[2]GroupItem!$L27","v":0},{"$f":"[3]GroupItem!$L27","v":0},{"$f":"[4]GroupItem!$L27","v":0},{"$f":"[5]GroupItem!$L27","v":0},{"$f":"[6]GroupItem!$L27","v":0},{"$f":"[7]GroupItem!$L27","v":0},{"$f":"[8]GroupItem!$L27","v":0},{"$f":"[9]GroupItem!$L27","v":0},{"$f":"[10]GroupItem!$L27","v":0},{"$f":"[11]GroupItem!$L27","v":0},{"$f":"[12]GroupItem!$L27","v":690},{"$f":"[13]GroupItem!$L27","v":3224},3914,null,null,"越式海鮮",{"$f":"[2]GroupItem!$M27","v":0},{"$f":"[3]GroupItem!$M27","v":0},{"$f":"[4]GroupItem!$M27","v":0},{"$f":"[5]GroupItem!$M27","v":0},{"$f":"[6]GroupItem!$M27","v":0},{"$f":"[7]GroupItem!$M27","v":0},{"$f":"[8]GroupItem!$M27","v":0},{"$f":"[9]GroupItem!$M27","v":0},{"$f":"[10]GroupItem!$M27","v":0},{"$f":"[11]GroupItem!$M27","v":0},{"$f":"[12]GroupItem!$M27","v":0},{"$f":"[13]GroupItem!$M27","v":0},0]
[null,"咖喱",{"$f":"S$17+AI$17","v":0},{"$f":"T$17+AJ$17","v":0},0,0,0,0,0,108,0,0,2076,4764,6948,null,null,"咖喱",{"$f":"[2]GroupItem!$L28","v":0},{"$f":"[3]GroupItem!$L28","v":0},{"$f":"[4]GroupItem!$L28","v":0},{"$f":"[5]GroupItem!$L28","v":0},{"$f":"[6]GroupItem!$L28","v":0},{"$f":"[7]GroupItem!$L28","v":0},{"$f":"[8]GroupItem!$L28","v":0},{"$f":"[9]GroupItem!$L28","v":108},{"$f":"[10]GroupItem!$L28","v":0},{"$f":"[11]GroupItem!$L28","v":0},{"$f":"[12]GroupItem!$L28","v":2076},{"$f":"[13]GroupItem!$L28","v":4764},6948,null,null,"咖喱",{"$f":"[2]GroupItem!$M28","v":0},{"$f":"[3]GroupItem!$M28","v":0},{"$f":"[4]GroupItem!$M28","v":0},{"$f":"[5]GroupItem!$M28","v":0},{"$f":"[6]GroupItem!$M28","v":0},{"$f":"[7]GroupItem!$M28","v":0},{"$f":"[8]GroupItem!$M28","v":0},{"$f":"[9]GroupItem!$M28","v":0},{"$f":"[10]GroupItem!$M28","v":0},{"$f":"[11]GroupItem!$M28","v":0},{"$f":"[12]GroupItem!$M28","v":0},{"$f":"[13]GroupItem!$M28","v":0},0]
[null,"越式素菜",{"$f":"S$18+AI$18","v":0},{"$f":"T$18+AJ$18","v":76},174,38,230,228,116,114,76,114,6922,10620,18708,null,null,"越式素菜",{"$f":"[2]GroupItem!$L29","v":0},{"$f":"[3]GroupItem!$L29","v":76},{"$f":"[4]GroupItem!$L29","v":174},{"$f":"[5]GroupItem!$L29","v":38},{"$f":"[6]GroupItem!$L29","v":230},{"$f":"[7]GroupItem!$L29","v":228},{"$f":"[8]GroupItem!$L29","v":116},{"$f":"[9]GroupItem!$L29","v":114},{"$f":"[10]GroupItem!$L29","v":76},{"$f":"[11]GroupItem!$L29","v":114},{"$f":"[12]GroupItem!$L29","v":6922},{"$f":"[13]GroupItem!$L29","v":10620},18708,null,null,"越式素菜",{"$f":"[2]GroupItem!$M29","v":0},{"$f":"[3]GroupItem!$M29","v":0},{"$f":"[4]GroupItem!$M29","v":0},{"$f":"[5]GroupItem!$M29","v":0},{"$f":"[6]GroupItem!$M29","v":0},{"$f":"[7]GroupItem!$M29","v":0},{"$f":"[8]GroupItem!$M29","v":0},{"$f":"[9]GroupItem!$M29","v":0},{"$f":"[10]GroupItem!$M29","v":0},{"$f":"[11]GroupItem!$M29","v":0},{"$f":"[12]GroupItem!$M29","v":0},{"$f":"[13]GroupItem!$M29","v":0},0]
[null,"米紙卷",{"$f":"S$19+AI$19","v":0},{"$f":"T$19+AJ$19","v":0},0,0,0,0,88,0,0,0,1172,1962,3222,null,null,"米紙卷",{"$f":"[2]GroupItem!$L30","v":0},{"$f":"[3]GroupItem!$L30","v":0},{"$f":"[4]GroupItem!$L30","v":0},{"$f":"[5]GroupItem!$L30","v":0},{"$f":"[6]GroupItem!$L30","v":0},{"$f":"[7]GroupItem!$L30","v":0},{"$f":"[8]GroupItem!$L30","v":88},{"$f":"[9]GroupItem!$L30","v":0},{"$f":"[10]GroupItem!$L30","v":0},{"$f":"[11]GroupItem!$L30","v":0},{"$f":"[12]GroupItem!$L30","v":1172},{"$f":"[13]GroupItem!$L30","v":1962},3222,null,null,"米紙卷",{"$f":"[2]GroupItem!$M30","v":0},{"$f":"[3]GroupItem!$M30","v":0},{"$f":"[4]GroupItem!$M30","v":0},{"$f":"[5]GroupItem!$M30","v":0},{"$f":"[6]GroupItem!$M30","v":0},{"$f":"[7]GroupItem!$M30","v":0},{"$f":"[8]GroupItem!$M30","v":0},{"$f":"[9]GroupItem!$M30","v":0},{"$f":"[10]GroupItem!$M30","v":0},{"$f":"[11]GroupItem!$M30","v":0},{"$f":"[12]GroupItem!$M30","v":0},{"$f":"[13]GroupItem!$M30","v":0},0]
[null,"檬",{"$f":"S$20+AI$20","v":60},{"$f":"T$20+AJ$20","v":0},65,190,0,654,470,880,1041.5,785.2,33285.1,33333.199999999997,70764,null,null,"檬",{"$f":"[2]GroupItem!$L31","v":60},{"$f":"[3]GroupItem!$L31","v":0},{"$f":"[4]GroupItem!$L31","v":65},{"$f":"[5]GroupItem!$L31","v":190},{"$f":"[6]GroupItem!$L31","v":0},{"$f":"[7]GroupItem!$L31","v":654},{"$f":"[8]GroupItem!$L31","v":470},{"$f":"[9]GroupItem!$L31","v":880},{"$f":"[10]GroupItem!$L31","v":1041.5},{"$f":"[11]GroupItem!$L31","v":785.2},{"$f":"[12]GroupItem!$L31","v":33285.1},{"$f":"[13]GroupItem!$L31","v":33333.199999999997},70764,null,null,"檬",{"$f":"[2]GroupItem!$M31","v":0},{"$f":"[3]GroupItem!$M31","v":0},{"$f":"[4]GroupItem!$M31","v":0},{"$f":"[5]GroupItem!$M31","v":0},{"$f":"[6]GroupItem!$M31","v":0},{"$f":"[7]GroupItem!$M31","v":0},{"$f":"[8]GroupItem!$M31","v":0},{"$f":"[9]GroupItem!$M31","v":0},{"$f":"[10]GroupItem!$M31","v":0},{"$f":"[11]GroupItem!$M31","v":0},{"$f":"[12]GroupItem!$M31","v":0},{"$f":"[13]GroupItem!$M31","v":0},0]
[null,"越式麵包",{"$f":"S$21+AI$21","v":30},{"$f":"T$21+AJ$21","v":0},38,0,144,114,114,76,0,0,1146,2820,4482,null,null,"越式麵包",{"$f":"[2]GroupItem!$L32","v":30},{"$f":"[3]GroupItem!$L32","v":0},{"$f":"[4]GroupItem!$L32","v":38},{"$f":"[5]GroupItem!$L32","v":0},{"$f":"[6]GroupItem!$L32","v":144},{"$f":"[7]GroupItem!$L32","v":114},{"$f":"[8]GroupItem!$L32","v":114},{"$f":"[9]GroupItem!$L32","v":76},{"$f":"[10]GroupItem!$L32","v":0},{"$f":"[11]GroupItem!$L32","v":0},{"$f":"[12]GroupItem!$L32","v":1146},{"$f":"[13]GroupItem!$L32","v":2820},4482,null,null,"越式麵包",{"$f":"[2]GroupItem!$M32","v":0},{"$f":"[3]GroupItem!$M32","v":0},{"$f":"[4]GroupItem!$M32","v":0},{"$f":"[5]GroupItem!$M32","v":0},{"$f":"[6]GroupItem!$M32","v":0},{"$f":"[7]GroupItem!$M32","v":0},{"$f":"[8]GroupItem!$M32","v":0},{"$f":"[9]GroupItem!$M32","v":0},{"$f":"[10]GroupItem!$M32","v":0},{"$f":"[11]GroupItem!$M32","v":0},{"$f":"[12]GroupItem!$M32","v":0},{"$f":"[13]GroupItem!$M32","v":0},0]
[null,"越式粉麵飯",{"$f":"S$22+AI$22","v":1326},{"$f":"T$22+AJ$22","v":889},765,931,2129,2532.4,2345.1999999999998,4528,2717,2529,160605.9,187205.34,368502.83999999997,null,null,"越式粉麵飯",{"$f":"[2]GroupItem!$L33","v":1326},{"$f":"[3]GroupItem!$L33","v":889},{"$f":"[4]GroupItem!$L33","v":765},{"$f":"[5]GroupItem!$L33","v":931},{"$f":"[6]GroupItem!$L33","v":2129},{"$f":"[7]GroupItem!$L33","v":2532.4},{"$f":"[8]GroupItem!$L33","v":2345.1999999999998},{"$f":"[9]GroupItem!$L33","v":4528},{"$f":"[10]GroupItem!$L33","v":2717},{"$f":"[11]GroupItem!$L33","v":2529},{"$f":"[12]GroupItem!$L33","v":160605.9},{"$f":"[13]GroupItem!$L33","v":187205.34},368502.83999999997,null,null,"越式粉麵飯",{"$f":"[2]GroupItem!$M33","v":0},{"$f":"[3]GroupItem!$M33","v":0},{"$f":"[4]GroupItem!$M33","v":0},{"$f":"[5]GroupItem!$M33","v":0},{"$f":"[6]GroupItem!$M33","v":0},{"$f":"[7]GroupItem!$M33","v":0},{"$f":"[8]GroupItem!$M33","v":0},{"$f":"[9]GroupItem!$M33","v":0},{"$f":"[10]GroupItem!$M33","v":0},{"$f":"[11]GroupItem!$M33","v":0},{"$f":"[12]GroupItem!$M33","v":0},{"$f":"[13]GroupItem!$M33","v":0},0]
[null,"越式湯",{"$f":"S$23+AI$23","v":0},{"$f":"T$23+AJ$23","v":0},0,0,0,0,0,0,0,0,354,0,354,null,null,"越式湯",{"$f":"[2]GroupItem!$L34","v":0},{"$f":"[3]GroupItem!$L34","v":0},{"$f":"[4]GroupItem!$L34","v":0},{"$f":"[5]GroupItem!$L34","v":0},{"$f":"[6]GroupItem!$L34","v":0},{"$f":"[7]GroupItem!$L34","v":0},{"$f":"[8]GroupItem!$L34","v":0},{"$f":"[9]GroupItem!$L34","v":0},{"$f":"[10]GroupItem!$L34","v":0},{"$f":"[11]GroupItem!$L34","v":0},{"$f":"[12]GroupItem!$L34","v":354},{"$f":"[13]GroupItem!$L34","v":0},354,null,null,"越式湯",{"$f":"[2]GroupItem!$M34","v":0},{"$f":"[3]GroupItem!$M34","v":0},{"$f":"[4]GroupItem!$M34","v":0},{"$f":"[5]GroupItem!$M34","v":0},{"$f":"[6]GroupItem!$M34","v":0},{"$f":"[7]GroupItem!$M34","v":0},{"$f":"[8]GroupItem!$M34","v":0},{"$f":"[9]GroupItem!$M34","v":0},{"$f":"[10]GroupItem!$M34","v":0},{"$f":"[11]GroupItem!$M34","v":0},{"$f":"[12]GroupItem!$M34","v":0},{"$f":"[13]GroupItem!$M34","v":0},0]
[null,"酒精",{"$f":"S$24+AI$24","v":0},{"$f":"T$24+AJ$24","v":0},288,0,160,28,28,162,38,0,4739,9466,14909,null,null,"酒精",{"$f":"[2]GroupItem!$L35","v":0},{"$f":"[3]GroupItem!$L35","v":0},{"$f":"[4]GroupItem!$L35","v":288},{"$f":"[5]GroupItem!$L35","v":0},{"$f":"[6]GroupItem!$L35","v":160},{"$f":"[7]GroupItem!$L35","v":28},{"$f":"[8]GroupItem!$L35","v":28},{"$f":"[9]GroupItem!$L35","v":162},{"$f":"[10]GroupItem!$L35","v":38},{"$f":"[11]GroupItem!$L35","v":0},{"$f":"[12]GroupItem!$L35","v":4739},{"$f":"[13]GroupItem!$L35","v":9466},14909,null,null,"酒精",{"$f":"[2]GroupItem!$M35","v":0},{"$f":"[3]GroupItem!$M35","v":0},{"$f":"[4]GroupItem!$M35","v":0},{"$f":"[5]GroupItem!$M35","v":0},{"$f":"[6]GroupItem!$M35","v":0},{"$f":"[7]GroupItem!$M35","v":0},{"$f":"[8]GroupItem!$M35","v":0},{"$f":"[9]GroupItem!$M35","v":0},{"$f":"[10]GroupItem!$M35","v":0},{"$f":"[11]GroupItem!$M35","v":0},{"$f":"[12]GroupItem!$M35","v":0},{"$f":"[13]GroupItem!$M35","v":0},0]
[null,"無酒精",{"$f":"S$25+AI$25","v":457},{"$f":"T$25+AJ$25","v":403},566,747,1044,1128,1086,1041,930,693,33732.639999999999,49676,91503.64,null,null,"無酒精",{"$f":"[2]GroupItem!$L36","v":457},{"$f":"[3]GroupItem!$L36","v":403},{"$f":"[4]GroupItem!$L36","v":566},{"$f":"[5]GroupItem!$L36","v":747},{"$f":"[6]GroupItem!$L36","v":1044},{"$f":"[7]GroupItem!$L36","v":1128},{"$f":"[8]GroupItem!$L36","v":1086},{"$f":"[9]GroupItem!$L36","v":1041},{"$f":"[10]GroupItem!$L36","v":930},{"$f":"[11]GroupItem!$L36","v":693},{"$f":"[12]GroupItem!$L36","v":33732.639999999999},{"$f":"[13]GroupItem!$L36","v":49676},91503.64,null,null,"無酒精",{"$f":"[2]GroupItem!$M36","v":0},{"$f":"[3]GroupItem!$M36","v":0},{"$f":"[4]GroupItem!$M36","v":0},{"$f":"[5]GroupItem!$M36","v":0},{"$f":"[6]GroupItem!$M36","v":0},{"$f":"[7]GroupItem!$M36","v":0},{"$f":"[8]GroupItem!$M36","v":0},{"$f":"[9]GroupItem!$M36","v":0},{"$f":"[10]GroupItem!$M36","v":0},{"$f":"[11]GroupItem!$M36","v":0},{"$f":"[12]GroupItem!$M36","v":0},{"$f":"[13]GroupItem!$M36","v":0},0]
[null,"餐牌其他",{"$f":"S$26+AI$26","v":4974},{"$f":"T$26+AJ$26","v":4594},6321,6438.8,6695,8510.7999999999993,6389,6124,6519.8,6778,216495.26,221207.32,501046.98000000004,null,null,"餐牌其他",{"$f":"[2]GroupItem!$L37","v":4974},{"$f":"[3]GroupItem!$L37","v":4594},{"$f":"[4]GroupItem!$L37","v":6321},{"$f":"[5]GroupItem!$L37","v":6438.8},{"$f":"[6]GroupItem!$L37","v":6695},{"$f":"[7]GroupItem!$L37","v":8510.7999999999993},{"$f":"[8]GroupItem!$L37","v":6389},{"$f":"[9]GroupItem!$L37","v":6124},{"$f":"[10]GroupItem!$L37","v":6519.8},{"$f":"[11]GroupItem!$L37","v":6778},{"$f":"[12]GroupItem!$L37","v":216495.26},{"$f":"[13]GroupItem!$L37","v":221207.32},501046.98000000004,null,null,"餐牌其他",{"$f":"[2]GroupItem!$M37","v":0},{"$f":"[3]GroupItem!$M37","v":0},{"$f":"[4]GroupItem!$M37","v":0},{"$f":"[5]GroupItem!$M37","v":0},{"$f":"[6]GroupItem!$M37","v":0},{"$f":"[7]GroupItem!$M37","v":0},{"$f":"[8]GroupItem!$M37","v":0},{"$f":"[9]GroupItem!$M37","v":0},{"$f":"[10]GroupItem!$M37","v":0},{"$f":"[11]GroupItem!$M37","v":0},{"$f":"[12]GroupItem!$M37","v":0},{"$f":"[13]GroupItem!$M37","v":0},0]

{"sheet":"食材分類","index":3,"n_rows":70,"n_cols":14,"rows_kept":70,"cut":false,"hidden":false,"merged":[]}
["每月綜合食材銷售"]
[]
["2021年"]
["食材/月","1月","2月","3月","4月","5月","6月","7月","8月","9月","10月","11月","12月","總額"]
["無分類",{"$f":"B$30+B$55","v":2169},1882,3000,3476.8,3753,5508.8,3166,3392,4119.8,3781,146022.26,145065.32,{"$f":"SUM(B5:M5)","v":325335.98}]
["豬",{"$f":"B$31+B$56","v":1095},2025,1257,882,2051,2019.4,2900,3897,2442.1999999999998,2443.1999999999998,196346.28,179898.99999999997,{"$f":"SUM(B6:M6)","v":397257.07999999996}]
["牛",{"$f":"B$32+B$57","v":845},502.4,780,631,752,1615,1903,2204,1932.5,1432,89636.84,115188.79999999999,217422.53999999998]
["羊",{"$f":"B$33+B$58","v":0},0,0,0,0,0,0,0,0,0,25078,25666,50744]
["雞",{"$f":"B$34+B$59","v":592},1159,457,858,1102,1186,946,2342,1694,861.2,79351,81803.960000000006,172352.16]
["鴨",{"$f":"B$35+B$60","v":0},0,10,0,0,0,0,0,0,0,140,75,225]
["鵝",{"$f":"B$36+B$61","v":850},1242,914,1134,930,988,790,1052,956,608,48611.399999999994,55198.68,113274.07999999999]
["鴿",{"$f":"B$37+B$62","v":0},68,0,0,0,136,0,136,194,194,5716,7946,14390]
["雜肉",{"$f":"B$38+B$63","v":1857},1000,2500,1897,3510,4562.3999999999996,3296,4299,4529.2,2568,161018.48000000001,203455.5,394492.58]
["海鮮",{"$f":"B$39+B$64","v":156},272,392,288,894,528,733,2560,1048,191,102275.18000000001,123056.8,232393.98]
["菜",{"$f":"B$40+B$65","v":276},490,465,534,713,951,886.2,1416,570,423,36722.800000000003,46267.8,89714.8]
["飲品",{"$f":"B$41+B$66","v":457},403,566,747,1044,1128,1086,1041,930,693,33732.639999999999,49676,91503.64]
["酒類",{"$f":"B$42+B$67","v":0},0,288,15,160,28,28,162,38,0,4739,9466,14924]
["包類",{"$f":"B$43+B$68","v":355},220,381,439,544,911,706,720,845,477,27425,34314,{"$f":"SUM(B18:M18)","v":67337}]
["粉麵飯",{"$f":"B$44+B$69","v":2820},2879,3278,2852,3018,3048,3245,3369,2160,3131,105917.59999999999,129284.14,265001.74]
["湯",{"$f":"B$45+B$70","v":44},0,0,0,10,0,20,58,0,0,834,2002,2968]
[]
[]
[]
[]
[]
[]
["品味綜合食材銷售"]
["2021年"]
["食材/月","1月","2月","3月","4月","5月","6月","7月","8月","9月","10月","11月","12月","總額"]
["無分類",{"$f":"[2]GroupItem!$C15","v":2169},{"$f":"[3]GroupItem!$C15","v":1882},{"$f":"[4]GroupItem!$C15","v":3000},{"$f":"[5]GroupItem!$C15","v":3476.8},{"$f":"[6]GroupItem!$C15","v":3753},{"$f":"[7]GroupItem!$C15","v":5508.8},{"$f":"[8]GroupItem!$C15","v":3166},{"$f":"[9]GroupItem!$C15","v":3392},{"$f":"[10]GroupItem!$C15","v":4119.8},{"$f":"[11]GroupItem!$C15","v":3781},{"$f":"[12]GroupItem!$C15","v":146022.26},{"$f":"[13]GroupItem!$C15","v":145065.32},{"$f":"SUM(B30:M30)","v":325335.98}]
["豬",{"$f":"[2]GroupItem!$C16","v":1095},{"$f":"[3]GroupItem!$C16","v":2025},{"$f":"[4]GroupItem!$C16","v":1257},{"$f":"[5]GroupItem!$C16","v":882},{"$f":"[6]GroupItem!$C16","v":2051},{"$f":"[7]GroupItem!$C16","v":2019.4},{"$f":"[8]GroupItem!$C16","v":2900},{"$f":"[9]GroupItem!$C16","v":3897},{"$f":"[10]GroupItem!$C16","v":2442.1999999999998},{"$f":"[11]GroupItem!$C16","v":2443.1999999999998},{"$f":"[12]GroupItem!$C16","v":196346.28},{"$f":"[13]GroupItem!$C16","v":179898.99999999997},{"$f":"SUM(B31:M31)","v":397257.07999999996}]
["牛",{"$f":"[2]GroupItem!$C17","v":845},{"$f":"[3]GroupItem!$C17","v":502.4},{"$f":"[4]GroupItem!$C17","v":780},{"$f":"[5]GroupItem!$C17","v":631},{"$f":"[6]GroupItem!$C17","v":752},{"$f":"[7]GroupItem!$C17","v":1615},{"$f":"[8]GroupItem!$C17","v":1903},{"$f":"[9]GroupItem!$C17","v":2204},{"$f":"[10]GroupItem!$C17","v":1932.5},{"$f":"[11]GroupItem!$C17","v":1432},{"$f":"[12]GroupItem!$C17","v":89636.84},{"$f":"[13]GroupItem!$C17","v":115188.79999999999},217422.53999999998]
["羊",{"$f":"[2]GroupItem!$C18","v":0},{"$f":"[3]GroupItem!$C18","v":0},{"$f":"[4]GroupItem!$C18","v":0},{"$f":"[5]GroupItem!$C18","v":0},{"$f":"[6]GroupItem!$C18","v":0},{"$f":"[7]GroupItem!$C18","v":0},{"$f":"[8]GroupItem!$C18","v":0},{"$f":"[9]GroupItem!$C18","v":0},{"$f":"[10]GroupItem!$C18","v":0},{"$f":"[11]GroupItem!$C18","v":0},{"$f":"[12]GroupItem!$C18","v":25078},{"$f":"[13]GroupItem!$C18","v":25666},50744]
["雞",{"$f":"[2]GroupItem!$C19","v":592},{"$f":"[3]GroupItem!$C19","v":1159},{"$f":"[4]GroupItem!$C19","v":457},{"$f":"[5]GroupItem!$C19","v":858},{"$f":"[6]GroupItem!$C19","v":1102},{"$f":"[7]GroupItem!$C19","v":1186},{"$f":"[8]GroupItem!$C19","v":946},{"$f":"[9]GroupItem!$C19","v":2342},{"$f":"[10]GroupItem!$C19","v":1694},{"$f":"[11]GroupItem!$C19","v":861.2},{"$f":"[12]GroupItem!$C19","v":79351},{"$f":"[13]GroupItem!$C19","v":81803.960000000006},172352.16]
["鴨",{"$f":"[2]GroupItem!$C20","v":0},{"$f":"[3]GroupItem!$C20","v":0},{"$f":"[4]GroupItem!$C20","v":10},{"$f":"[5]GroupItem!$C20","v":0},{"$f":"[6]GroupItem!$C20","v":0},{"$f":"[7]GroupItem!$C20","v":0},{"$f":"[8]GroupItem!$C20","v":0},{"$f":"[9]GroupItem!$C20","v":0},{"$f":"[10]GroupItem!$C20","v":0},{"$f":"[11]GroupItem!$C20","v":0},{"$f":"[12]GroupItem!$C20","v":140},{"$f":"[13]GroupItem!$C20","v":75},225]
["鵝",{"$f":"[2]GroupItem!$C21","v":850},{"$f":"[3]GroupItem!$C21","v":1242},{"$f":"[4]GroupItem!$C21","v":914},{"$f":"[5]GroupItem!$C21","v":1134},{"$f":"[6]GroupItem!$C21","v":930},{"$f":"[7]GroupItem!$C21","v":988},{"$f":"[8]GroupItem!$C21","v":790},{"$f":"[9]GroupItem!$C21","v":1052},{"$f":"[10]GroupItem!$C21","v":956},{"$f":"[11]GroupItem!$C21","v":608},{"$f":"[12]GroupItem!$C21","v":48611.399999999994},{"$f":"[13]GroupItem!$C21","v":55198.68},113274.07999999999]
["鴿",{"$f":"[2]GroupItem!$C22","v":0},{"$f":"[3]GroupItem!$C22","v":68},{"$f":"[4]GroupItem!$C22","v":0},{"$f":"[5]GroupItem!$C22","v":0},{"$f":"[6]GroupItem!$C22","v":0},{"$f":"[7]GroupItem!$C22","v":136},{"$f":"[8]GroupItem!$C22","v":0},{"$f":"[9]GroupItem!$C22","v":136},{"$f":"[10]GroupItem!$C22","v":194},{"$f":"[11]GroupItem!$C22","v":194},{"$f":"[12]GroupItem!$C22","v":5716},{"$f":"[13]GroupItem!$C22","v":7946},14390]
["雜肉",{"$f":"[2]GroupItem!$C23","v":1857},{"$f":"[3]GroupItem!$C23","v":1000},{"$f":"[4]GroupItem!$C23","v":2500},{"$f":"[5]GroupItem!$C23","v":1897},{"$f":"[6]GroupItem!$C23","v":3510},{"$f":"[7]GroupItem!$C23","v":4562.3999999999996},{"$f":"[8]GroupItem!$C23","v":3296},{"$f":"[9]GroupItem!$C23","v":4299},{"$f":"[10]GroupItem!$C23","v":4529.2},{"$f":"[11]GroupItem!$C23","v":2568},{"$f":"[12]GroupItem!$C23","v":161018.48000000001},{"$f":"[13]GroupItem!$C23","v":203455.5},394492.58]
["海鮮",{"$f":"[2]GroupItem!$C24","v":156},{"$f":"[3]GroupItem!$C24","v":272},{"$f":"[4]GroupItem!$C24","v":392},{"$f":"[5]GroupItem!$C24","v":288},{"$f":"[6]GroupItem!$C24","v":894},{"$f":"[7]GroupItem!$C24","v":528},{"$f":"[8]GroupItem!$C24","v":733},{"$f":"[9]GroupItem!$C24","v":2560},{"$f":"[10]GroupItem!$C24","v":1048},{"$f":"[11]GroupItem!$C24","v":191},{"$f":"[12]GroupItem!$C24","v":102275.18000000001},{"$f":"[13]GroupItem!$C24","v":123056.8},232393.98]
["菜",{"$f":"[2]GroupItem!$C25","v":276},{"$f":"[3]GroupItem!$C25","v":490},{"$f":"[4]GroupItem!$C25","v":465},{"$f":"[5]GroupItem!$C25","v":534},{"$f":"[6]GroupItem!$C25","v":713},{"$f":"[7]GroupItem!$C25","v":951},{"$f":"[8]GroupItem!$C25","v":886.2},{"$f":"[9]GroupItem!$C25","v":1416},{"$f":"[10]GroupItem!$C25","v":570},{"$f":"[11]GroupItem!$C25","v":423},{"$f":"[12]GroupItem!$C25","v":36722.800000000003},{"$f":"[13]GroupItem!$C25","v":46267.8},89714.8]
["飲品",{"$f":"[2]GroupItem!$C26","v":457},{"$f":"[3]GroupItem!$C26","v":403},{"$f":"[4]GroupItem!$C26","v":566},{"$f":"[5]GroupItem!$C26","v":747},{"$f":"[6]GroupItem!$C26","v":1044},{"$f":"[7]GroupItem!$C26","v":1128},{"$f":"[8]GroupItem!$C26","v":1086},{"$f":"[9]GroupItem!$C26","v":1041},{"$f":"[10]GroupItem!$C26","v":930},{"$f":"[11]GroupItem!$C26","v":693},{"$f":"[12]GroupItem!$C26","v":33732.639999999999},{"$f":"[13]GroupItem!$C26","v":49676},91503.64]
["酒類",{"$f":"[2]GroupItem!$C27","v":0},{"$f":"[3]GroupItem!$C27","v":0},{"$f":"[4]GroupItem!$C27","v":288},{"$f":"[5]GroupItem!$C27","v":15},{"$f":"[6]GroupItem!$C27","v":160},{"$f":"[7]GroupItem!$C27","v":28},{"$f":"[8]GroupItem!$C27","v":28},{"$f":"[9]GroupItem!$C27","v":162},{"$f":"[10]GroupItem!$C27","v":38},{"$f":"[11]GroupItem!$C27","v":0},{"$f":"[12]GroupItem!$C27","v":4739},{"$f":"[13]GroupItem!$C27","v":9466},14924]
["包類",{"$f":"[2]GroupItem!$C28","v":355},{"$f":"[3]GroupItem!$C28","v":220},{"$f":"[4]GroupItem!$C28","v":381},{"$f":"[5]GroupItem!$C28","v":439},{"$f":"[6]GroupItem!$C28","v":544},{"$f":"[7]GroupItem!$C28","v":911},{"$f":"[8]GroupItem!$C28","v":706},{"$f":"[9]GroupItem!$C28","v":720},{"$f":"[10]GroupItem!$C28","v":845},{"$f":"[11]GroupItem!$C28","v":477},{"$f":"[12]GroupItem!$C28","v":27425},{"$f":"[13]GroupItem!$C28","v":34314},{"$f":"SUM(B43:M43)","v":67337}]
["粉麵飯",{"$f":"[2]GroupItem!$C29","v":2820},{"$f":"[3]GroupItem!$C29","v":2879},{"$f":"[4]GroupItem!$C29","v":3278},{"$f":"[5]GroupItem!$C29","v":2852},{"$f":"[6]GroupItem!$C29","v":3018},{"$f":"[7]GroupItem!$C29","v":3048},{"$f":"[8]GroupItem!$C29","v":3245},{"$f":"[9]GroupItem!$C29","v":3369},{"$f":"[10]GroupItem!$C29","v":2160},{"$f":"[11]GroupItem!$C29","v":3131},{"$f":"[12]GroupItem!$C29","v":105917.59999999999},{"$f":"[13]GroupItem!$C29","v":129284.14},265001.74]
["湯",{"$f":"[2]GroupItem!$C30","v":44},{"$f":"[3]GroupItem!$C30","v":0},{"$f":"[4]GroupItem!$C30","v":0},{"$f":"[5]GroupItem!$C30","v":0},{"$f":"[6]GroupItem!$C30","v":10},{"$f":"[7]GroupItem!$C30","v":0},{"$f":"[8]GroupItem!$C30","v":20},{"$f":"[9]GroupItem!$C30","v":58},{"$f":"[10]GroupItem!$C30","v":0},{"$f":"[11]GroupItem!$C30","v":0},{"$f":"[12]GroupItem!$C30","v":834},{"$f":"[13]GroupItem!$C30","v":2002},2968]
[]
[]
[]
[]
[]
[]
["和味綜合食材銷售"]
["2021年"]
["食材/月","1月","2月","3月","4月","5月","6月","7月","8月","9月","10月","11月","12月","總額"]
["無分類",{"$f":"[2]GroupItem!$D15","v":0},{"$f":"[3]GroupItem!$D15","v":0},{"$f":"[4]GroupItem!$D15","v":0},{"$f":"[5]GroupItem!$D15","v":0},{"$f":"[6]GroupItem!$D15","v":0},{"$f":"[7]GroupItem!$D15","v":0},{"$f":"[8]GroupItem!$D15","v":0},{"$f":"[9]GroupItem!$D15","v":0},{"$f":"[10]GroupItem!$D15","v":0},{"$f":"[11]GroupItem!$D15","v":0},{"$f":"[12]GroupItem!$D16","v":0},{"$f":"[13]GroupItem!$D15","v":0},{"$f":"SUM(B55:M55)","v":0}]
["豬",{"$f":"[2]GroupItem!$D16","v":0},{"$f":"[3]GroupItem!$D16","v":0},{"$f":"[4]GroupItem!$D16","v":0},{"$f":"[5]GroupItem!$D16","v":0},{"$f":"[6]GroupItem!$D16","v":0},{"$f":"[7]GroupItem!$D16","v":0},{"$f":"[8]GroupItem!$D16","v":0},{"$f":"[9]GroupItem!$D16","v":0},{"$f":"[10]GroupItem!$D16","v":0},{"$f":"[11]GroupItem!$D16","v":0},{"$f":"[12]GroupItem!$D17","v":0},{"$f":"[13]GroupItem!$D16","v":0},{"$f":"SUM(B56:M56)","v":0}]
["牛",{"$f":"[2]GroupItem!$D17","v":0},{"$f":"[3]GroupItem!$D17","v":0},{"$f":"[4]GroupItem!$D17","v":0},{"$f":"[5]GroupItem!$D17","v":0},{"$f":"[6]GroupItem!$D17","v":0},{"$f":"[7]GroupItem!$D17","v":0},{"$f":"[8]GroupItem!$D17","v":0},{"$f":"[9]GroupItem!$D17","v":0},{"$f":"[10]GroupItem!$D17","v":0},{"$f":"[11]GroupItem!$D17","v":0},{"$f":"[12]GroupItem!$D18","v":0},{"$f":"[13]GroupItem!$D17","v":0},0]
["羊",{"$f":"[2]GroupItem!$D18","v":0},{"$f":"[3]GroupItem!$D18","v":0},{"$f":"[4]GroupItem!$D18","v":0},{"$f":"[5]GroupItem!$D18","v":0},{"$f":"[6]GroupItem!$D18","v":0},{"$f":"[7]GroupItem!$D18","v":0},{"$f":"[8]GroupItem!$D18","v":0},{"$f":"[9]GroupItem!$D18","v":0},{"$f":"[10]GroupItem!$D18","v":0},{"$f":"[11]GroupItem!$D18","v":0},{"$f":"[12]GroupItem!$D19","v":0},{"$f":"[13]GroupItem!$D18","v":0},0]
["雞",{"$f":"[2]GroupItem!$D19","v":0},{"$f":"[3]GroupItem!$D19","v":0},{"$f":"[4]GroupItem!$D19","v":0},{"$f":"[5]GroupItem!$D19","v":0},{"$f":"[6]GroupItem!$D19","v":0},{"$f":"[7]GroupItem!$D19","v":0},{"$f":"[8]GroupItem!$D19","v":0},{"$f":"[9]GroupItem!$D19","v":0},{"$f":"[10]GroupItem!$D19","v":0},{"$f":"[11]GroupItem!$D19","v":0},{"$f":"[12]GroupItem!$D20","v":0},{"$f":"[13]GroupItem!$D19","v":0},0]
["鴨",{"$f":"[2]GroupItem!$D20","v":0},{"$f":"[3]GroupItem!$D20","v":0},{"$f":"[4]GroupItem!$D20","v":0},{"$f":"[5]GroupItem!$D20","v":0},{"$f":"[6]GroupItem!$D20","v":0},{"$f":"[7]GroupItem!$D20","v":0},{"$f":"[8]GroupItem!$D20","v":0},{"$f":"[9]GroupItem!$D20","v":0},{"$f":"[10]GroupItem!$D20","v":0},{"$f":"[11]GroupItem!$D20","v":0},{"$f":"[12]GroupItem!$D21","v":0},{"$f":"[13]GroupItem!$D20","v":0},0]
["鵝",{"$f":"[2]GroupItem!$D21","v":0},{"$f":"[3]GroupItem!$D21","v":0},{"$f":"[4]GroupItem!$D21","v":0},{"$f":"[5]GroupItem!$D21","v":0},{"$f":"[6]GroupItem!$D21","v":0},{"$f":"[7]GroupItem!$D21","v":0},{"$f":"[8]GroupItem!$D21","v":0},{"$f":"[9]GroupItem!$D21","v":0},{"$f":"[10]GroupItem!$D21","v":0},{"$f":"[11]GroupItem!$D21","v":0},{"$f":"[12]GroupItem!$D22","v":0},{"$f":"[13]GroupItem!$D21","v":0},0]
["鴿",{"$f":"[2]GroupItem!$D22","v":0},{"$f":"[3]GroupItem!$D22","v":0},{"$f":"[4]GroupItem!$D22","v":0},{"$f":"[5]GroupItem!$D22","v":0},{"$f":"[6]GroupItem!$D22","v":0},{"$f":"[7]GroupItem!$D22","v":0},{"$f":"[8]GroupItem!$D22","v":0},{"$f":"[9]GroupItem!$D22","v":0},{"$f":"[10]GroupItem!$D22","v":0},{"$f":"[11]GroupItem!$D22","v":0},{"$f":"[12]GroupItem!$D23","v":0},{"$f":"[13]GroupItem!$D22","v":0},0]
["雜肉",{"$f":"[2]GroupItem!$D23","v":0},{"$f":"[3]GroupItem!$D23","v":0},{"$f":"[4]GroupItem!$D23","v":0},{"$f":"[5]GroupItem!$D23","v":0},{"$f":"[6]GroupItem!$D23","v":0},{"$f":"[7]GroupItem!$D23","v":0},{"$f":"[8]GroupItem!$D23","v":0},{"$f":"[9]GroupItem!$D23","v":0},{"$f":"[10]GroupItem!$D23","v":0},{"$f":"[11]GroupItem!$D23","v":0},{"$f":"[12]GroupItem!$D24","v":0},{"$f":"[13]GroupItem!$D23","v":0},0]
["海鮮",{"$f":"[2]GroupItem!$D24","v":0},{"$f":"[3]GroupItem!$D24","v":0},{"$f":"[4]GroupItem!$D24","v":0},{"$f":"[5]GroupItem!$D24","v":0},{"$f":"[6]GroupItem!$D24","v":0},{"$f":"[7]GroupItem!$D24","v":0},{"$f":"[8]GroupItem!$D24","v":0},{"$f":"[9]GroupItem!$D24","v":0},{"$f":"[10]GroupItem!$D24","v":0},{"$f":"[11]GroupItem!$D24","v":0},{"$f":"[12]GroupItem!$D25","v":0},{"$f":"[13]GroupItem!$D24","v":0},0]
["菜",{"$f":"[2]GroupItem!$D25","v":0},{"$f":"[3]GroupItem!$D25","v":0},{"$f":"[4]GroupItem!$D25","v":0},{"$f":"[5]GroupItem!$D25","v":0},{"$f":"[6]GroupItem!$D25","v":0},{"$f":"[7]GroupItem!$D25","v":0},{"$f":"[8]GroupItem!$D25","v":0},{"$f":"[9]GroupItem!$D25","v":0},{"$f":"[10]GroupItem!$D25","v":0},{"$f":"[11]GroupItem!$D25","v":0},{"$f":"[12]GroupItem!$D26","v":0},{"$f":"[13]GroupItem!$D25","v":0},0]
["飲品",{"$f":"[2]GroupItem!$D26","v":0},{"$f":"[3]GroupItem!$D26","v":0},{"$f":"[4]GroupItem!$D26","v":0},{"$f":"[5]GroupItem!$D26","v":0},{"$f":"[6]GroupItem!$D26","v":0},{"$f":"[7]GroupItem!$D26","v":0},{"$f":"[8]GroupItem!$D26","v":0},{"$f":"[9]GroupItem!$D26","v":0},{"$f":"[10]GroupItem!$D26","v":0},{"$f":"[11]GroupItem!$D26","v":0},{"$f":"[12]GroupItem!$D27","v":0},{"$f":"[13]GroupItem!$D26","v":0},0]
["酒類",{"$f":"[2]GroupItem!$D27","v":0},{"$f":"[3]GroupItem!$D27","v":0},{"$f":"[4]GroupItem!$D27","v":0},{"$f":"[5]GroupItem!$D27","v":0},{"$f":"[6]GroupItem!$D27","v":0},{"$f":"[7]GroupItem!$D27","v":0},{"$f":"[8]GroupItem!$D27","v":0},{"$f":"[9]GroupItem!$D27","v":0},{"$f":"[10]GroupItem!$D27","v":0},{"$f":"[11]GroupItem!$D27","v":0},{"$f":"[12]GroupItem!$D28","v":0},{"$f":"[13]GroupItem!$D27","v":0},0]
["包類",{"$f":"[2]GroupItem!$D28","v":0},{"$f":"[3]GroupItem!$D28","v":0},{"$f":"[4]GroupItem!$D28","v":0},{"$f":"[5]GroupItem!$D28","v":0},{"$f":"[6]GroupItem!$D28","v":0},{"$f":"[7]GroupItem!$D28","v":0},{"$f":"[8]GroupItem!$D28","v":0},{"$f":"[9]GroupItem!$D28","v":0},{"$f":"[10]GroupItem!$D28","v":0},{"$f":"[11]GroupItem!$D28","v":0},{"$f":"[12]GroupItem!$D29","v":0},{"$f":"[13]GroupItem!$D28","v":0},0]
["粉麵飯",{"$f":"[2]GroupItem!$D29","v":0},{"$f":"[3]GroupItem!$D29","v":0},{"$f":"[4]GroupItem!$D29","v":0},{"$f":"[5]GroupItem!$D29","v":0},{"$f":"[6]GroupItem!$D29","v":0},{"$f":"[7]GroupItem!$D29","v":0},{"$f":"[8]GroupItem!$D29","v":0},{"$f":"[9]GroupItem!$D29","v":0},{"$f":"[10]GroupItem!$D29","v":0},{"$f":"[11]GroupItem!$D29","v":0},{"$f":"[12]GroupItem!$D30","v":0},{"$f":"[13]GroupItem!$D29","v":0},0]
["湯",{"$f":"[2]GroupItem!$D30","v":0},{"$f":"[3]GroupItem!$D30","v":0},{"$f":"[4]GroupItem!$D30","v":0},{"$f":"[5]GroupItem!$D30","v":0},{"$f":"[6]GroupItem!$D30","v":0},{"$f":"[7]GroupItem!$D30","v":0},{"$f":"[8]GroupItem!$D30","v":0},{"$f":"[9]GroupItem!$D30","v":0},{"$f":"[10]GroupItem!$D30","v":0},{"$f":"[11]GroupItem!$D30","v":0},{"$f":"[12]GroupItem!$D31","v":0},{"$f":"[13]GroupItem!$D30","v":0},0]

{"sheet":"付款統計","index":4,"n_rows":17,"n_cols":12,"rows_kept":17,"cut":false,"hidden":false,"merged":[]}
["每月付款統計",null,null,null,null,null,null,null,null,"*總銷售就要食銷售資料"]
[null,null,null,null,null,null,null,null,null,"*卡付款要去食不同付款收集的資料"]
[null,"         Month Select:","May",null,null,null,null,null,null,"*再利用銷售去扣減, 就可求出現金"]
["付款比例","總銷售","現金","VISA","MASTER","銀聯","八達通 ","支付寶","微信","戶戶送","FOOD PANDA","UBEREATS"]
["綜合",{"$f":"B6+B7","v":23090.2},{"$f":"C6+C7","v":15029.2},{"$f":"D6+D7","v":607},0,258,6468,676,52,0,0,0]
["品味",{"$f":"[6]GroupItem!$D$7","v":23090.2},{"$f":"B6-SUM(D6:L6)","v":15029.2},{"$f":"[6]GroupItem!$G$7","v":607},{"$f":"[6]GroupItem!$I$7","v":0},{"$f":"[6]GroupItem!$H$7","v":258},{"$f":"[6]GroupItem!$F$7","v":6468},{"$f":"[6]GroupItem!$J$7","v":676},{"$f":"[6]GroupItem!$K$7","v":52},{"$f":"[6]GroupItem!$P$7","v":0},{"$f":"[6]GroupItem!$L$7","v":0},{"$f":"[6]GroupItem!$O$7","v":0}]
["和味",{"$f":"[6]GroupItem!$D$8","v":0},{"$f":"B7-SUM(D7:L7)","v":0},{"$f":"[6]GroupItem!$G$8","v":0},{"$f":"[6]GroupItem!$I$8","v":0},{"$f":"[6]GroupItem!$H$8","v":0},{"$f":"[6]GroupItem!$F$8","v":0},{"$f":"[6]GroupItem!$J$8","v":0},{"$f":"[6]GroupItem!$K$8","v":0},{"$f":"[6]GroupItem!$P$8","v":0},{"$f":"[6]GroupItem!$L$8","v":0},{"$f":"[6]GroupItem!$O$8","v":0}]
[]
[]
["綜合差額"]
[null,null,"VISA","MASTER","銀聯","八達通 ","支付寶","微信","戶戶送","FOOD PANDA","UBEREATS"]
["綜合","費用對比",{"$f":"C14+C16","v":772.54600000000005},225.19,61.763999999999996,1873.9159999999999,389.72,22.650000000000002,0,796.65000000000009,0]
[null,"收費率對比",{"$f":"AVERAGE(C15,C17)","v":0.36028500823723231},0,4.0511627906976738E-2,0.11420887445887445,0.15645710059171597,0.21778846153846154,0,0,0]
["品味","費用對比",{"$f":"不同付款對比數據!W11","v":437.38600000000002},{"$f":"不同付款對比數據!W22","v":153.26},{"$f":"不同付款對比數據!W33","v":20.904},{"$f":"不同付款對比數據!W44","v":1477.4059999999999},{"$f":"不同付款對比數據!W55","v":211.53},{"$f":"不同付款對比數據!W66","v":22.650000000000002},{"$f":"不同付款對比數據!W77","v":0},{"$f":"不同付款對比數據!W88","v":100.2},{"$f":"不同付款對比數據!W99","v":0}]
[null,"收費率對比",{"$f":"不同付款對比數據!W12","v":0.72057001647446461},{"$f":"不同付款對比數據!W23","v":0},{"$f":"不同付款對比數據!W34","v":8.1023255813953476E-2},{"$f":"不同付款對比數據!W45","v":0.22841774891774891},{"$f":"不同付款對比數據!W56","v":0.31291420118343194},{"$f":"不同付款對比數據!W67","v":0.43557692307692308},{"$f":"不同付款對比數據!W78","v":0},{"$f":"不同付款對比數據!W89","v":0},{"$f":"不同付款對比數據!W100","v":0}]
["和味","費用對比",{"$f":"不同付款對比數據!AM11","v":335.16},{"$f":"不同付款對比數據!AM22","v":71.930000000000007},{"$f":"不同付款對比數據!AM33","v":40.86},{"$f":"不同付款對比數據!AM44","v":396.51},{"$f":"不同付款對比數據!AM55","v":178.19},{"$f":"不同付款對比數據!AM66","v":0},{"$f":"不同付款對比數據!AM77","v":0},{"$f":"不同付款對比數據!AM88","v":696.45},{"$f":"不同付款對比數據!AM99","v":0}]
[null,"收費率對比",{"$f":"不同付款對比數據!AM12","v":0},{"$f":"不同付款對比數據!AM23","v":0},{"$f":"不同付款對比數據!AM34","v":0},{"$f":"不同付款對比數據!AM45","v":0},{"$f":"不同付款對比數據!AM56","v":0},{"$f":"不同付款對比數據!AM67","v":0},{"$f":"不同付款對比數據!AM78","v":0},{"$f":"不同付款對比數據!AM89","v":0},{"$f":"不同付款對比數據!AM100","v":0}]

{"sheet":"不同付款對比數據","index":5,"n_rows":100,"n_cols":49,"rows_kept":100,"cut":false,"hidden":false,"merged":[]}
[null,"每月綜合付款",null,null,null,null,null,null,null,null,null,null,null,null,null,null,null,"品味綜合付款",null,null,null,null,null,null,null,null,null,null,null,null,null,null,null,"和味綜合付款"]
[]
[null,"信用卡 VISA",null,null,null,null,null,null,null,null,null,null,null,null,null,null,null,"信用卡 VISA",null,null,null,null,null,null,null,null,null,null,null,null,null,null,null,"信用卡 VISA"]
[null,null,"一月","二月","三月","4月","5月","6月","7月","8月","9月","10月","11月","12月","合共",null,null,null,"一月","二月","三月","4月","5月","6月","7月","8月","9月","10月","11月","12月","合共",null,null,null,"一月","二月","三月","4月","5月","6月","7月","8月","9月","10月","11月","12月","合共"]
[null,"付款總額",{"$f":"S5+AI5","v":0},{"$f":"T5+AJ5","v":249},{"$f":"U5+AK5","v":0},301.60000000000002,607,478,484,0,965.5,275,9941.7999999999993,20925.400000000001,{"$f":"SUM(C5:N5)","v":34227.300000000003},null,null,"付款總額",{"$f":"[2]GroupItem!$G$7","v":0},{"$f":"[3]GroupItem!$G$7","v":249},{"$f":"[4]GroupItem!$G$7","v":0},{"$f":"[5]GroupItem!$G$7","v":301.60000000000002},{"$f":"[6]GroupItem!$G$7","v":607},{"$f":"[7]GroupItem!$G$7","v":478},{"$f":"[8]GroupItem!$G$7","v":484},{"$f":"[9]GroupItem!$G$7","v":0},{"$f":"[10]GroupItem!$G$7","v":965.5},{"$f":"[11]GroupItem!$G$7","v":275},{"$f":"[12]GroupItem!$G$7","v":9941.7999999999993},{"$f":"[13]GroupItem!$G$7","v":20925.400000000001},{"$f":"SUM(S5:AD5)","v":34227.300000000003},null,null,"付款總額",{"$f":"[2]GroupItem!$G$8","v":0},{"$f":"[3]GroupItem!$G$8","v":0},{"$f":"[4]GroupItem!$G$8","v":0},{"$f":"[5]GroupItem!$G$8","v":0},{"$f":"[6]GroupItem!$G$8","v":0},{"$f":"[7]GroupItem!$G$8","v":0},{"$f":"[8]GroupItem!$G$8","v":0},{"$f":"[9]GroupItem!$G$8","v":0},{"$f":"[10]GroupItem!$G$8","v":0},{"$f":"[11]GroupItem!$G$8","v":0},{"$f":"[12]GroupItem!$G$8","v":0},{"$f":"[13]GroupItem!$G$8","v":0},{"$f":"SUM(AI5:AT5)","v":0}]
[null,"設定率",{"$f":"AVERAGE(S6,AI6)","v":2.1999999999999999E-2},null,null,null,null,null,null,null,null,null,null,null,null,null,null,"設定率",{"$f":"'[14]PAYMENT MASTER'!$D$4","v":2.1999999999999999E-2},{"$f":"S6","v":2.1999999999999999E-2},{"$f":"T6","v":2.1999999999999999E-2},2.1999999999999999E-2,2.1999999999999999E-2,2.1999999999999999E-2,2.1999999999999999E-2,2.1999999999999999E-2,2.1999999999999999E-2,2.1999999999999999E-2,2.1999999999999999E-2,2.1999999999999999E-2,null,null,null,"設定率",{"$f":"'[14]PAYMENT MASTER'!$E$4","v":2.1999999999999999E-2},{"$f":"$AI$6","v":2.1999999999999999E-2},{"$f":"$AI$6","v":2.1999999999999999E-2},2.1999999999999999E-2,2.1999999999999999E-2,2.1999999999999999E-2,2.1999999999999999E-2,2.1999999999999999E-2,2.1999999999999999E-2,2.1999999999999999E-2,2.1999999999999999E-2,2.1999999999999999E-2,null,null,"係master入面的Rate"]
[null,"設定收款",{"$f":"S7+AI7","v":0},null,null,null,null,null,null,null,null,null,null,null,null,null,null,"設定最底收款",{"$f":"'[14]PAYMENT MASTER'!$D$5","v":0},{"$f":"S7","v":0},{"$f":"T7","v":0},0,0,0,0,0,0,0,0,0,null,null,null,"設定收款",{"$f":"'[14]PAYMENT MASTER'!$E$5","v":0},{"$f":"$AI$7","v":0},{"$f":"$AI$7","v":0},0,0,0,0,0,0,0,0,0,null,null,"係master入面的最低消費"]
[null,"應付費用",{"$f":"S8+AI8","v":0},null,null,null,null,null,null,null,null,null,null,null,{"$f":"SUM(C8:N8)","v":0},null,null,"應付費用",{"$f":"IF(S5<S7,S7,S5*S6)","v":0},{"$f":"IF(T5<T7,T7,T5*T6)","v":5.4779999999999998},0,6.6352000000000002,13.353999999999999,10.516,10.648,0,21.241,6.05,218.71959999999996,460.35880000000003,null,null,null,"應付費用",{"$f":"IF(AI5<AI7,AI7,AI5*AI6)","v":0},{"$f":"IF(AJ5<AJ7,AJ7,AJ5*AJ6)","v":0},0,0,0,0,0,0,0,0,0,0,null,null,"因為出現不夠298, 所以, 其實係應該收298"]
[null,"會計費用",{"$f":"S9+AI9","v":301.64999999999998},null,null,null,null,null,null,null,null,null,null,null,{"$f":"SUM(C9:N9)","v":301.64999999999998},null,null,"會計費用",{"$f":"[1]Analysis!AY$58","v":216.67},{"$f":"[1]Analysis!AZ$58","v":114.19},{"$f":"[1]Analysis!BA$58","v":177.47},{"$f":"[1]Analysis!BB$58","v":273.22000000000003},{"$f":"[1]Analysis!BC$58","v":450.74},{"$f":"[1]Analysis!BD$58","v":0},{"$f":"[1]Analysis!BE$58","v":769.18},{"$f":"[1]Analysis!BF$58","v":207.78},{"$f":"[1]Analysis!BG$58","v":221.75},{"$f":"[1]Analysis!BH$58","v":200.18},{"$f":"[1]Analysis!BI$58","v":194.38},{"$f":"[1]Analysis!BJ$58","v":0},null,null,null,"會計費用",{"$f":"[1]Analysis!AY$69","v":84.98},{"$f":"[1]Analysis!AZ$69","v":303.49},{"$f":"[1]Analysis!BA$69","v":167.01},{"$f":"[1]Analysis!BB$69","v":222.79},{"$f":"[1]Analysis!BC$69","v":335.16},{"$f":"[1]Analysis!BD$69","v":4.41},{"$f":"[1]Analysis!BE$69","v":222.75},{"$f":"[1]Analysis!BF$69","v":209.69},{"$f":"[1]Analysis!BG$69","v":178.16},{"$f":"[1]Analysis!BH$69","v":144.63},{"$f":"[1]Analysis!BI$69","v":283.06},{"$f":"[1]Analysis!BJ$69","v":0},null,null,"copy from statement"]
[null,"收費率計算",{"$f":"AVERAGE(S10,AI10)","v":0},null,null,null,null,null,null,null,null,null,null,null,null,null,null,"收費率計算",{"$f":"IFERROR(S9/S5,0)","v":0},{"$f":"IFERROR(T9/T5,0)","v":0.45859437751004017},0,0.90590185676392576,0.74257001647446463,0,1.5892148760330578,0,0.2296737441740031,0.72792727272727276,1.9551791426099901E-2,0,null,null,null,"收費率計算",{"$f":"IFERROR(AI9/AI5,0)","v":0},{"$f":"IFERROR(AJ9/AJ5,0)","v":0},0,0,0,0,0,0,0,0,0,0,null,null,"求收費=幾多%"]
[null,"費用對比",{"$f":"S11+AI11","v":301.64999999999998},null,null,null,null,null,null,null,null,null,null,null,null,null,null,"費用對比",{"$f":"IF(S9-S8<0,0,S9-S8)","v":216.67},{"$f":"IF(T9-T8<0,0,T9-T8)","v":108.712},177.47,266.58480000000003,437.38600000000002,0,758.53199999999993,207.78,200.50900000000001,194.13,0,0,{"$f":"SUM(S11:AD11)","v":2567.7737999999999},null,null,"費用對比",{"$f":"IF(AI9-AI8<0,0,AI9-AI8)","v":84.98},{"$f":"IF(AJ9-AJ8<0,0,AJ9-AJ8)","v":303.49},167.01,222.79,335.16,4.41,222.75,209.69,178.16,144.63,283.06,0,{"$f":"SUM(AI11:AT11)","v":2156.13},null,"多少左212元"]
[null,"收費率對比",{"$f":"C6-C10","v":2.1999999999999999E-2},null,null,null,null,null,null,null,null,null,null,null,null,null,null,"收費率對比",{"$f":"IF(S10-S6<S6,0,S10-S6)","v":0},{"$f":"IF(T10-T6<T6,0,T10-T6)","v":0.43659437751004015},0,0.88390185676392574,0.72057001647446461,0,1.5672148760330578,0,0.20767374417400311,0.70592727272727274,0,0,{"$f":"AVERAGE(S12:AD12)","v":0.37682351197356367},null,null,"收費率對比",{"$f":"IF(AI10-AI6<AI6,0,AI10-AI6)","v":0},{"$f":"IF(AJ10-AJ6<AJ6,0,AJ10-AJ6)","v":0},0,0,0,0,0,0,0,0,0,0,{"$f":"AVERAGE(AI12:AT12)","v":0},null,"多少左1.17%"]
[]
[null,"信用卡 MASTER",null,null,null,null,null,null,null,null,null,null,null,null,null,null,null,"信用卡 MASTER",null,null,null,null,null,null,null,null,null,null,null,null,null,null,null,"信用卡 MASTER"]
[null,null,"一月","二月","三月","4月","5月","6月","7月","8月","9月","10月","11月","12月","合共",null,null,null,"一月","二月","三月","4月","5月","6月","7月","8月","9月","10月","11月","12月","合共",null,null,null,"一月","二月","三月","4月","5月","6月","7月","8月","9月","10月","11月","12月","合共"]
[null,"付款總額",{"$f":"S16+AI16","v":0},{"$f":"T16+AJ16","v":0},0,134,0,0,206,0,0,0,6011.4,13348.7,{"$f":"SUM(C16:N16)","v":19700.099999999999},null,null,"付款總額",{"$f":"[2]GroupItem!$I$7","v":0},{"$f":"[3]GroupItem!$I$7","v":0},{"$f":"[4]GroupItem!$I$7","v":0},{"$f":"[5]GroupItem!$I$7","v":134},{"$f":"[6]GroupItem!$I$7","v":0},{"$f":"[7]GroupItem!$I$7","v":0},{"$f":"[8]GroupItem!$I$7","v":206},{"$f":"[9]GroupItem!$I$7","v":0},{"$f":"[10]GroupItem!$I$7","v":0},{"$f":"[11]GroupItem!$I$7","v":0},{"$f":"[12]GroupItem!$I$7","v":6011.4},{"$f":"[13]GroupItem!$I$7","v":13348.7},{"$f":"SUM(S16:AD16)","v":19700.099999999999},null,null,"付款總額",{"$f":"[2]GroupItem!$I$8","v":0},{"$f":"[3]GroupItem!$I$8","v":0},{"$f":"[4]GroupItem!$I$8","v":0},{"$f":"[5]GroupItem!$I$8","v":0},{"$f":"[6]GroupItem!$I$8","v":0},{"$f":"[7]GroupItem!$I$8","v":0},{"$f":"[8]GroupItem!$I$8","v":0},{"$f":"[9]GroupItem!$I$8","v":0},{"$f":"[10]GroupItem!$I$8","v":0},{"$f":"[11]GroupItem!$I$8","v":0},{"$f":"[12]GroupItem!$I$8","v":0},{"$f":"[13]GroupItem!$I$8","v":0},{"$f":"SUM(AI16:AT16)","v":0}]
[null,"設定率",{"$f":"AVERAGE(S17,AI17)","v":2.1999999999999999E-2},null,null,null,null,null,null,null,null,null,null,null,null,null,null,"設定率",{"$f":"'[14]PAYMENT MASTER'!$D$6","v":2.1999999999999999E-2},{"$f":"'[14]PAYMENT MASTER'!$D$6","v":2.1999999999999999E-2},{"$f":"'[14]PAYMENT MASTER'!$D$6","v":2.1999999999999999E-2},{"$f":"'[14]PAYMENT MASTER'!$D$6","v":2.1999999999999999E-2},{"$f":"'[14]PAYMENT MASTER'!$D$6","v":2.1999999999999999E-2},{"$f":"'[14]PAYMENT MASTER'!$D$6","v":2.1999999999999999E-2},{"$f":"'[14]PAYMENT MASTER'!$D$6","v":2.1999999999999999E-2},{"$f":"'[14]PAYMENT MASTER'!$D$6","v":2.1999999999999999E-2},{"$f":"'[14]PAYMENT MASTER'!$D$6","v":2.1999999999999999E-2},{"$f":"'[14]PAYMENT MASTER'!$D$6","v":2.1999999999999999E-2},{"$f":"'[14]PAYMENT MASTER'!$D$6","v":2.1999999999999999E-2},{"$f":"'[14]PAYMENT MASTER'!$D$6","v":2.1999999999999999E-2},null,null,null,"設定率",{"$f":"'[14]PAYMENT MASTER'!$E$6","v":2.1999999999999999E-2},{"$f":"$AI$17","v":2.1999999999999999E-2},{"$f":"$AI$17","v":2.1999999999999999E-2},2.1999999999999999E-2,2.1999999999999999E-2,2.1999999999999999E-2,2.1999999999999999E-2,2.1999999999999999E-2,2.1999999999999999E-2,2.1999999999999999E-2,2.1999999999999999E-2,2.1999999999999999E-2]
[null,"設定收款",{"$f":"S18+AI18","v":0},null,null,null,null,null,null,null,null,null,null,null,null,null,null,"設定最底收款",{"$f":"'[14]PAYMENT MASTER'!$D$7","v":0},{"$f":"'[14]PAYMENT MASTER'!$D$7","v":0},{"$f":"'[14]PAYMENT MASTER'!$D$7","v":0},{"$f":"'[14]PAYMENT MASTER'!$D$7","v":0},{"$f":"'[14]PAYMENT MASTER'!$D$7","v":0},{"$f":"'[14]PAYMENT MASTER'!$D$7","v":0},{"$f":"'[14]PAYMENT MASTER'!$D$7","v":0},{"$f":"'[14]PAYMENT MASTER'!$D$7","v":0},{"$f":"'[14]PAYMENT MASTER'!$D$7","v":0},{"$f":"'[14]PAYMENT MASTER'!$D$7","v":0},{"$f":"'[14]PAYMENT MASTER'!$D$7","v":0},{"$f":"'[14]PAYMENT MASTER'!$D$7","v":0},null,null,null,"設定收款",{"$f":"'[14]PAYMENT MASTER'!$E$7","v":0},{"$f":"$AI$18","v":0},{"$f":"$AI$18","v":0},0,0,0,0,0,0,0,0,0]
[null,"應付費用",{"$f":"S19+AI19","v":0},null,null,null,null,null,null,null,null,null,null,null,null,null,null,"應付費用",{"$f":"IF(S16<S18,S18,S16*S17)","v":0},{"$f":"IF(T16<T18,T18,T16*T17)","v":0},0,2.948,0,0,4.532,0,0,0,132.2508,293.67140000000001,null,null,null,"應付費用",{"$f":"IF(AI16<AI18,AI18,AI16*AI17)","v":0},{"$f":"IF(AJ16<AJ18,AJ18,AJ16*AJ17)","v":0},0,0,0,0,0,0,0,0,0,0]
[null,"會計費用",450,null,null,null,null,null,null,null,null,null,null,null,null,null,null,"會計費用",{"$f":"[1]Analysis!AY$59","v":60.56},{"$f":"[1]Analysis!AZ$59","v":59.05},{"$f":"[1]Analysis!BA$59","v":94.98},{"$f":"[1]Analysis!BB$59","v":162.38999999999999},{"$f":"[1]Analysis!BC$59","v":153.26},{"$f":"[1]Analysis!BD$59","v":0},{"$f":"[1]Analysis!BE$59","v":186.45},{"$f":"[1]Analysis!BF$59","v":150.02000000000001},{"$f":"[1]Analysis!BG$59","v":145.77000000000001},{"$f":"[1]Analysis!BH$59","v":98.16},{"$f":"[1]Analysis!BI$59","v":100.93},{"$f":"[1]Analysis!BJ$59","v":0},null,null,null,"會計費用",{"$f":"[1]Analysis!AY$70","v":170.09},{"$f":"[1]Analysis!AZ$70","v":89.4},{"$f":"[1]Analysis!BA$70","v":117.2},{"$f":"[1]Analysis!BB$70","v":200.55},{"$f":"[1]Analysis!BC$70","v":71.930000000000007},{"$f":"[1]Analysis!BD$70","v":156.19},{"$f":"[1]Analysis!BE$70","v":112.28},{"$f":"[1]Analysis!BF$70","v":171.39},{"$f":"[1]Analysis!BG$70","v":166.97},{"$f":"[1]Analysis!BH$70","v":96.26},{"$f":"[1]Analysis!BI$70","v":152.63},{"$f":"[1]Analysis!BJ$70","v":0}]
[null,"收費率計算",{"$f":"AVERAGE(S21,AI21)","v":0},null,null,null,null,null,null,null,null,null,null,null,null,null,null,"收費率計算",{"$f":"IFERROR(S20/S16,0)","v":0},{"$f":"IFERROR(T20/T16,0)","v":0},0,1.211865671641791,0,0,0.9050970873786407,0,0,0,1.6789766111055662E-2,0,null,null,null,"收費率計算",{"$f":"IFERROR(AI20/AI16,0)","v":0},{"$f":"IFERROR(AJ20/AJ16,0)","v":0},0,0,0,0,0,0,0,0,0,0]
[null,"費用對比",{"$f":"S22+AI22","v":230.65},null,null,null,null,null,null,null,null,null,null,null,null,null,null,"費用對比",{"$f":"IF(S20-S19<0,0,S20-S19)","v":60.56},{"$f":"IF(T20-T19<0,0,T20-T19)","v":59.05},94.98,159.44199999999998,153.26,0,181.91799999999998,150.02000000000001,145.77000000000001,98.16,0,0,{"$f":"SUM(S22:AD22)","v":1103.1599999999999},null,null,"費用對比",{"$f":"IF(AI20-AI19<0,0,AI20-AI19)","v":170.09},{"$f":"IF(AJ20-AJ19<0,0,AJ20-AJ19)","v":89.4},117.2,200.55,71.930000000000007,156.19,112.28,171.39,166.97,96.26,152.63,0,{"$f":"SUM(AI22:AT22)","v":1504.8900000000003}]
[null,"收費率對比",{"$f":"C17-C21","v":2.1999999999999999E-2},null,null,null,null,null,null,null,null,null,null,null,null,null,null,"收費率對比",{"$f":"IF(S21-S17<S17,0,S21-S17)","v":0},{"$f":"IF(T21-T17<T17,0,T21-T17)","v":0},0,1.189865671641791,0,0,0.88309708737864068,0,0,0,0,0,{"$f":"AVERAGE(S23:AD23)","v":0.17274689658503598},null,null,"收費率對比",{"$f":"IF(AI21-AI17<AI17,0,AI21-AI17)","v":0},{"$f":"IF(AJ21-AJ17<AJ17,0,AJ21-AJ17)","v":0},0,0,0,0,0,0,0,0,0,0,{"$f":"AVERAGE(AI23:AT23)","v":0}]
[]
[null,"信用卡 銀聯",null,null,null,null,null,null,null,null,null,null,null,null,null,null,null,"信用卡 銀聯",null,null,null,null,null,null,null,null,null,null,null,null,null,null,null,"信用卡 銀聯"]
[null,null,"一月","二月","三月","4月","5月","6月","7月","8月","9月","10月","11月","12月","合共",null,null,null,"一月","二月","三月","4月","5月","6月","7月","8月","9月","10月","11月","12月","合共",null,null,null,"一月","二月","三月","4月","5月","6月","7月","8月","9月","10月","11月","12月","合共"]
[null,"付款總額",{"$f":"S27+AI27","v":0},{"$f":"T27+AJ27","v":0},0,0,258,0,0,304,{"$f":"AA27+AQ27","v":0},0,3066,4046,{"$f":"SUM(C27:N27)","v":7674},null,null,"付款總額",{"$f":"[2]GroupItem!$H$7","v":0},{"$f":"[3]GroupItem!$H$7","v":0},{"$f":"[4]GroupItem!$H$7","v":0},{"$f":"[5]GroupItem!$H$7","v":0},{"$f":"[6]GroupItem!$H$7","v":258},{"$f":"[7]GroupItem!$H$7","v":0},{"$f":"[8]GroupItem!$H$7","v":0},{"$f":"[9]GroupItem!$H$7","v":304},{"$f":"[10]GroupItem!$H$7","v":0},{"$f":"[11]GroupItem!$H$7","v":0},{"$f":"[12]GroupItem!$H$7","v":3066},{"$f":"[13]GroupItem!$H$7","v":4046},{"$f":"SUM(S27:AD27)","v":7674},null,null,"付款總額",{"$f":"[2]GroupItem!$H$8","v":0},{"$f":"[3]GroupItem!$H$8","v":0},{"$f":"[4]GroupItem!$H$8","v":0},{"$f":"[5]GroupItem!$H$8","v":0},{"$f":"[6]GroupItem!$H$8","v":0},{"$f":"[7]GroupItem!$H$8","v":0},{"$f":"[8]GroupItem!$H$8","v":0},{"$f":"[9]GroupItem!$H$8","v":0},{"$f":"[10]GroupItem!$H$8","v":0},{"$f":"[11]GroupItem!$H$8","v":0},{"$f":"[12]GroupItem!$H$8","v":0},{"$f":"[13]GroupItem!$H$8","v":0},{"$f":"SUM(AI27:AT27)","v":0}]
[null,"設定率",{"$f":"AVERAGE(S28,AI28)","v":2.1999999999999999E-2},null,null,null,null,null,null,null,null,null,null,null,null,null,null,"設定率",{"$f":"'[14]PAYMENT MASTER'!$D$8","v":2.1999999999999999E-2},{"$f":"'[14]PAYMENT MASTER'!$D$8","v":2.1999999999999999E-2},{"$f":"'[14]PAYMENT MASTER'!$D$8","v":2.1999999999999999E-2},{"$f":"'[14]PAYMENT MASTER'!$D$8","v":2.1999999999999999E-2},{"$f":"'[14]PAYMENT MASTER'!$D$8","v":2.1999999999999999E-2},{"$f":"'[14]PAYMENT MASTER'!$D$8","v":2.1999999999999999E-2},{"$f":"'[14]PAYMENT MASTER'!$D$8","v":2.1999999999999999E-2},{"$f":"'[14]PAYMENT MASTER'!$D$8","v":2.1999999999999999E-2},{"$f":"'[14]PAYMENT MASTER'!$D$8","v":2.1999999999999999E-2},{"$f":"'[14]PAYMENT MASTER'!$D$8","v":2.1999999999999999E-2},{"$f":"'[14]PAYMENT MASTER'!$D$8","v":2.1999999999999999E-2},{"$f":"'[14]PAYMENT MASTER'!$D$8","v":2.1999999999999999E-2},null,null,null,"設定率",{"$f":"'[14]PAYMENT MASTER'!$D$8","v":2.1999999999999999E-2},{"$f":"$AI$28","v":2.1999999999999999E-2},{"$f":"$AI$28","v":2.1999999999999999E-2},2.1999999999999999E-2,2.1999999999999999E-2,2.1999999999999999E-2,2.1999999999999999E-2,2.1999999999999999E-2,2.1999999999999999E-2,2.1999999999999999E-2,2.1999999999999999E-2,2.1999999999999999E-2]
[null,"設定收款",{"$f":"S29+AI29","v":0},null,null,null,null,null,null,null,null,null,null,null,null,null,null,"設定最底收款",{"$f":"'[14]PAYMENT MASTER'!$D$9","v":0},{"$f":"'[14]PAYMENT MASTER'!$D$9","v":0},{"$f":"'[14]PAYMENT MASTER'!$D$9","v":0},{"$f":"'[14]PAYMENT MASTER'!$D$9","v":0},{"$f":"'[14]PAYMENT MASTER'!$D$9","v":0},{"$f":"'[14]PAYMENT MASTER'!$D$9","v":0},{"$f":"'[14]PAYMENT MASTER'!$D$9","v":0},{"$f":"'[14]PAYMENT MASTER'!$D$9","v":0},{"$f":"'[14]PAYMENT MASTER'!$D$9","v":0},{"$f":"'[14]PAYMENT MASTER'!$D$9","v":0},{"$f":"'[14]PAYMENT MASTER'!$D$9","v":0},{"$f":"'[14]PAYMENT MASTER'!$D$9","v":0},null,null,null,"設定收款",{"$f":"'[14]PAYMENT MASTER'!$D$9","v":0},{"$f":"$AI$29","v":0},{"$f":"$AI$29","v":0},0,0,0,0,0,0,0,0,0]
[null,"應付費用",{"$f":"S30+AI30","v":0},null,null,null,null,null,null,null,null,null,null,null,null,null,null,"應付費用",{"$f":"IF(S27<S29,S29,S27*S28)","v":0},{"$f":"IF(T27<T29,T29,T27*T28)","v":0},0,0,5.6759999999999993,0,0,6.6879999999999997,0,0,67.451999999999998,89.012,null,null,null,"應付費用",{"$f":"IF(AI27<AI29,AI29,AI27*AI28)","v":0},{"$f":"IF(AJ27<AJ29,AJ29,AJ27*AJ28)","v":0},0,0,0,0,0,0,0,0,0,0]
[null,"會計費用",450,null,null,null,null,null,null,null,null,null,null,null,null,null,null,"會計費用",{"$f":"[1]Analysis!AY$60","v":17.23},{"$f":"[1]Analysis!AZ$60","v":4.3099999999999996},{"$f":"[1]Analysis!BA$60","v":24.53},{"$f":"[1]Analysis!BB$60","v":30.36},{"$f":"[1]Analysis!BC$60","v":26.58},{"$f":"[1]Analysis!BD$60","v":0},{"$f":"[1]Analysis!BE$60","v":50.64},{"$f":"[1]Analysis!BF$60","v":17.21},{"$f":"[1]Analysis!BG$60","v":40.54},{"$f":"[1]Analysis!BH$60","v":22.18},{"$f":"[1]Analysis!BI$60","v":55.98},{"$f":"[1]Analysis!BJ$60","v":0},null,null,null,"會計費用",{"$f":"[1]Analysis!AY$71","v":55.42},{"$f":"[1]Analysis!AZ$71","v":33.11},{"$f":"[1]Analysis!BA$71","v":49.31},{"$f":"[1]Analysis!BB$71","v":48.93},{"$f":"[1]Analysis!BC$71","v":40.86},{"$f":"[1]Analysis!BD$71","v":0},{"$f":"[1]Analysis!BE$71","v":73.41},{"$f":"[1]Analysis!BF$71","v":64.87},{"$f":"[1]Analysis!BG$71","v":154.22},{"$f":"[1]Analysis!BH$71","v":64.69},{"$f":"[1]Analysis!BI$71","v":61.38},{"$f":"[1]Analysis!BJ$71","v":0}]
[null,"收費率計算",{"$f":"AVERAGE(S32,AI32)","v":0},null,null,null,null,null,null,null,null,null,null,null,null,null,null,"收費率計算",{"$f":"IFERROR(S31/S27,0)","v":0},{"$f":"IFERROR(T31/T27,0)","v":0},0,0,0.10302325581395348,0,0,5.6611842105263162E-2,0,0,1.8258317025440313E-2,0,null,null,null,"收費率計算",{"$f":"IFERROR(AI31/AI27,0)","v":0},{"$f":"IFERROR(AJ31/AJ27,0)","v":0},0,0,0,0,0,0,0,0,0,0]
[null,"費用對比",{"$f":"S33+AI33","v":72.650000000000006},null,null,null,null,null,null,null,null,null,null,null,null,null,null,"費用對比",{"$f":"IF(S31-S30<0,0,S31-S30)","v":17.23},{"$f":"IF(T31-T30<0,0,T31-T30)","v":4.3099999999999996},24.53,30.36,20.904,0,50.64,10.522000000000002,40.54,22.18,0,0,{"$f":"SUM(S33:AD33)","v":221.21599999999998},null,null,"費用對比",{"$f":"IF(AI31-AI30<0,0,AI31-AI30)","v":55.42},{"$f":"IF(AJ31-AJ30<0,0,AJ31-AJ30)","v":33.11},49.31,48.93,40.86,0,73.41,64.87,154.22,64.69,61.38,0,{"$f":"SUM(AI33:AT33)","v":646.19999999999993}]
[null,"收費率對比",{"$f":"C28-C32","v":2.1999999999999999E-2},null,null,null,null,null,null,null,null,null,null,null,null,null,null,"收費率對比",{"$f":"IF(S32-S28<S28,0,S32-S28)","v":0},{"$f":"IF(T32-T28<T28,0,T32-T28)","v":0},0,0,8.1023255813953476E-2,0,0,3.4611842105263163E-2,0,0,0,0,{"$f":"AVERAGE(S34:AD34)","v":9.63625815993472E-3},null,null,"收費率對比",{"$f":"IF(AI32-AI28<AI28,0,AI32-AI28)","v":0},{"$f":"IF(AJ32-AJ28<AJ28,0,AJ32-AJ28)","v":0},0,0,0,0,0,0,0,0,0,0,{"$f":"AVERAGE(AI34:AT34)","v":0}]
[]
[null,"八達通 ",null,null,null,null,null,null,null,null,null,null,null,null,null,null,null,"八達通 ",null,null,null,null,null,null,null,null,null,null,null,null,null,null,null,"八達通 "]
[null,null,"一月","二月","三月","4月","5月","6月","7月","8月","9月","10月","11月","12月","合共",null,null,null,"一月","二月","三月","4月","5月","6月","7月","8月","9月","10月","11月","12月","合共",null,null,null,"一月","二月","三月","4月","5月","6月","7月","8月","9月","10月","11月","12月","合共"]
[null,"付款總額",{"$f":"S38+AI38","v":3865},{"$f":"T38+AJ38","v":4070},4602,6099,6468,6700,6350,11780,7717.3,8547.2000000000007,358530.08,382994.83999999997,{"$f":"SUM(C38:N38)","v":807723.41999999993},null,null,"付款總額",{"$f":"[2]GroupItem!$F$7","v":3865},{"$f":"[3]GroupItem!$F$7","v":4070},{"$f":"[4]GroupItem!$F$7","v":4602},{"$f":"[5]GroupItem!$F$7","v":6099},{"$f":"[6]GroupItem!$F$7","v":6468},{"$f":"[7]GroupItem!$F$7","v":6700},{"$f":"[8]GroupItem!$F$7","v":6350},{"$f":"[9]GroupItem!$F$7","v":11780},{"$f":"[10]GroupItem!$F$7","v":7717.3},{"$f":"[11]GroupItem!$F$7","v":8547.2000000000007},{"$f":"[12]GroupItem!$F$7","v":358530.08},{"$f":"[13]GroupItem!$F$7","v":382994.83999999997},{"$f":"SUM(S38:AD38)","v":807723.41999999993},null,null,"付款總額",{"$f":"[2]GroupItem!$F$8","v":0},{"$f":"[3]GroupItem!$F$8","v":0},{"$f":"[4]GroupItem!$F$8","v":0},{"$f":"[5]GroupItem!$F$8","v":0},{"$f":"[6]GroupItem!$F$8","v":0},{"$f":"[7]GroupItem!$F$8","v":0},{"$f":"[8]GroupItem!$F$8","v":0},{"$f":"[9]GroupItem!$F$8","v":0},{"$f":"[10]GroupItem!$F$8","v":0},{"$f":"[11]GroupItem!$F$8","v":0},{"$f":"[12]GroupItem!$F$8","v":0},{"$f":"[13]GroupItem!$F$8","v":0},{"$f":"SUM(AI38:AT38)","v":0}]
[null,"設定率",{"$f":"AVERAGE(S39,AI39)","v":1.2999999999999999E-2},null,null,null,null,null,null,null,null,null,null,null,null,null,null,"設定率",{"$f":"'[14]PAYMENT MASTER'!$D$10","v":1.2999999999999999E-2},{"$f":"'[14]PAYMENT MASTER'!$D$10","v":1.2999999999999999E-2},{"$f":"'[14]PAYMENT MASTER'!$D$10","v":1.2999999999999999E-2},{"$f":"'[14]PAYMENT MASTER'!$D$10","v":1.2999999999999999E-2},{"$f":"'[14]PAYMENT MASTER'!$D$10","v":1.2999999999999999E-2},{"$f":"'[14]PAYMENT MASTER'!$D$10","v":1.2999999999999999E-2},{"$f":"'[14]PAYMENT MASTER'!$D$10","v":1.2999999999999999E-2},{"$f":"'[14]PAYMENT MASTER'!$D$10","v":1.2999999999999999E-2},{"$f":"'[14]PAYMENT MASTER'!$D$10","v":1.2999999999999999E-2},{"$f":"'[14]PAYMENT MASTER'!$D$10","v":1.2999999999999999E-2},{"$f":"'[14]PAYMENT MASTER'!$D$10","v":1.2999999999999999E-2},{"$f":"'[14]PAYMENT MASTER'!$D$10","v":1.2999999999999999E-2},null,null,null,"設定率",{"$f":"'[14]PAYMENT MASTER'!$E$10","v":1.2999999999999999E-2},{"$f":"$AI$39","v":1.2999999999999999E-2},{"$f":"$AI$39","v":1.2999999999999999E-2},1.2999999999999999E-2,1.2999999999999999E-2,1.2999999999999999E-2,1.2999999999999999E-2,1.2999999999999999E-2,1.2999999999999999E-2,1.2999999999999999E-2,1.2999999999999999E-2,1.2999999999999999E-2]
[null,"設定收款",0,null,null,null,null,null,null,null,null,null,null,null,null,null,null,"設定最底收款",{"$f":"'[14]PAYMENT MASTER'!$D$11","v":298},{"$f":"'[14]PAYMENT MASTER'!$D$11","v":298},{"$f":"'[14]PAYMENT MASTER'!$D$11","v":298},{"$f":"'[14]PAYMENT MASTER'!$D$11","v":298},{"$f":"'[14]PAYMENT MASTER'!$D$11","v":298},{"$f":"'[14]PAYMENT MASTER'!$D$11","v":298},{"$f":"'[14]PAYMENT MASTER'!$D$11","v":298},{"$f":"'[14]PAYMENT MASTER'!$D$11","v":298},{"$f":"'[14]PAYMENT MASTER'!$D$11","v":298},{"$f":"'[14]PAYMENT MASTER'!$D$11","v":298},{"$f":"'[14]PAYMENT MASTER'!$D$11","v":298},{"$f":"'[14]PAYMENT MASTER'!$D$11","v":298},null,null,null,"設定收款",{"$f":"'[14]PAYMENT MASTER'!$E$11","v":298},{"$f":"$AI$40","v":298},{"$f":"$AI$40","v":298},298,298,298,298,298,298,298,298,298]
[null,"應付費用",{"$f":"S41+AI41","v":348.245},null,null,null,null,null,null,null,null,null,null,null,null,null,null,"應付費用",{"$f":"IF(S38<S40,S40,S38*S39)","v":50.244999999999997},{"$f":"IF(T38<T40,T40,T38*T39)","v":52.91},59.826000000000001,79.286999999999992,84.084000000000003,87.1,82.55,153.13999999999999,100.3249,111.11360000000001,4660.8910400000004,4978.9329199999993,null,null,null,"應付費用",{"$f":"IF(AI38<AI40,AI40,AI38*AI39)","v":298},{"$f":"IF(AJ38<AJ40,AJ40,AJ38*AJ39)","v":298},298,298,298,298,298,298,298,298,298,298]
[null,"會計費用",{"$f":"S42+AI42","v":2459.8000000000002},null,null,null,null,null,null,null,null,null,null,null,null,null,null,"會計費用",{"$f":"[1]Analysis!AY$61","v":1808.14},{"$f":"[1]Analysis!AZ$61","v":1447.46},{"$f":"[1]Analysis!BA$61","v":2208.8200000000002},{"$f":"[1]Analysis!BB$61","v":2025.53},{"$f":"[1]Analysis!BC$61","v":1561.49},{"$f":"[1]Analysis!BD$61","v":76.790000000000006},{"$f":"[1]Analysis!BE$61","v":2342.0500000000002},{"$f":"[1]Analysis!BF$61","v":3967.45},{"$f":"[1]Analysis!BG$61","v":3159.51},{"$f":"[1]Analysis!BH$61","v":3614.08},{"$f":"[1]Analysis!BI$61","v":4029.29},{"$f":"[1]Analysis!BJ$61","v":0},null,null,null,"會計費用",{"$f":"[1]Analysis!AY$72","v":651.66},{"$f":"[1]Analysis!AZ$72","v":741.74},{"$f":"[1]Analysis!BA$72","v":1011.58},{"$f":"[1]Analysis!BB$72","v":922.47},{"$f":"[1]Analysis!BC$72","v":694.51},{"$f":"[1]Analysis!BD$72","v":25.21},{"$f":"[1]Analysis!BE$72","v":1101.45},{"$f":"[1]Analysis!BF$72","v":1700.65},{"$f":"[1]Analysis!BG$72","v":1477.19},{"$f":"[1]Analysis!BH$72","v":1503.07},{"$f":"[1]Analysis!BI$72","v":1677.31},{"$f":"[1]Analysis!BJ$72","v":0}]
[null,"收費率計算",{"$f":"AVERAGE(S43,AI43)","v":0.23391203104786548},null,null,null,null,null,null,null,null,null,null,null,null,null,null,"收費率計算",{"$f":"IFERROR(S42/S38,0)","v":0.46782406209573096},{"$f":"IFERROR(T42/T38,0)","v":0.35564127764127768},0.47996957844415478,0.3321085423839974,0.24141774891774892,1.1461194029850748E-2,0.36882677165354333,0.33679541595925294,0.40940613945291748,0.4228378884312991,1.123835969355765E-2,0,null,null,null,"收費率計算",{"$f":"IFERROR(AI42/AI38,0)","v":0},{"$f":"IFERROR(AJ42/AJ38,0)","v":0},0,0,0,0,0,0,0,0,0,0]
[null,"費用對比",{"$f":"S44+AI44","v":2111.5550000000003},null,null,null,null,null,null,null,null,null,null,null,null,null,null,"費用對比",{"$f":"IF(S42-S41<0,0,S42-S41)","v":1757.8950000000002},{"$f":"IF(T42-T41<0,0,T42-T41)","v":1394.55},2148.9940000000001,1946.2429999999999,1477.4059999999999,0,2259.5,3814.31,3059.1851000000001,3502.9663999999998,0,0,{"$f":"SUM(S44:AD44)","v":21361.049500000001},null,null,"費用對比",{"$f":"IF(AI42-AI41<0,0,AI42-AI41)","v":353.65999999999997},{"$f":"IF(AJ42-AJ41<0,0,AJ42-AJ41)","v":443.74},713.58,624.47,396.51,0,803.45,1402.65,1179.19,1205.07,1379.31,0,{"$f":"SUM(AI44:AT44)","v":8501.6299999999992}]
[null,"收費率對比",{"$f":"C39-C43","v":-0.22091203104786547},null,null,null,null,null,null,null,null,null,null,null,null,null,null,"收費率對比",{"$f":"IF(S43-S39<S39,0,S43-S39)","v":0.45482406209573095},{"$f":"IF(T43-T39<T39,0,T43-T39)","v":0.34264127764127766},0.46696957844415476,0.31910854238399738,0.22841774891774891,0,0.35582677165354332,0.32379541595925293,0.39640613945291747,0.40983788843129909,0,0,{"$f":"AVERAGE(S45:AD45)","v":0.27481895208166024},null,null,"收費率對比",{"$f":"IF(AI43-AI39<AI39,0,AI43-AI39)","v":0},{"$f":"IF(AJ43-AJ39<AJ39,0,AJ43-AJ39)","v":0},0,0,0,0,0,0,0,0,0,0,{"$f":"AVERAGE(AI45:AT45)","v":0}]
[]
[null,"支付寶",null,null,null,null,null,null,null,null,null,null,null,null,null,null,null,"支付寶",null,null,null,null,null,null,null,null,null,null,null,null,null,null,null,"支付寶"]
[null,null,"一月","二月","三月","4月","5月","6月","7月","8月","9月","10月","11月","12月","合共",null,null,null,"一月","二月","三月","4月","5月","6月","7月","8月","9月","10月","11月","12月","合共",null,null,null,"一月","二月","三月","4月","5月","6月","7月","8月","9月","10月","11月","12月","合共"]
[null,"付款總額",{"$f":"S49+AI49","v":656},{"$f":"T49+AJ49","v":840.4},724,840,676,1284.4000000000001,1192,2008,862,1619,61756.34,59687.799999999988,{"$f":"SUM(C49:N49)","v":132145.94},null,null,"付款總額",{"$f":"[2]GroupItem!$J$7","v":656},{"$f":"[3]GroupItem!$J$7","v":840.4},{"$f":"[4]GroupItem!$J$7","v":724},{"$f":"[5]GroupItem!$J$7","v":840},{"$f":"[6]GroupItem!$J$7","v":676},{"$f":"[7]GroupItem!$J$7","v":1284.4000000000001},{"$f":"[8]GroupItem!$J$7","v":1192},{"$f":"[9]GroupItem!$J$7","v":2008},{"$f":"[10]GroupItem!$J$7","v":862},{"$f":"[11]GroupItem!$J$7","v":1619},{"$f":"[12]GroupItem!$J$7","v":61756.34},{"$f":"[13]GroupItem!$J$7","v":59687.799999999988},{"$f":"SUM(S49:AD49)","v":132145.94},null,null,"付款總額",{"$f":"[2]GroupItem!$J$8","v":0},{"$f":"[3]GroupItem!$J$8","v":0},{"$f":"[4]GroupItem!$J$8","v":0},{"$f":"[5]GroupItem!$J$8","v":0},{"$f":"[6]GroupItem!$J$8","v":0},{"$f":"[7]GroupItem!$J$8","v":0},{"$f":"[8]GroupItem!$J$8","v":0},{"$f":"[9]GroupItem!$J$8","v":0},{"$f":"[10]GroupItem!$J$8","v":0},{"$f":"[11]GroupItem!$J$8","v":0},{"$f":"[12]GroupItem!$J$8","v":0},{"$f":"[13]GroupItem!$J$8","v":0},{"$f":"SUM(AI49:AT49)","v":0}]
[null,"設定率",{"$f":"AVERAGE(S50,AI50)","v":1.0999999999999999E-2},null,null,null,null,null,null,null,null,null,null,null,null,null,null,"設定率",{"$f":"'[14]PAYMENT MASTER'!$D$12","v":0.01},{"$f":"'[14]PAYMENT MASTER'!$D$12","v":0.01},{"$f":"'[14]PAYMENT MASTER'!$D$12","v":0.01},{"$f":"'[14]PAYMENT MASTER'!$D$12","v":0.01},{"$f":"'[14]PAYMENT MASTER'!$D$12","v":0.01},{"$f":"'[14]PAYMENT MASTER'!$D$12","v":0.01},{"$f":"'[14]PAYMENT MASTER'!$D$12","v":0.01},{"$f":"'[14]PAYMENT MASTER'!$D$12","v":0.01},{"$f":"'[14]PAYMENT MASTER'!$D$12","v":0.01},{"$f":"'[14]PAYMENT MASTER'!$D$12","v":0.01},{"$f":"'[14]PAYMENT MASTER'!$D$12","v":0.01},{"$f":"'[14]PAYMENT MASTER'!$D$12","v":0.01},null,null,null,"設定率",{"$f":"'[14]PAYMENT MASTER'!$E$12","v":1.2E-2},{"$f":"$AI$50","v":1.2E-2},{"$f":"$AI$50","v":1.2E-2},1.2E-2,1.2E-2,1.2E-2,1.2E-2,1.2E-2,1.2E-2,1.2E-2,1.2E-2,1.2E-2]
[null,"設定收款",0,null,null,null,null,null,null,null,null,null,null,null,null,null,null,"設定最底收款",{"$f":"'[14]PAYMENT MASTER'!$D$13","v":0},{"$f":"'[14]PAYMENT MASTER'!$D$13","v":0},{"$f":"'[14]PAYMENT MASTER'!$D$13","v":0},{"$f":"'[14]PAYMENT MASTER'!$D$13","v":0},{"$f":"'[14]PAYMENT MASTER'!$D$13","v":0},{"$f":"'[14]PAYMENT MASTER'!$D$13","v":0},{"$f":"'[14]PAYMENT MASTER'!$D$13","v":0},{"$f":"'[14]PAYMENT MASTER'!$D$13","v":0},{"$f":"'[14]PAYMENT MASTER'!$D$13","v":0},{"$f":"'[14]PAYMENT MASTER'!$D$13","v":0},{"$f":"'[14]PAYMENT MASTER'!$D$13","v":0},{"$f":"'[14]PAYMENT MASTER'!$D$13","v":0},null,null,null,"設定收款",{"$f":"'[14]PAYMENT MASTER'!$E$13","v":0},{"$f":"$AI$51","v":0},{"$f":"$AI$51","v":0},0,0,0,0,0,0,0,0,0]
[null,"應付費用",{"$f":"S52+AI52","v":6.5600000000000005},null,null,null,null,null,null,null,null,null,null,null,null,null,null,"應付費用",{"$f":"IF(S49<S51,S51,S49*S50)","v":6.5600000000000005},{"$f":"IF(T49<T51,T51,T49*T50)","v":8.4039999999999999},7.24,8.4,6.76,12.844000000000001,11.92,20.080000000000002,8.620000000000001,16.190000000000001,617.5634,596.87799999999993,null,null,null,"應付費用",{"$f":"IF(AI49<AI51,AI51,AI49*AI50)","v":0},{"$f":"IF(AJ49<AJ51,AJ51,AJ49*AJ50)","v":0},0,0,0,0,0,0,0,0,0,0]
[null,"會計費用",{"$f":"S53+AI53","v":427.35},null,null,null,null,null,null,null,null,null,null,null,null,null,null,"會計費用",{"$f":"[1]Analysis!AY$62","v":262.3},{"$f":"[1]Analysis!AZ$62","v":161.9},{"$f":"[1]Analysis!BA$62","v":177.57},{"$f":"[1]Analysis!BB$62","v":146.66},{"$f":"[1]Analysis!BC$62","v":218.29},{"$f":"[1]Analysis!BD$62","v":26.48},{"$f":"[1]Analysis!BE$62","v":287.64},{"$f":"[1]Analysis!BF$62","v":585.69000000000005},{"$f":"[1]Analysis!BG$62","v":371.75},{"$f":"[1]Analysis!BH$62","v":606.95000000000005},{"$f":"[1]Analysis!BI$62","v":538.99},{"$f":"[1]Analysis!BJ$62","v":0},null,null,null,"會計費用",{"$f":"[1]Analysis!AY$73","v":165.05},{"$f":"[1]Analysis!AZ$73","v":86.16},{"$f":"[1]Analysis!BA$73","v":237.23},{"$f":"[1]Analysis!BB$73","v":160.47},{"$f":"[1]Analysis!BC$73","v":178.19},{"$f":"[1]Analysis!BD$73","v":11.09},{"$f":"[1]Analysis!BE$73","v":241.82},{"$f":"[1]Analysis!BF$73","v":439.85},{"$f":"[1]Analysis!BG$73","v":372.51},{"$f":"[1]Analysis!BH$73","v":565.26},{"$f":"[1]Analysis!BI$73","v":483.59},{"$f":"[1]Analysis!BJ$73","v":0}]
[null,"收費率計算",{"$f":"AVERAGE(S54,AI54)","v":0.19992378048780488},null,null,null,null,null,null,null,null,null,null,null,null,null,null,"收費率計算",{"$f":"IFERROR(S53/S49,0)","v":0.39984756097560975},{"$f":"IFERROR(T53/T49,0)","v":0.19264635887672538},0.24526243093922651,0.17459523809523808,0.32291420118343195,2.0616630333229521E-2,0.24130872483221474,0.29167828685258967,0.43126450116009279,0.37489190858554666,8.7276869063160154E-3,0,null,null,null,"收費率計算",{"$f":"IFERROR(AI53/AI49,0)","v":0},{"$f":"IFERROR(AJ53/AJ49,0)","v":0},0,0,0,0,0,0,0,0,0,0]
[null,"費用對比",{"$f":"S55+AI55","v":420.79},null,null,null,null,null,null,null,null,null,null,null,null,null,null,"費用對比",{"$f":"IF(S53-S52<0,0,S53-S52)","v":255.74},{"$f":"IF(T53-T52<0,0,T53-T52)","v":153.49600000000001},170.32999999999998,138.26,211.53,13.635999999999999,275.71999999999997,565.61,363.13,590.76,0,0,{"$f":"SUM(S55:AD55)","v":2738.2120000000004},null,null,"費用對比",{"$f":"IF(AI53-AI52<0,0,AI53-AI52)","v":165.05},{"$f":"IF(AJ53-AJ52<0,0,AJ53-AJ52)","v":86.16},237.23,160.47,178.19,11.09,241.82,439.85,372.51,565.26,483.59,0,{"$f":"SUM(AI55:AT55)","v":2941.2200000000003}]
[null,"收費率對比",{"$f":"C50-C54","v":-0.18892378048780487},null,null,null,null,null,null,null,null,null,null,null,null,null,null,"收費率對比",{"$f":"IF(S54-S50<S50,0,S54-S50)","v":0.38984756097560974},{"$f":"IF(T54-T50<T50,0,T54-T50)","v":0.18264635887672537},0.2352624309392265,0.16459523809523807,0.31291420118343194,1.0616630333229521E-2,0.23130872483221473,0.28167828685258967,0.42126450116009279,0.36489190858554665,0,0,{"$f":"AVERAGE(S56:AD56)","v":0.21625215348615878},null,null,"收費率對比",{"$f":"IF(AI54-AI50<AI50,0,AI54-AI50)","v":0},{"$f":"IF(AJ54-AJ50<AJ50,0,AJ54-AJ50)","v":0},0,0,0,0,0,0,0,0,0,0,{"$f":"AVERAGE(AI56:AT56)","v":0}]
[]
[null,"微信",null,null,null,null,null,null,null,null,null,null,null,null,null,null,null,"微信",null,null,null,null,null,null,null,null,null,null,null,null,null,null,null,"微信"]
[null,null,"一月","二月","三月","4月","5月","6月","7月","8月","9月","10月","11月","12月","合共",null,null,null,"一月","二月","三月","4月","5月","6月","7月","8月","9月","10月","11月","12月","合共",null,null,null,"一月","二月","三月","4月","5月","6月","7月","8月","9月","10月","11月","12月","合共"]
[null,"付款總額",{"$f":"S60+AI60","v":63},{"$f":"T60+AJ60","v":79},34,104,52,124,78,1134,316,259,13149.5,20336.2,{"$f":"SUM(C60:N60)","v":35728.699999999997},null,null,"付款總額",{"$f":"[2]GroupItem!$K$7","v":63},{"$f":"[3]GroupItem!$K$7","v":79},{"$f":"[4]GroupItem!$K$7","v":34},{"$f":"[5]GroupItem!$K$7","v":104},{"$f":"[6]GroupItem!$K$7","v":52},{"$f":"[7]GroupItem!$K$7","v":124},{"$f":"[8]GroupItem!$K$7","v":78},{"$f":"[9]GroupItem!$K$7","v":1134},{"$f":"[10]GroupItem!$K$7","v":316},{"$f":"[11]GroupItem!$K$7","v":259},{"$f":"[12]GroupItem!$K$7","v":13149.5},{"$f":"[13]GroupItem!$K$7","v":20336.2},{"$f":"SUM(S60:AD60)","v":35728.699999999997},null,null,"付款總額",{"$f":"[2]GroupItem!$K$8","v":0},{"$f":"[3]GroupItem!$K$8","v":0},{"$f":"[4]GroupItem!$K$8","v":0},{"$f":"[5]GroupItem!$K$8","v":0},{"$f":"[6]GroupItem!$K$8","v":0},{"$f":"[7]GroupItem!$K$8","v":0},{"$f":"[8]GroupItem!$K$8","v":0},{"$f":"[9]GroupItem!$K$8","v":0},{"$f":"[10]GroupItem!$K$8","v":0},{"$f":"[11]GroupItem!$K$8","v":0},{"$f":"[12]GroupItem!$K$8","v":0},{"$f":"[13]GroupItem!$K$8","v":0},{"$f":"SUM(AI60:AT60)","v":0}]
[null,"設定率",{"$f":"AVERAGE(S61,AI61)","v":0.01},null,null,null,null,null,null,null,null,null,null,null,null,null,null,"設定率",{"$f":"'[14]PAYMENT MASTER'!$D$14","v":0.01},{"$f":"'[14]PAYMENT MASTER'!$D$14","v":0.01},{"$f":"'[14]PAYMENT MASTER'!$D$14","v":0.01},{"$f":"'[14]PAYMENT MASTER'!$D$14","v":0.01},{"$f":"'[14]PAYMENT MASTER'!$D$14","v":0.01},{"$f":"'[14]PAYMENT MASTER'!$D$14","v":0.01},{"$f":"'[14]PAYMENT MASTER'!$D$14","v":0.01},{"$f":"'[14]PAYMENT MASTER'!$D$14","v":0.01},{"$f":"'[14]PAYMENT MASTER'!$D$14","v":0.01},{"$f":"'[14]PAYMENT MASTER'!$D$14","v":0.01},{"$f":"'[14]PAYMENT MASTER'!$D$14","v":0.01},{"$f":"'[14]PAYMENT MASTER'!$D$14","v":0.01},null,null,null,"設定率",{"$f":"'[14]PAYMENT MASTER'!$E$14","v":0.01},{"$f":"$AI$61","v":0.01},{"$f":"$AI$61","v":0.01},0.01,0.01,0.01,0.01,0.01,0.01,0.01,0.01,0.01]
[null,"設定收款",0,null,null,null,null,null,null,null,null,null,null,null,null,null,null,"設定最底收款",{"$f":"'[14]PAYMENT MASTER'!$D$15","v":0},{"$f":"'[14]PAYMENT MASTER'!$D$15","v":0},{"$f":"'[14]PAYMENT MASTER'!$D$15","v":0},{"$f":"'[14]PAYMENT MASTER'!$D$15","v":0},{"$f":"'[14]PAYMENT MASTER'!$D$15","v":0},{"$f":"'[14]PAYMENT MASTER'!$D$15","v":0},{"$f":"'[14]PAYMENT MASTER'!$D$15","v":0},{"$f":"'[14]PAYMENT MASTER'!$D$15","v":0},{"$f":"'[14]PAYMENT MASTER'!$D$15","v":0},{"$f":"'[14]PAYMENT MASTER'!$D$15","v":0},{"$f":"'[14]PAYMENT MASTER'!$D$15","v":0},{"$f":"'[14]PAYMENT MASTER'!$D$15","v":0},null,null,null,"設定收款",{"$f":"'[14]PAYMENT MASTER'!$E$15","v":0},{"$f":"$AI$62","v":0},{"$f":"$AI$62","v":0},0,0,0,0,0,0,0,0,0]
[null,"應付費用",{"$f":"S63+AI63","v":0.63},null,null,null,null,null,null,null,null,null,null,null,null,null,null,"應付費用",{"$f":"IF(S60<S62,S62,S60*S61)","v":0.63},{"$f":"IF(T60<T62,T62,T60*T61)","v":0.79},0.34,1.04,0.52,1.24,0.78,11.34,3.16,2.59,131.495,203.36200000000002,null,null,null,"應付費用",{"$f":"IF(AI60<AI62,AI62,AI60*AI61)","v":0},{"$f":"IF(AJ60<AJ62,AJ62,AJ60*AJ61)","v":0},0,0,0,0,0,0,0,0,0,0]
[null,"會計費用",{"$f":"S64+AI64","v":30.25},null,null,null,null,null,null,null,null,null,null,null,null,null,null,"會計費用",{"$f":"[1]Analysis!AY$63","v":30.25},{"$f":"[1]Analysis!AZ$63","v":39},{"$f":"[1]Analysis!BA$63","v":44.39},{"$f":"[1]Analysis!BB$63","v":22.29},{"$f":"[1]Analysis!BC$63","v":23.17},{"$f":"[1]Analysis!BD$63","v":3.06},{"$f":"[1]Analysis!BE$63","v":67.36},{"$f":"[1]Analysis!BF$63","v":168.68},{"$f":"[1]Analysis!BG$63","v":122.57},{"$f":"[1]Analysis!BH$63","v":205.9},{"$f":"[1]Analysis!BI$63","v":131.38},{"$f":"[1]Analysis!BJ$63","v":0},null,null,null,"會計費用",{"$f":"[1]Analysis!AY$74","v":0},{"$f":"[1]Analysis!AZ$74","v":0},{"$f":"[1]Analysis!BA$74","v":0},{"$f":"[1]Analysis!BB$74","v":0},{"$f":"[1]Analysis!BC$74","v":0},{"$f":"[1]Analysis!BD$74","v":0},{"$f":"[1]Analysis!BE$74","v":0},{"$f":"[1]Analysis!BF$74","v":0},{"$f":"[1]Analysis!BG$74","v":0},{"$f":"[1]Analysis!BH$74","v":0},{"$f":"[1]Analysis!BI$74","v":2.04},{"$f":"[1]Analysis!BJ$74","v":0}]
[null,"收費率計算",{"$f":"AVERAGE(S65,AI65)","v":0.24007936507936509},null,null,null,null,null,null,null,null,null,null,null,null,null,null,"收費率計算",{"$f":"IFERROR(S64/S60,0)","v":0.48015873015873017},{"$f":"IFERROR(T64/T60,0)","v":0.49367088607594939},1.3055882352941177,0.21432692307692308,0.44557692307692309,2.467741935483871E-2,0.86358974358974361,0.14874779541446209,0.38787974683544302,0.79498069498069501,9.9912544203201639E-3,0,null,null,null,"收費率計算",{"$f":"IFERROR(AI64/AI60,0)","v":0},{"$f":"IFERROR(AJ64/AJ60,0)","v":0},0,0,0,0,0,0,0,0,0,0]
[null,"費用對比",{"$f":"S66+AI66","v":29.62},null,null,null,null,null,null,null,null,null,null,null,null,null,null,"費用對比",{"$f":"IF(S64-S63<0,0,S64-S63)","v":29.62},{"$f":"IF(T64-T63<0,0,T64-T63)","v":38.21},44.05,21.25,22.650000000000002,1.82,66.58,157.34,119.41,203.31,0,0,{"$f":"SUM(S66:AD66)","v":704.24},null,null,"費用對比",{"$f":"IF(AI64-AI63<0,0,AI64-AI63)","v":0},{"$f":"IF(AJ64-AJ63<0,0,AJ64-AJ63)","v":0},0,0,0,0,0,0,0,0,2.04,0,{"$f":"SUM(AI66:AT66)","v":2.04}]
[null,"收費率對比",{"$f":"C61-C65","v":-0.23007936507936508},null,null,null,null,null,null,null,null,null,null,null,null,null,null,"收費率對比",{"$f":"IF(S65-S61<S61,0,S65-S61)","v":0.47015873015873016},{"$f":"IF(T65-T61<T61,0,T65-T61)","v":0.48367088607594938},1.2955882352941177,0.20432692307692307,0.43557692307692308,1.4677419354838709E-2,0.8535897435897436,0.13874779541446208,0.37787974683544301,0.784980694980695,0,0,{"$f":"AVERAGE(S67:AD67)","v":0.42159975815481882},null,null,"收費率對比",{"$f":"IF(AI65-AI61<AI61,0,AI65-AI61)","v":0},{"$f":"IF(AJ65-AJ61<AJ61,0,AJ65-AJ61)","v":0},0,0,0,0,0,0,0,0,0,0,{"$f":"AVERAGE(AI67:AT67)","v":0}]
[]
[null,"戶戶送",null,null,null,null,null,null,null,null,null,null,null,null,null,null,null,"戶戶送",null,null,null,null,null,null,null,null,null,null,null,null,null,null,null,"戶戶送"]
[null,null,"一月","二月","三月","4月","5月","6月","7月","8月","9月","10月","11月","12月","合共",null,null,null,"一月","二月","三月","4月","5月","6月","7月","8月","9月","10月","11月","12月","合共",null,null,null,"一月","二月","三月","4月","5月","6月","7月","8月","9月","10月","11月","12月","合共"]
[null,"付款總額",{"$f":"S71+AI71","v":0},{"$f":"T71+AJ71","v":149},0,0,0,0,0,0,0,0,918,477,{"$f":"SUM(C71:N71)","v":1544},null,null,"付款總額",{"$f":"[2]GroupItem!$P$7","v":0},{"$f":"[3]GroupItem!$P$7","v":149},{"$f":"[4]GroupItem!$P$7","v":0},{"$f":"[5]GroupItem!$P$7","v":0},{"$f":"[6]GroupItem!$P$7","v":0},{"$f":"[7]GroupItem!$P$7","v":0},{"$f":"[8]GroupItem!$P$7","v":0},{"$f":"[9]GroupItem!$P$7","v":0},{"$f":"[10]GroupItem!$P$7","v":0},{"$f":"[11]GroupItem!$P$7","v":0},{"$f":"[12]GroupItem!$P$7","v":918},{"$f":"[13]GroupItem!$P$7","v":477},{"$f":"SUM(S71:AD71)","v":1544},null,null,"付款總額",{"$f":"[2]GroupItem!$P$8","v":0},{"$f":"[3]GroupItem!$P$8","v":0},{"$f":"[4]GroupItem!$P$8","v":0},{"$f":"[5]GroupItem!$P$8","v":0},{"$f":"[6]GroupItem!$P$8","v":0},{"$f":"[7]GroupItem!$P$8","v":0},{"$f":"[8]GroupItem!$P$8","v":0},{"$f":"[9]GroupItem!$P$8","v":0},{"$f":"[10]GroupItem!$P$8","v":0},{"$f":"[11]GroupItem!$P$8","v":0},{"$f":"[12]GroupItem!$P$8","v":0},{"$f":"[13]GroupItem!$P$8","v":0},{"$f":"SUM(AI71:AT71)","v":0}]
[null,"設定率",{"$f":"AVERAGE(S72,AI72)","v":0.33},null,null,null,null,null,null,null,null,null,null,null,null,null,null,"設定率",{"$f":"'[14]PAYMENT MASTER'!$D$16","v":0.33},{"$f":"'[14]PAYMENT MASTER'!$D$16","v":0.33},{"$f":"'[14]PAYMENT MASTER'!$D$16","v":0.33},{"$f":"'[14]PAYMENT MASTER'!$D$16","v":0.33},{"$f":"'[14]PAYMENT MASTER'!$D$16","v":0.33},{"$f":"'[14]PAYMENT MASTER'!$D$16","v":0.33},{"$f":"'[14]PAYMENT MASTER'!$D$16","v":0.33},{"$f":"'[14]PAYMENT MASTER'!$D$16","v":0.33},{"$f":"'[14]PAYMENT MASTER'!$D$16","v":0.33},{"$f":"'[14]PAYMENT MASTER'!$D$16","v":0.33},{"$f":"'[14]PAYMENT MASTER'!$D$16","v":0.33},{"$f":"'[14]PAYMENT MASTER'!$D$16","v":0.33},null,null,null,"設定率",{"$f":"'[14]PAYMENT MASTER'!$E$16","v":0.33},{"$f":"$AI$72","v":0.33},{"$f":"$AI$72","v":0.33},0.33,0.33,0.33,0.33,0.33,0.33,0.33,0.33,0.33]
[null,"設定收款",0,null,null,null,null,null,null,null,null,null,null,null,null,null,null,"設定最底收款",{"$f":"'[14]PAYMENT MASTER'!$D$17","v":0},{"$f":"'[14]PAYMENT MASTER'!$D$17","v":0},{"$f":"'[14]PAYMENT MASTER'!$D$17","v":0},{"$f":"'[14]PAYMENT MASTER'!$D$17","v":0},{"$f":"'[14]PAYMENT MASTER'!$D$17","v":0},{"$f":"'[14]PAYMENT MASTER'!$D$17","v":0},{"$f":"'[14]PAYMENT MASTER'!$D$17","v":0},{"$f":"'[14]PAYMENT MASTER'!$D$17","v":0},{"$f":"'[14]PAYMENT MASTER'!$D$17","v":0},{"$f":"'[14]PAYMENT MASTER'!$D$17","v":0},{"$f":"'[14]PAYMENT MASTER'!$D$17","v":0},{"$f":"'[14]PAYMENT MASTER'!$D$17","v":0},null,null,null,"設定收款",{"$f":"'[14]PAYMENT MASTER'!$E$17","v":0},{"$f":"$AI$73","v":0},{"$f":"$AI$73","v":0},0,0,0,0,0,0,0,0,0]
[null,"應付費用",{"$f":"S74+AI74","v":0},null,null,null,null,null,null,null,null,null,null,null,null,null,null,"應付費用",{"$f":"IF(S71<S73,S73,S71*S72)","v":0},{"$f":"IF(T71<T73,T73,T71*T72)","v":49.17},0,0,0,0,0,0,0,0,302.94,157.41,null,null,null,"應付費用",{"$f":"IF(AI71<AI73,AI73,AI71*AI72)","v":0},{"$f":"IF(AJ71<AJ73,AJ73,AJ71*AJ72)","v":0},0,0,0,0,0,0,0,0,0,0]
[null,"會計費用",{"$f":"S75+AI75","v":145.9},null,null,null,null,null,null,null,null,null,null,null,null,null,null,"會計費用",{"$f":"[1]Analysis!AY$64","v":145.9},{"$f":"[1]Analysis!AZ$64","v":225.75},{"$f":"[1]Analysis!BA$64","v":230.7},{"$f":"[1]Analysis!BB$64","v":163.80000000000001},{"$f":"[1]Analysis!BC$64","v":0},{"$f":"[1]Analysis!BD$64","v":0},{"$f":"[1]Analysis!BE$64","v":107.1},{"$f":"[1]Analysis!BF$64","v":175.7},{"$f":"[1]Analysis!BG$64","v":337.4},{"$f":"[1]Analysis!BH$64","v":207.55},{"$f":"[1]Analysis!BI$64","v":44.8},{"$f":"[1]Analysis!BJ$64","v":0},null,null,null,"會計費用",{"$f":"[1]Analysis!AY$75","v":0},{"$f":"[1]Analysis!AZ$75","v":0},{"$f":"[1]Analysis!BA$75","v":0},{"$f":"[1]Analysis!BB$75","v":0},{"$f":"[1]Analysis!BC$75","v":0},{"$f":"[1]Analysis!BD$75","v":0},{"$f":"[1]Analysis!BE$75","v":0},{"$f":"[1]Analysis!BF$75","v":0},{"$f":"[1]Analysis!BG$75","v":0},{"$f":"[1]Analysis!BH$75","v":0},{"$f":"[1]Analysis!BI$75","v":0},{"$f":"[1]Analysis!BJ$75","v":0}]
[null,"收費率計算",{"$f":"AVERAGE(S76,AI76)","v":0},null,null,null,null,null,null,null,null,null,null,null,null,null,null,"收費率計算",{"$f":"IFERROR(S75/S71,0)","v":0},{"$f":"IFERROR(T75/T71,0)","v":1.5151006711409396},0,0,0,0,0,0,0,0,4.8801742919389976E-2,0,null,null,null,"收費率計算",{"$f":"IFERROR(AI75/AI71,0)","v":0},{"$f":"IFERROR(AJ75/AJ71,0)","v":0},0,0,0,0,0,0,0,0,0,0]
[null,"費用對比",{"$f":"S77+AI77","v":145.9},null,null,null,null,null,null,null,null,null,null,null,null,null,null,"費用對比",{"$f":"IF(S75-S74<0,0,S75-S74)","v":145.9},{"$f":"IF(T75-T74<0,0,T75-T74)","v":176.57999999999998},230.7,163.80000000000001,0,0,107.1,175.7,337.4,207.55,0,0,{"$f":"SUM(S77:AD77)","v":1544.7299999999998},null,null,"費用對比",{"$f":"IF(AI75-AI74<0,0,AI75-AI74)","v":0},{"$f":"IF(AJ75-AJ74<0,0,AJ75-AJ74)","v":0},0,0,0,0,0,0,0,0,0,0,{"$f":"SUM(AI77:AT77)","v":0}]
[null,"收費率對比",{"$f":"C72-C76","v":0.33},null,null,null,null,null,null,null,null,null,null,null,null,null,null,"收費率對比",{"$f":"IF(S76-S72<S72,0,S76-S72)","v":0},{"$f":"IF(T76-T72<T72,0,T76-T72)","v":1.1851006711409395},0,0,0,0,0,0,0,0,0,0,{"$f":"AVERAGE(S78:AD78)","v":9.8758389261744961E-2},null,null,"收費率對比",{"$f":"IF(AI76-AI72<AI72,0,AI76-AI72)","v":0},{"$f":"IF(AJ76-AJ72<AJ72,0,AJ76-AJ72)","v":0},0,0,0,0,0,0,0,0,0,0,{"$f":"AVERAGE(AI78:AT78)","v":0}]
[]
[null,"FOOD PANDA",null,null,null,null,null,null,null,null,null,null,null,null,null,null,null,"FOOD PANDA",null,null,null,null,null,null,null,null,null,null,null,null,null,null,null,"FOOD PANDA"]
[null,null,"一月","二月","三月","4月","5月","6月","7月","8月","9月","10月","11月","12月","合共",null,null,null,"一月","二月","三月","4月","5月","6月","7月","8月","9月","10月","11月","12月","合共",null,null,null,"一月","二月","三月","4月","5月","6月","7月","8月","9月","10月","11月","12月","合共"]
[null,"付款總額",{"$f":"S82+AI82","v":70},{"$f":"T82+AJ82","v":0},0,599,0,0,0,0,0,0,993,3912,{"$f":"SUM(C82:N82)","v":5574},null,null,"付款總額",{"$f":"[2]GroupItem!$L$7","v":70},{"$f":"[3]GroupItem!$L$7","v":0},{"$f":"[4]GroupItem!$L$7","v":0},{"$f":"[5]GroupItem!$L$7","v":599},{"$f":"[6]GroupItem!$L$7","v":0},{"$f":"[7]GroupItem!$L$7","v":0},{"$f":"[8]GroupItem!$L$7","v":0},{"$f":"[9]GroupItem!$L$7","v":0},{"$f":"[10]GroupItem!$L$7","v":0},{"$f":"[11]GroupItem!$L$7","v":0},{"$f":"[12]GroupItem!$L$7","v":993},{"$f":"[13]GroupItem!$L$7","v":3912},{"$f":"SUM(S82:AD82)","v":5574},null,null,"付款總額",{"$f":"[2]GroupItem!$L$8","v":0},{"$f":"[3]GroupItem!$L$8","v":0},{"$f":"[4]GroupItem!$L$8","v":0},{"$f":"[5]GroupItem!$L$8","v":0},{"$f":"[6]GroupItem!$L$8","v":0},{"$f":"[7]GroupItem!$L$8","v":0},{"$f":"[8]GroupItem!$L$8","v":0},{"$f":"[9]GroupItem!$L$8","v":0},{"$f":"[10]GroupItem!$L$8","v":0},{"$f":"[11]GroupItem!$L$8","v":0},{"$f":"[12]GroupItem!$L$8","v":0},{"$f":"[13]GroupItem!$L$8","v":0},{"$f":"SUM(AI82:AT82)","v":0}]
[null,"設定率",{"$f":"AVERAGE(S83,AI83)","v":0.33},null,null,null,null,null,null,null,null,null,null,null,null,null,null,"設定率",{"$f":"'[14]PAYMENT MASTER'!$D$18","v":0.33},{"$f":"'[14]PAYMENT MASTER'!$D$18","v":0.33},{"$f":"'[14]PAYMENT MASTER'!$D$18","v":0.33},{"$f":"'[14]PAYMENT MASTER'!$D$18","v":0.33},{"$f":"'[14]PAYMENT MASTER'!$D$18","v":0.33},{"$f":"'[14]PAYMENT MASTER'!$D$18","v":0.33},{"$f":"'[14]PAYMENT MASTER'!$D$18","v":0.33},{"$f":"'[14]PAYMENT MASTER'!$D$18","v":0.33},{"$f":"'[14]PAYMENT MASTER'!$D$18","v":0.33},{"$f":"'[14]PAYMENT MASTER'!$D$18","v":0.33},{"$f":"'[14]PAYMENT MASTER'!$D$18","v":0.33},{"$f":"'[14]PAYMENT MASTER'!$D$18","v":0.33},null,null,null,"設定率",{"$f":"'[14]PAYMENT MASTER'!$E$18","v":0.33},{"$f":"$AI$83","v":0.33},{"$f":"$AI$83","v":0.33},0.33,0.33,0.33,0.33,0.33,0.33,0.33,0.33,0.33]
[null,"設定收款",0,null,null,null,null,null,null,null,null,null,null,null,null,null,null,"設定最底收款",{"$f":"'[14]PAYMENT MASTER'!$D$19","v":0},{"$f":"'[14]PAYMENT MASTER'!$D$19","v":0},{"$f":"'[14]PAYMENT MASTER'!$D$19","v":0},{"$f":"'[14]PAYMENT MASTER'!$D$19","v":0},{"$f":"'[14]PAYMENT MASTER'!$D$19","v":0},{"$f":"'[14]PAYMENT MASTER'!$D$19","v":0},{"$f":"'[14]PAYMENT MASTER'!$D$19","v":0},{"$f":"'[14]PAYMENT MASTER'!$D$19","v":0},{"$f":"'[14]PAYMENT MASTER'!$D$19","v":0},{"$f":"'[14]PAYMENT MASTER'!$D$19","v":0},{"$f":"'[14]PAYMENT MASTER'!$D$19","v":0},{"$f":"'[14]PAYMENT MASTER'!$D$19","v":0},null,null,null,"設定收款",{"$f":"'[14]PAYMENT MASTER'!$E$19","v":0},{"$f":"$AI$84","v":0},{"$f":"$AI$84","v":0},0,0,0,0,0,0,0,0,0]
[null,"應付費用",{"$f":"S85+AI85","v":23.1},null,null,null,null,null,null,null,null,null,null,null,null,null,null,"應付費用",{"$f":"IF(S82<S84,S84,S82*S83)","v":23.1},{"$f":"IF(T82<T84,T84,T82*T83)","v":0},0,197.67000000000002,0,0,0,0,0,0,327.69,1290.96,null,null,null,"應付費用",{"$f":"IF(AI82<AI84,AI84,AI82*AI83)","v":0},{"$f":"IF(AJ82<AJ84,AJ84,AJ82*AJ83)","v":0},0,0,0,0,0,0,0,0,0,0]
[null,"會計費用",{"$f":"S86+AI86","v":2295.65},null,null,null,null,null,null,null,null,null,null,null,null,null,null,"會計費用",{"$f":"[1]Analysis!AY$65","v":1471.33},{"$f":"[1]Analysis!AZ$65","v":744.07},{"$f":"[1]Analysis!BA$65","v":272.45},{"$f":"[1]Analysis!BB$65","v":684.74},{"$f":"[1]Analysis!BC$65","v":100.2},{"$f":"[1]Analysis!BD$65","v":0},{"$f":"[1]Analysis!BE$65","v":306.3},{"$f":"[1]Analysis!BF$65","v":900.5},{"$f":"[1]Analysis!BG$65","v":531.73},{"$f":"[1]Analysis!BH$65","v":122.4},{"$f":"[1]Analysis!BI$65","v":176.7},{"$f":"[1]Analysis!BJ$65","v":0},null,null,null,"會計費用",{"$f":"[1]Analysis!AY$76","v":824.32},{"$f":"[1]Analysis!AZ$76","v":747.5},{"$f":"[1]Analysis!BA$76","v":589.04},{"$f":"[1]Analysis!BB$76","v":577.9},{"$f":"[1]Analysis!BC$76","v":696.45},{"$f":"[1]Analysis!BD$76","v":0},{"$f":"[1]Analysis!BE$76","v":752.98},{"$f":"[1]Analysis!BF$76","v":342.53},{"$f":"[1]Analysis!BG$76","v":463.11},{"$f":"[1]Analysis!BH$76","v":385},{"$f":"[1]Analysis!BI$76","v":1319.94},{"$f":"[1]Analysis!BJ$76","v":0}]
[null,"收費率計算",{"$f":"AVERAGE(S87,AI87)","v":10.509499999999999},null,null,null,null,null,null,null,null,null,null,null,null,null,null,"收費率計算",{"$f":"IFERROR(S86/S82,0)","v":21.018999999999998},{"$f":"IFERROR(T86/T82,0)","v":0},0,1.1431385642737897,0,0,0,0,0,0,0.17794561933534742,0,null,null,null,"收費率計算",{"$f":"IFERROR(AI86/AI82,0)","v":0},{"$f":"IFERROR(AJ86/AJ82,0)","v":0},0,0,0,0,0,0,0,0,0,0]
[null,"費用對比",{"$f":"S88+AI88","v":2272.5500000000002},null,null,null,null,null,null,null,null,null,null,null,null,null,null,"費用對比",{"$f":"IF(S86-S85<0,0,S86-S85)","v":1448.23},{"$f":"IF(T86-T85<0,0,T86-T85)","v":744.07},272.45,487.07,100.2,0,306.3,900.5,531.73,122.4,0,0,{"$f":"SUM(S88:AD88)","v":4912.9499999999989},null,null,"費用對比",{"$f":"IF(AI86-AI85<0,0,AI86-AI85)","v":824.32},{"$f":"IF(AJ86-AJ85<0,0,AJ86-AJ85)","v":747.5},589.04,577.9,696.45,0,752.98,342.53,463.11,385,1319.94,0,{"$f":"SUM(AI88:AT88)","v":6698.77}]
[null,"收費率對比",{"$f":"C83-C87","v":-10.179499999999999},null,null,null,null,null,null,null,null,null,null,null,null,null,null,"收費率對比",{"$f":"IF(S87-S83<S83,0,S87-S83)","v":20.689},{"$f":"IF(T87-T83<T83,0,T87-T83)","v":0},0,0.81313856427378961,0,0,0,0,0,0,0,0,{"$f":"AVERAGE(S89:AD89)","v":1.7918448803561491},null,null,"收費率對比",{"$f":"IF(AI87-AI83<AI83,0,AI87-AI83)","v":0},{"$f":"IF(AJ87-AJ83<AJ83,0,AJ87-AJ83)","v":0},0,0,0,0,0,0,0,0,0,0,{"$f":"AVERAGE(AI89:AT89)","v":0}]
[]
[null,"UBEREATS",null,null,null,null,null,null,null,null,null,null,null,null,null,null,null,"UBEREATS",null,null,null,null,null,null,null,null,null,null,null,null,null,null,null,"UBEREATS"]
[null,null,"一月","二月","三月","4月","5月","6月","7月","8月","9月","10月","11月","12月","合共",null,null,null,"一月","二月","三月","4月","5月","6月","7月","8月","9月","10月","11月","12月","合共",null,null,null,"一月","二月","三月","4月","5月","6月","7月","8月","9月","10月","11月","12月","合共"]
[null,"付款總額",{"$f":"S93+AI93","v":0},{"$f":"T93+AJ93","v":0},0,0,0,0,0,0,0,0,0,0,{"$f":"SUM(C93:N93)","v":0},null,null,"付款總額",{"$f":"[2]GroupItem!$O$7","v":0},{"$f":"[3]GroupItem!$O$7","v":0},{"$f":"[4]GroupItem!$O$7","v":0},{"$f":"[5]GroupItem!$O$7","v":0},{"$f":"[6]GroupItem!$O$7","v":0},{"$f":"[7]GroupItem!$O$7","v":0},{"$f":"[8]GroupItem!$O$7","v":0},{"$f":"[9]GroupItem!$O$7","v":0},{"$f":"[10]GroupItem!$O$7","v":0},{"$f":"[11]GroupItem!$O$7","v":0},{"$f":"[12]GroupItem!$O$7","v":0},{"$f":"[13]GroupItem!$O$7","v":0},{"$f":"SUM(S93:AD93)","v":0},null,null,"付款總額",{"$f":"[2]GroupItem!$O$8","v":0},{"$f":"[3]GroupItem!$O$8","v":0},{"$f":"[4]GroupItem!$O$8","v":0},{"$f":"[5]GroupItem!$O$8","v":0},{"$f":"[6]GroupItem!$O$8","v":0},{"$f":"[7]GroupItem!$O$8","v":0},{"$f":"[8]GroupItem!$O$7","v":0},{"$f":"[9]GroupItem!$O$8","v":0},{"$f":"[10]GroupItem!$O$8","v":0},{"$f":"[11]GroupItem!$O$8","v":0},{"$f":"[12]GroupItem!$O$8","v":0},{"$f":"[13]GroupItem!$O$8","v":0},{"$f":"SUM(AI93:AT93)","v":0}]
[null,"設定率",{"$f":"AVERAGE(S94,AI94)","v":0.35},null,null,null,null,null,null,null,null,null,null,null,null,null,null,"設定率",{"$f":"'[14]PAYMENT MASTER'!$D$20","v":0.35},{"$f":"'[14]PAYMENT MASTER'!$D$20","v":0.35},{"$f":"'[14]PAYMENT MASTER'!$D$20","v":0.35},{"$f":"'[14]PAYMENT MASTER'!$D$20","v":0.35},{"$f":"'[14]PAYMENT MASTER'!$D$20","v":0.35},{"$f":"'[14]PAYMENT MASTER'!$D$20","v":0.35},{"$f":"'[14]PAYMENT MASTER'!$D$20","v":0.35},{"$f":"'[14]PAYMENT MASTER'!$D$20","v":0.35},{"$f":"'[14]PAYMENT MASTER'!$D$20","v":0.35},{"$f":"'[14]PAYMENT MASTER'!$D$20","v":0.35},{"$f":"'[14]PAYMENT MASTER'!$D$20","v":0.35},{"$f":"'[14]PAYMENT MASTER'!$D$20","v":0.35},null,null,null,"設定率",{"$f":"'[14]PAYMENT MASTER'!$E$20","v":0.35},{"$f":"$AI$94","v":0.35},{"$f":"$AI$94","v":0.35},0.35,0.35,0.35,0.35,0.35,0.35,0.35,0.35,0.35]
[null,"設定收款",0,null,null,null,null,null,null,null,null,null,null,null,null,null,null,"設定最底收款",{"$f":"'[14]PAYMENT MASTER'!$D$21","v":0},{"$f":"'[14]PAYMENT MASTER'!$D$21","v":0},{"$f":"'[14]PAYMENT MASTER'!$D$21","v":0},{"$f":"'[14]PAYMENT MASTER'!$D$21","v":0},{"$f":"'[14]PAYMENT MASTER'!$D$21","v":0},{"$f":"'[14]PAYMENT MASTER'!$D$21","v":0},{"$f":"'[14]PAYMENT MASTER'!$D$21","v":0},{"$f":"'[14]PAYMENT MASTER'!$D$21","v":0},{"$f":"'[14]PAYMENT MASTER'!$D$21","v":0},{"$f":"'[14]PAYMENT MASTER'!$D$21","v":0},{"$f":"'[14]PAYMENT MASTER'!$D$21","v":0},{"$f":"'[14]PAYMENT MASTER'!$D$21","v":0},null,null,null,"設定收款",{"$f":"'[14]PAYMENT MASTER'!$E$21","v":0},{"$f":"$AI$95","v":0},{"$f":"$AI$95","v":0},0,0,0,0,0,0,0,0,0]
[null,"應付費用",{"$f":"S96+AI96","v":0},null,null,null,null,null,null,null,null,null,null,null,null,null,null,"應付費用",{"$f":"IF(S93<S95,S95,S93*S94)","v":0},{"$f":"IF(T93<T95,T95,T93*T94)","v":0},0,0,0,0,0,0,0,0,0,0,null,null,null,"應付費用",{"$f":"IF(AI93<AI95,AI95,AI93*AI94)","v":0},{"$f":"IF(AJ93<AJ95,AJ95,AJ93*AJ94)","v":0},0,0,0,0,0,0,0,0,0,0]
[null,"會計費用",{"$f":"S97+AI97","v":105.6},null,null,null,null,null,null,null,null,null,null,null,null,null,null,"會計費用",{"$f":"[1]Analysis!AY$66","v":26.24},{"$f":"[1]Analysis!AZ$66","v":0},{"$f":"[1]Analysis!BA$66","v":0},{"$f":"[1]Analysis!BB$66","v":0},{"$f":"[1]Analysis!BC$66","v":0},{"$f":"[1]Analysis!BD$66","v":0},{"$f":"[1]Analysis!BE$66","v":0},{"$f":"[1]Analysis!BF$66","v":0},{"$f":"[1]Analysis!BG$66","v":0},{"$f":"[1]Analysis!BH$66","v":0},{"$f":"[1]Analysis!BI$66","v":0},{"$f":"[1]Analysis!BJ$66","v":0},null,null,null,"會計費用",{"$f":"[1]Analysis!AY$77","v":79.36},{"$f":"[1]Analysis!AZ$77","v":0},{"$f":"[1]Analysis!BA$77","v":53.76},{"$f":"[1]Analysis!BB$77","v":0},{"$f":"[1]Analysis!BC$77","v":0},{"$f":"[1]Analysis!BD$77","v":0},{"$f":"[1]Analysis!BE$77","v":0},{"$f":"[1]Analysis!BF$77","v":139.52000000000001},{"$f":"[1]Analysis!BG$77","v":0},{"$f":"[1]Analysis!BH$77","v":0},{"$f":"[1]Analysis!BI$77","v":0},{"$f":"[1]Analysis!BJ$77","v":0}]
[null,"收費率計算",{"$f":"AVERAGE(S98,AI98)","v":0},null,null,null,null,null,null,null,null,null,null,null,null,null,null,"收費率計算",{"$f":"IFERROR(S97/S93,0)","v":0},{"$f":"IFERROR(T97/T93,0)","v":0},0,0,0,0,0,0,0,0,0,0,null,null,null,"收費率計算",{"$f":"IFERROR(AI97/AI93,0)","v":0},{"$f":"IFERROR(AJ97/AJ93,0)","v":0},0,0,0,0,0,0,0,0,0,0]
[null,"費用對比",{"$f":"S99+AI99","v":105.6},null,null,null,null,null,null,null,null,null,null,null,null,null,null,"費用對比",{"$f":"IF(S97-S96<0,0,S97-S96)","v":26.24},{"$f":"IF(T97-T96<0,0,T97-T96)","v":0},0,0,0,0,0,0,0,0,0,0,{"$f":"SUM(S99:AD99)","v":26.24},null,null,"費用對比",{"$f":"IF(AI97-AI96<0,0,AI97-AI96)","v":79.36},{"$f":"IF(AJ97-AJ96<0,0,AJ97-AJ96)","v":0},53.76,0,0,0,0,139.52000000000001,0,0,0,0,{"$f":"SUM(AI99:AT99)","v":272.64}]
[null,"收費率對比",{"$f":"C94-C98","v":0.35},null,null,null,null,null,null,null,null,null,null,null,null,null,null,"收費率對比",{"$f":"IF(S98-S94<S94,0,S98-S94)","v":0},{"$f":"IF(T98-T94<T94,0,T98-T94)","v":0},0,0,0,0,0,0,0,0,0,0,{"$f":"AVERAGE(S100:AD100)","v":0},null,null,"收費率對比",{"$f":"IF(AI98-AI94<AI94,0,AI98-AI94)","v":0},{"$f":"IF(AJ98-AJ94<AJ94,0,AJ98-AJ94)","v":0},0,0,0,0,0,0,0,0,0,0,{"$f":"AVERAGE(AI100:AT100)","v":0}]

{"sheet":"FoodItem","index":6,"n_rows":1007,"n_cols":21,"rows_kept":1007,"cut":false,"hidden":false,"merged":[]}
["字號","主類別","副類別","次類別","產品名稱","食材分類",null,null,"字號","主類別","副類別",null,null,null,null,"字號","主類別","副類別","次類別","產品名稱","食材分類"]
["品味","中式","中式粉麵飯","中式河","鮮蝦雲吞河","海鮮",null,null,{"$f":"INDIRECT(\"工作表2!M\"&I4)","v":"品味"},{"$f":"INDIRECT(\"工作表2!D\"&J4)","v":"中式"},{"$f":"INDIRECT(\"工作表2!L\"&K4)","v":{"$error":"#NAME?"}},null,null,null,null,"品味","中式","燒味","燒味飯","明爐燒鵝髀飯","鵝"]
["品味","越式","越式粉麵飯","越式河","雞絲扎肉河","雞",null,null,null,null,null,null,null,null,null,"品味","中式","燒味","燒味飯","海蜇燻蹄飯","雜肉"]
["品味","中式","中式粉麵飯","中式河","乾炒牛河","牛",null,null,1,1,2,null,null,null,null,"品味","中式","燒味","淨燒味","紅燒乳鴿","鴿"]
["品味","中式","中式粉麵飯","中式飯","揚州炒飯","粉麵飯",null,null,null,null,null,null,null,null,null,"品味","中式","燒味","淨燒味","燒味三拼","雜肉"]
["品味","中式","中式粉麵飯","中式河","豬扒炒河","豬",null,null,null,null,null,null,null,null,null,"品味","中式","燒味","燒味飯","燒味三寶飯","雜肉"]
["品味","中式","中式粉麵飯","中式飯","田園菜粒炒飯","菜",null,null,null,null,null,null,null,null,null,"品味","中式","燒味","淨燒味","燒味雙拼","雜肉"]
["品味","越式","越式粉麵飯","越式河","豬肚絲豬肉丸湯河","豬",null,null,null,null,null,null,null,null,null,"品味","中式","燒味","燒味飯","明爐燒鵝飯","鵝"]
["品味","中式","中式粉麵飯","中式河","牛肉拼豬手湯河","雜肉",null,null,null,null,null,null,null,null,null,"品味","中式","燒味","燒味飯","脆皮燒腩仔飯","豬"]
["品味","越式","檬","湯檬","蝦餅湯檬","海鮮",null,null,null,null,null,null,null,null,null,"品味","中式","燒味","燒味飯","蜜汁叉燒飯","豬"]
["品味","中式","中式粉麵飯","中式米線","雪菜肉碎豬肉丸米線","豬",null,null,null,null,null,null,null,null,null,"品味","中式","燒味","燒味飯","白切雞飯","雞"]
["品味","中式","中式粉麵飯","中式河","豉油雞湯河粉","雞",null,null,null,null,null,null,null,null,null,"品味","中式","燒味","燒味飯","豉油雞飯","雞"]
["品味","西式","西式粉麵飯","西式粉麵飯菜式","午餐肉肉碎飯","豬",null,null,null,null,null,null,null,null,null,"品味","中式","燒味","燒味飯","燻蹄飯","豬"]
["品味","越式","越式素菜","越式素菜菜式","牙車快","菜",null,null,null,null,null,null,null,null,null,"品味","中式","燒味","燒味飯","白切雞髀飯","雞"]
["和味","中式","中式小菜","中式小菜菜式","水煮斑球","海鮮",null,null,null,null,null,null,null,null,null,"品味","中式","燒味","燒味飯","豉油雞髀飯","雞"]
["品味","越式","越式粉麵飯","越式其他","冬陰功三寶米線","雜肉",null,null,null,null,null,null,null,null,null,"品味","中式","燒味","燒味飯","燒味四寶飯","雜肉"]
["品味","越式","越式粉麵飯","越式河","冬陰功湯三寶湯河","雜肉",null,null,null,null,null,null,null,null,null,"品味","中式","燒味","燒味飯","雙拼飯","雜肉"]
["品味","越式","越式粉麵飯","越式河","冬陰功湯河","雜肉",null,null,null,null,null,null,null,null,null,"品味","中式","燒味","淨燒味","蜜汁叉燒","豬"]
["和味","越式","越式粉麵飯","越式其他","冬陰功三寶米線","雜肉",null,null,null,null,null,null,null,null,null,"品味","中式","燒味","淨燒味","白切農場雞","雞"]
["和味","越式","越式粉麵飯","越式河","冬陰功湯三寶湯河","雜肉",null,null,null,null,null,null,null,null,null,"品味","中式","燒味","淨燒味","白切雞脾","雞"]
["和味","越式","越式粉麵飯","越式河","冬陰功湯三寶湯河","雜肉",null,null,null,null,null,null,null,null,null,"品味","中式","燒味","淨燒味","燒鵝皇","鵝"]
["和味","越式","越式粉麵飯","越式河","冬陰功湯河","雜肉",null,null,null,null,null,null,null,null,null,"品味","中式","燒味","淨燒味","玫瑰豉油雞","雞"]
["品味","越式","越式粉麵飯","越式河","冬陰功湯三寶湯河","雜肉",null,null,null,null,null,null,null,null,null,"品味","中式","燒味","淨燒味","迷你拼盤","雜肉"]
["和味","越式","越式粉麵飯","越式其他","鮮茄三寶米線","雜肉",null,null,null,null,null,null,null,null,null,"品味","中式","燒味","淨燒味","豉油雞脾","雞"]
["品味","越式","越式粉麵飯","越式其他","鮮茄三寶米線","雜肉",null,null,null,null,null,null,null,null,null,"品味","中式","燒味","淨燒味","脆皮三層焼腩仔","豬"]
["和味","越式","越式粉麵飯","越式河","鮮茄三寶湯河","雜肉",null,null,null,null,null,null,null,null,null,"品味","中式","燒味","淨燒味","鵝頭","鵝"]
["品味","越式","越式粉麵飯","越式河","鮮茄三寶湯河","雜肉",null,null,null,null,null,null,null,null,null,"品味","中式","燒味","淨燒味","鹹蛋","鴨"]
["品味","越式","檬","撈檬","迷你春卷撈檬","菜",null,null,null,null,null,null,null,null,null,"品味","中式","燒味","淨燒味","乳豬全體","豬"]
["品味","中式","中式粉麵飯","中式河","鮮蝦雲吞河","海鮮",null,null,null,null,null,null,null,null,null,"品味","中式","燒味","淨燒味","油鴨脾拼臘味","雜肉"]
["品味","中式","中式粉麵飯","中式河","乾炒雑菜河粉","菜"]
["品味","中式","燒味","燒味飯","明爐燒鵝髀飯","鵝"]
["品味","越式","越式粉麵飯","越式飯","香茅雞扒煎蛋飯","雞"]
["品味","越式","越式粉麵飯","越式飯","香茅豬扒飯","豬"]
["品味","越式","越式粉麵飯","越式飯","豬頸肉飯","豬"]
["品味","中式","中式粉麵飯","中式飯","欖菜薑米炒飯","菜"]
["和味","中式","中式小菜","中式小菜菜式","海皇粉絲雑菜煲","海鮮"]
["品味","越式","越式粉麵飯","越式飯","越式三拼飯","雜肉"]
["和味","越式","越式粉麵飯","越式飯","越式三拼飯","雜肉"]
["和味","越式","越式粉麵飯","越式飯","蝦餅肉碎飯","雜肉"]
["品味","越式","越式粉麵飯","越式飯","蝦餅肉碎飯","雜肉"]
["和味","越式","越式粉麵飯","越式飯","蝦餅拼餐肉飯","雜肉"]
["品味","越式","越式粉麵飯","越式飯","蝦餅拼餐肉飯","雜肉"]
["和味","越式","越式粉麵飯","越式飯","餐肉肉碎飯","豬"]
["品味","越式","越式粉麵飯","越式飯","餐肉肉碎飯","豬"]
["品味","中式","燒味","燒味飯","海蜇燻蹄飯","雜肉"]
["和味","越式","檬","湯檬","鮮茄豬肉丸扎肉湯檬","豬"]
["和味","越式","越式粉麵飯","越式河","越式三寶湯河","雜肉"]
["品味","中式","中式頭盤","中式頭盤菜式","酸辣無骨鳯爪","雞"]
["品味","中式","燒味","淨燒味","紅燒乳鴿","鴿"]
["和味","中式","燒味","淨燒味","紅燒乳鴿","鴿"]
["品味","越式","越式素菜","越式素菜菜式","馬拉盞炒通菜","菜"]
["和味","越式","越式素菜","越式素菜菜式","馬拉盞炒通菜","菜"]
["品味","中式","中式頭盤","中式頭盤菜式","涼伴豬耳絲","豬"]
["品味","中式","中式頭盤","中式頭盤菜式","涼伴豬肚絲","豬"]
["和味","中式","中式頭盤","中式頭盤菜式","涼伴豬肚絲","豬"]
["品味","中式","中式頭盤","中式頭盤菜式","手拍青瓜","菜"]
["和味","中式","中式頭盤","中式頭盤菜式","手拍青瓜","菜"]
["品味","中式","中式頭盤","中式頭盤菜式","蔥油海蜇","海鮮"]
["品味","越式","越式小菜","越式小菜菜式","迷你春卷","菜"]
["和味","越式","越式小菜","越式小菜菜式","迷你春卷","菜"]
["品味","中式","中式頭盤","中式頭盤菜式","陳醋雲耳","菜"]
["和味","中式","中式素菜","中式素菜菜式","郊外油菜","菜"]
["品味","西式","西式小食","西式小食菜式","炸雞中翼配薯條","雞"]
["和味","西式","西式小食","西式小食菜式","炸雞中翼配薯條","雞"]
["和味","西式","西式麵包","西式麵包菜式","脆脆豬扒包","包類"]
["品味","西式","西式麵包","西式麵包菜式","脆脆豬扒包","包類"]
["品味","西式","西式麵包","西式麵包菜式","雞扒包","包類"]
["品味","越式","越式麵包","越式麵包菜式","扎肉包","包類"]
["品味","西式","西式小食","西式小食菜式","炸魚柳薯條","海鮮"]
["和味","西式","西式小食","西式小食菜式","炸魚柳薯條","海鮮"]
["和味","西式","西式麵包","西式麵包菜式","西多士","包類"]
["品味","西式","西式麵包","西式麵包菜式","西多士","包類"]
["品味","西式","西式小食","西式小食菜式","雞全翼配蒜蓉包","雞"]
["和味","西式","西式小食","西式小食菜式","雞全翼配蒜蓉包","雞"]
["品味","西式","西式小食","西式小食菜式","豬肉串配薯條","豬"]
["和味","西式","西式小食","西式小食菜式","薯條","菜"]
["品味","西式","西式小食","西式小食菜式","牛肉串配薯條","牛"]
["品味","西式","西式小食","西式小食菜式","雞肉串配薯條","雞"]
["和味","西式","西式麵包","西式麵包菜式","雙拼三文治","包類"]
["品味","西式","西式麵包","西式麵包菜式","雙拼三文治","包類"]
["和味","西式","西式麵包","西式麵包菜式","雙拼多士","包類"]
["品味","西式","西式麵包","西式麵包菜式","雙拼多士","包類"]
["和味","西式","西式麵包","西式麵包菜式","公司三文治","包類"]
["和味","西式","西式麵包","西式麵包菜式","脆脆豬仔包","包類"]
["品味","西式","西式麵包","西式麵包菜式","脆脆豬仔包","包類"]
["品味","西式","西式麵包","西式麵包菜式","菠蘿包","包類"]
["品味","西式","西式麵包","西式麵包菜式","菠蘿油","包類"]
["和味","西式","西式麵包","西式麵包菜式","菠蘿油","包類"]
["和味","中式","中式粉麵飯","中式飯","咖喱牛腩飯","牛"]
["品味","中式","中式粉麵飯","中式飯","咖喱牛腩飯","牛"]
["品味","西式","西式粉麵飯","西式粉麵飯菜式","薯仔雞脾飯","雞"]
["和味","中式","中式小菜","中式小菜菜式","尖椒炒豬肚","豬"]
["品味","中式","中式小菜","中式小菜菜式","尖椒炒豬肚","豬"]
["品味","中式","中式小菜","中式小菜菜式","啫啫通菜蝦乾煲","菜"]
["品味","中式","中式小菜","中式小菜菜式","麻婆豆腐","菜"]
["和味","中式","中式小菜","中式小菜菜式","麻婆豆腐","菜"]
["和味","中式","中式小菜","中式小菜菜式","麻辣豆角炒肥牛","牛"]
["品味","中式","中式小菜","中式小菜菜式","麻辣豆角炒肥牛","牛"]
["和味","中式","中式小菜","中式小菜菜式","啫啫通菜蝦乾煲","菜"]
["和味","中式","中式小菜","中式小菜菜式","蝦醬通菜炒牛肉","牛"]
["品味","中式","中式小菜","中式小菜菜式","蝦醬通菜炒牛肉","牛"]
["品味","中式","中式小菜","中式小菜菜式","鮮茄牛肉","牛"]
["品味","中式","中式小菜","中式小菜菜式","醬爆蝦球","海鮮"]
["和味","中式","中式小菜","中式小菜菜式","醬爆蝦球","海鮮"]
["品味","中式","中式小菜","中式小菜菜式","冬瓜火腩煲","豬"]
["和味","中式","中式小菜","中式小菜菜式","冬瓜火腩煲","豬"]
["品味","中式","中式小菜","中式小菜菜式","枝竹豆卜火腩飯","豬"]
["和味","中式","中式小菜","中式小菜菜式","枝竹豆卜火腩飯","豬"]
["品味","中式","中式小菜","中式小菜菜式","節瓜排骨煲","豬"]
["和味","中式","中式小菜","中式小菜菜式","節瓜排骨煲","豬"]
["品味","中式","中式小菜","中式小菜菜式","鮮茄牛肉","牛"]
["和味","中式","中式小菜","中式小菜菜式","鮮茄牛肉","牛"]
["品味","中式","中式小菜","中式小菜菜式","欖菜肉碎四季豆","雜肉"]
["和味","中式","中式小菜","中式小菜菜式","欖菜肉碎四季豆","雜肉"]
["品味","中式","中式小菜","中式小菜菜式","土魷蒸肉餅","豬"]
["和味","中式","中式小菜","中式小菜菜式","土魷蒸肉餅","豬"]
["品味","中式","中式小菜","中式小菜菜式","南瓜蒸排骨","豬"]
["品味","中式","中式小菜","中式小菜菜式","蝦醬豆卜蒸腩片","海鮮"]
["和味","中式","中式小菜","中式小菜菜式","蝦醬豆卜蒸腩片","海鮮"]
["品味","中式","中式小菜","中式小菜菜式","蟲草花蒸雞","雞"]
["和味","中式","中式小菜","中式小菜菜式","蟲草花蒸雞","雞"]
["品味","中式","中式小菜","中式小菜菜式","鹹蛋蒸肉餅","豬"]
["和味","中式","中式小菜","中式小菜菜式","鹹蛋蒸肉餅","豬"]
["品味","中式","中式小菜","中式小菜菜式","啫啫通菜蝦乾煲","菜"]
["品味","中式","中式小菜","中式小菜菜式","虎皮尖椒肉碎","菜"]
["和味","中式","中式小菜","中式小菜菜式","虎皮尖椒肉碎","菜"]
["品味","中式","中式小菜","中式小菜菜式","茄子班腩煲","海鮮"]
["和味","中式","中式小菜","中式小菜菜式","茄子班腩煲","海鮮"]
["品味","中式","中式小菜","中式小菜菜式","豉椒涼瓜炒鮮魷","海鮮"]
["和味","中式","中式小菜","中式小菜菜式","豉椒涼瓜炒鮮魷","海鮮"]
["和味","中式","中式小菜","中式小菜菜式","啫啫通菜蝦乾煲","菜"]
["品味","中式","中式小菜","中式小菜菜式","粟米魚柳","海鮮"]
["和味","中式","中式小菜","中式小菜菜式","粟米魚柳","海鮮"]
["品味","中式","中式小菜","中式小菜菜式","薑蔥魚腩枝竹煲","海鮮"]
["和味","中式","中式小菜","中式小菜菜式","薑蔥魚腩枝竹煲","海鮮"]
["品味","中式","中式小菜","中式小菜菜式","西芹雲耳炒雞柳","雞"]
["和味","中式","中式小菜","中式小菜菜式","西芹雲耳炒雞柳","雞"]
["品味","中式","中式小菜","中式小菜菜式","豆豉凌魚油麥菜炒扎肉","雜肉"]
["品味","中式","中式小菜","中式小菜菜式","沙嗲金菇肥牛粉絲煲","牛"]
["和味","中式","中式小菜","中式小菜菜式","沙嗲金菇肥牛粉絲煲","牛"]
["和味","中式","中式小菜","中式小菜菜式","豆豉凌魚油麥菜炒扎肉","雜肉"]
["和味","中式","中式小菜","中式小菜菜式","青瓜雲耳炒牛肉","牛"]
["品味","中式","中式小菜","中式小菜菜式","蒜心炒蝦球","海鮮"]
["和味","中式","中式小菜","中式小菜菜式","蒜心炒蝦球","海鮮"]
["品味","中式","中式小菜","中式小菜菜式","薑蔥蒸黃花魚","海鮮"]
["和味","中式","中式海鮮","中式海鮮菜式","薑蔥蒸黃花魚","海鮮"]
["品味","中式","中式小菜","中式小菜菜式","XO\u007f醬雜菇炒蝦球\u007f","海鮮"]
["和味","中式","中式小菜","中式小菜菜式","XO\u007f醬雜菇炒蝦球\u007f","海鮮"]
["品味","中式","中式小菜","中式小菜菜式","XO\u007f醬雜菇炒雞球\u007f","雞"]
["和味","中式","中式小菜","中式小菜菜式","XO\u007f醬雜菇炒雞球\u007f","雞"]
["品味","中式","中式海鮮","中式海鮮菜式","果皮蒸泥孟","海鮮"]
["和味","中式","中式小菜","中式海鮮菜式","果皮蒸泥孟","海鮮"]
["品味","中式","中式小菜","中式小菜菜式","海皇粉絲雑菜煲","海鮮"]
["和味","中式","中式小菜","中式小菜菜式","海皇粉絲雑菜煲","海鮮"]
["品味","中式","中式海鮮","中式海鮮菜式","豉汁蒸盲曹","海鮮"]
["和味","中式","中式海鮮","中式海鮮菜式","豉汁蒸盲曹","海鮮"]
["品味","中式","中式小菜","中式小菜菜式","雲吞雞煲","雞"]
["品味","中式","中式小菜","中式小菜菜式","翠玉瓜炒蝦球","海鮮"]
["和味","中式","中式小菜","中式小菜菜式","翠玉瓜炒蝦球","海鮮"]
["品味","中式","燒味","淨燒味","燒味三拼","雜肉"]
["和味","中式","燒味","淨燒味","燒味三拼","雜肉"]
["品味","中式","燒味","淨燒味","燒味三拼","雜肉"]
["品味","中式","燒味","燒味飯","燒味三寶飯","雜肉"]
["和味","中式","燒味","燒味飯","燒味三寶飯","雜肉"]
["和味","中式","燒味","淨燒味","燒味雙拼","雜肉"]
["和味","中式","燒味","淨燒味","燒味雙拼","雜肉"]
["品味","中式","燒味","淨燒味","燒味雙拼","雜肉"]
["品味","中式","中式海鮮","中式海鮮菜式","鮑魚拼鮑片","海鮮"]
["和味","中式","中式海鮮","中式海鮮菜式","鮑魚拼鮑片","海鮮"]
["品味","越式","越式粉麵飯","越式飯","香茅牛肉餐肉飯","雜肉"]
["和味","越式","越式粉麵飯","越式飯","香茅牛肉煎蛋飯","牛"]
["品味","越式","越式粉麵飯","越式飯","香茅牛肉煎蛋飯","牛"]
["和味","越式","越式粉麵飯","越式飯","香茅牛肉餐肉飯","雜肉"]
["品味","越式","越式粉麵飯","越式飯","香茅雞扒拼餐肉飯","雞"]
["和味","越式","越式粉麵飯","越式飯","香茅雞翼煎蛋飯","雞"]
["品味","越式","越式粉麵飯","越式飯","香茅雞翼煎蛋飯","雞"]
["品味","西式","西式粉麵飯","西式粉麵飯菜式","豬扒餐肉飯","豬"]
["和味","西式","西式粉麵飯","西式粉麵飯菜式","豬扒餐肉飯","豬"]
["和味","西式","西式粉麵飯","西式粉麵飯菜式","豬頸肉煎蛋飯","豬"]
["品味","西式","西式粉麵飯","西式粉麵飯菜式","豬頸肉煎蛋飯","豬"]
["和味","西式","西式粉麵飯","西式粉麵飯菜式","雞扒餐肉飯","雜肉"]
["和味","越式","越式粉麵飯","越式河","牛肉拼豬肉丸湯河","雜肉"]
["品味","越式","越式粉麵飯","越式河","牛肉拼豬肉丸湯河","雜肉"]
["和味","越式","越式粉麵飯","越式河","牛肉拼豬肚絲湯河","雜肉"]
["品味","越式","越式粉麵飯","越式河","牛肉拼豬肚絲湯河","雜肉"]
["和味","中式","中式粉麵飯","中式飯","南乳豬手飯","豬"]
["品味","中式","中式粉麵飯","中式飯","南乳豬手飯","豬"]
["和味","越式","越式粉麵飯","越式河","豬肚絲拼扎肉湯河","雜肉"]
["品味","越式","越式粉麵飯","越式河","豬肚絲拼扎肉湯河","雜肉"]
["品味","越式","越式粉麵飯","越式河","牛肉拼豬肉丸湯河","雜肉"]
["品味","西式","西式粉麵飯","西式粉麵飯菜式","雞絲煎蛋通粉","粉麵飯"]
["品味","越式","越式粉麵飯","越式河","河內生牛肉湯河","牛"]
["品味","越式","越式粉麵飯","越式河","香茅豬扒湯河","豬"]
["品味","越式","越式粉麵飯","越式河","牛肉拼豬肚絲湯河","雜肉"]
["品味","越式","越式粉麵飯","越式河","牛肉拼豬肚絲湯河","雜肉"]
["品味","越式","越式粉麵飯","越式河","豬肉丸拼豬肚絲湯河","雜肉"]
["品味","越式","檬","湯檬","豬肉丸拼豬肚絲湯檬","豬"]
["品味","中式","中式粉麵飯","中式其他","雪菜肉碎拼紅腸米粉","雜肉"]
["品味","越式","檬","湯檬","香茅雞扒湯檬","雞"]
["品味","中式","中式粉麵飯","中式河","雪菜肉碎拼雲吞河","雜肉"]
["品味","越式","越式粉麵飯","越式河","香茅豬扒拼春卷河","豬"]
["和味","中式","中式粉麵飯","中式米線","牛肉拼豬手米線","雜肉"]
["品味","中式","中式粉麵飯","中式米線","牛肉拼豬手米線","雜肉"]
["品味","越式","越式粉麵飯","越式河","牛肉拼豬肉丸湯河","雜肉"]
["和味","越式","越式粉麵飯","越式河","牛肉拼豬肉丸湯河","雜肉"]
["品味","其他","餐牌其他","套餐","午餐套餐","無分類"]
["品味","越式","檬","湯檬","豬肉丸拼雞絲湯檬","豬"]
["和味","越式","檬","湯檬","豬肉丸拼雞絲湯檬","豬"]
["和味","越式","檬","湯檬","豬頸肉拼春卷湯檬","豬"]
["品味","越式","檬","湯檬","豬頸肉拼春卷湯檬","豬"]
["和味","越式","檬","湯檬","雞扒拼春卷湯檬","雞"]
["品味","越式","檬","湯檬","雞扒拼春卷湯檬","雞"]
["品味","中式","中式粉麵飯","中式飯","南乳豬手飯","豬"]
["和味","中式","中式粉麵飯","中式飯","南乳豬手飯","豬"]
["品味","西式","西式粉麵飯","西式粉麵飯菜式","雞翼煎蛋飯","雞"]
["和味","西式","西式粉麵飯","西式粉麵飯菜式","雞翼煎蛋飯","雞"]
["品味","越式","越式粉麵飯","越式河","豬肚絲豬肉丸湯河","雜肉"]
["和味","越式","越式粉麵飯","越式河","豬肚絲豬肉丸湯河","雜肉"]
["品味","中式","中式粉麵飯","中式飯","叉燒鹹蛋飯","豬"]
["和味","中式","中式粉麵飯","中式飯","叉燒鹹蛋飯","豬"]
["品味","中式","中式粉麵飯","中式飯","滑蛋蝦仁飯","海鮮"]
["和味","中式","中式粉麵飯","中式飯","滑蛋蝦仁飯","海鮮"]
["品味","西式","西式粉麵飯","西式粉麵飯菜式","腸仔餐肉煎蛋公仔麵","雜肉"]
["品味","中式","中式粉麵飯","中式河","雪菜豬耳絲湯河","豬"]
["和味","中式","中式粉麵飯","中式河","雪菜豬耳絲湯河","豬"]
["品味","中式","中式粉麵飯","中式河","雪菜豬肚絲湯河","豬"]
["和味","中式","中式粉麵飯","中式河","雪菜豬肚絲湯河","豬"]
["品味","越式","越式粉麵飯","越式其他","豬扒拼春卷米線","豬"]
["和味","越式","越式粉麵飯","越式其他","豬扒拼春卷米線","豬"]
["品味","越式","檬","撈檬","豬扒雞絲撈檬","雜肉"]
["和味","越式","檬","撈檬","豬扒雞絲撈檬","雜肉"]
["品味","越式","檬","撈檬","豬頸肉拼春卷撈檬","豬"]
["和味","越式","檬","撈檬","豬頸肉拼春卷撈檬","豬"]
["品味","越式","越式粉麵飯","越式河","雞扒拼春卷湯河","雞"]
["和味","越式","越式粉麵飯","越式河","雞扒拼春卷湯河","雞"]
["品味","西式","西式粉麵飯","西式粉麵飯菜式","午餐肉煎蛋公仔麵","豬"]
["和味","越式","檬","撈檬","香茅牛肉豬耳絲撈檬","牛"]
["品味","越式","檬","撈檬","香茅牛肉豬耳絲撈檬","牛"]
["品味","越式","檬","撈檬","香茅雞扒拼春卷撈檬","雞"]
["和味","越式","檬","撈檬","蝦餅拼豬扒撈檬","雜肉"]
["品味","越式","檬","撈檬","蝦餅拼豬扒撈檬","雜肉"]
["和味","越式","檬","撈檬","豬頸肉拼扎肉撈檬","豬"]
["品味","越式","檬","撈檬","豬頸肉拼扎肉撈檬","豬"]
["和味","越式","檬","撈檬","豬頸肉拼春卷撈檬","豬"]
["品味","越式","檬","撈檬","豬頸肉拼春卷撈檬","豬"]
["和味","越式","檬","撈檬","雞扒拼春卷撈檬","雞"]
["品味","西式","西式粉麵飯","西式粉麵飯菜式","叉燒煎蛋通粉","豬"]
["品味","越式","越式粉麵飯","越式河","雞絲扎肉河","雞"]
["品味","越式","檬","撈檬","香茅牛肉撈檬","牛"]
["品味","中式","燒味","燒味飯","明爐燒鵝飯","鵝"]
["和味","越式","越式粉麵飯","越式河","品味湯河粉","雜肉"]
["和味","越式","越式粉麵飯","越式其他","越式炒金邊粉","粉麵飯"]
["和味","西式","西式粉麵飯","西式粉麵飯菜式","豬扒煎蛋飯","豬"]
["和味","中式","中式粉麵飯","中式飯","揚州炒飯","海鮮"]
["和味","中式","燒味","燒味飯","脆皮燒腩仔飯","豬"]
["和味","中式","燒味","燒味飯","蜜汁叉燒飯","豬"]
["和味","越式","越式粉麵飯","越式河","河內生牛肉湯河","牛"]
["品味","越式","越式粉麵飯","越式河","河內生牛肉湯河","牛"]
["和味","其他","餐牌其他","套餐","早餐套餐","無分類"]
["品味","中式","燒味","燒味飯","燒味三寶飯","雜肉"]
["和味","中式","燒味","燒味飯","燒味三寶飯","雜肉"]
["和味","越式","檬","撈檬","蝦餅扎肉撈檬","雜肉"]
["和味","越式","檬","撈檬","迷你春卷撈檬","菜"]
["和味","越式","檬","撈檬","香茅牛肉撈檬","牛"]
["和味","越式","檬","湯檬","鮮茄蟹肉丸湯檬","海鮮"]
["和味","西式","西式粉麵飯","西式粉麵飯菜式","雞翼拼豬頸肉飯","雜肉"]
["和味","越式","越式粉麵飯","越式飯","香葉肉碎伴太陽蛋飯","雜肉"]
["品味","中式","燒味","燒味飯","脆皮燒腩仔飯","豬"]
["品味","其他","餐牌其他","套餐","早餐套餐","粉麵飯"]
["和味","其他","餐牌其他","套餐","早餐套餐","粉麵飯"]
["品味","其他","餐牌其他","套餐","早餐套餐","粉麵飯"]
["和味","其他","餐牌其他","套餐","早餐套餐","粉麵飯"]
["品味","其他","餐牌其他","套餐","早餐套餐","粉麵飯"]
["品味","其他","餐牌其他","套餐","早餐套餐","包類"]
["和味","其他","餐牌其他","套餐","早餐套餐","包類"]
["品味","越式","越式粉麵飯","越式其他","越式雙拼麵","粉麵飯"]
["和味","越式","越式粉麵飯","越式其他","越式雙拼麵","粉麵飯"]
["品味","越式","越式粉麵飯","越式河","香茅雞扒湯河","豬"]
["品味","越式","越式粉麵飯","越式河","香茅雞扒湯河","雞"]
["和味","越式","越式粉麵飯","越式河","香茅雞扒湯河","雞"]
["品味","其他","餐牌其他","套餐","早餐套餐","雜肉"]
["和味","其他","餐牌其他","套餐","早餐套餐","雜肉"]
["品味","中式","燒味","燒味飯","蜜汁叉燒飯","豬"]
["品味","中式","燒味","燒味飯","白切雞飯","雞"]
["和味","越式","越式小菜","越式小菜菜式","香茅豬扒","豬"]
["和味","越式","越式小菜","越式小菜菜式","香茅雞扒","雞"]
["品味","越式","越式粉麵飯","越式飯","馬拉盞時蔬飯","菜"]
["和味","中式","中式素菜","中式素菜菜式","蒜蓉炒時蔬","菜"]
["品味","中式","中式粉麵飯","中式飯","蒜蓉炒時蔬飯","菜"]
["和味","越式","越式素菜","越式素菜菜式","馬拉盞炒通菜","菜"]
["和味","中式","中式頭盤","中式頭盤菜式","和味三小拼(海蜇.叉燒.青瓜)","雜肉"]
["和味","中式","中式海鮮","中式海鮮菜式","豉汁蒸鱔","海鮮"]
["和味","中式","中式海鮮","中式海鮮菜式","豉汁蒸鱔","海鮮"]
["品味","中式","中式海鮮","中式海鮮菜式","豉汁蒸鱔","海鮮"]
["品味","中式","中式小菜","中式小菜菜式","薑蔥魚頭煲","海鮮"]
["和味","中式","中式小菜","中式小菜菜式","薑蔥魚頭煲","海鮮"]
["和味","中式","中式小菜","中式小菜菜式","菜心炒牛肉","牛"]
["和味","中式","中式小菜","中式小菜菜式","通菜炒鮮魷","海鮮"]
["品味","越式","檬","撈檬","蝦餅扎肉撈檬","雜肉"]
["和味","中式","中式小菜","中式小菜菜式","肉碎茄子煲","雜肉"]
["品味","中式","中式海鮮","中式海鮮菜式","豉汁蒸倉魚","海鮮"]
["和味","中式","中式粉麵飯","中式飯","椒鹽鮮魷飯","海鮮"]
["品味","中式","中式粉麵飯","中式飯","椒鹽鮮魷飯","海鮮"]
["品味","中式","燒味","燒味飯","豉油雞飯","雞"]
["品味","中式","燒味","燒味飯","明爐燒鵝髀飯","鵝"]
["品味","越式","越式粉麵飯","越式飯","香茅豬扒飯","豬"]
["和味","中式","燒味","燒味飯","燒味三寶飯","雜肉"]
["品味","越式","越式粉麵飯","越式飯","香茅雞扒飯","雞"]
["品味","中式","燒味","燒味飯","燒味三寶飯","雜肉"]
["和味","中式","燒味","燒味飯","燒味四寶飯","雜肉"]
["品味","越式","越式粉麵飯","越式飯","豬頸肉飯","豬"]
["品味","中式","中式粉麵飯","中式飯","咖喱牛腩飯","牛"]
["品味","越式","越式粉麵飯","越式河","河內生牛肉湯河","牛"]
["品味","越式","越式粉麵飯","越式河","雞絲扎肉河","雞"]
["品味","越式","越式粉麵飯","越式其他","越式炒金邊粉","粉麵飯"]
["和味","中式","中式粉麵飯","中式河","豉油皇野菌炒河粉","菜"]
["品味","中式","中式粉麵飯","中式飯","咖喱牛腩飯","牛"]
["品味","西式","西式粉麵飯","西式粉麵飯菜式","豬扒煎蛋飯","豬"]
["品味","中式","中式粉麵飯","中式河","鮮蝦雲吞河","海鮮"]
["和味","中式","中式粉麵飯","中式河","鮮蝦雲吞河","海鮮"]
["和味","中式","中式粉麵飯","中式河","乾炒牛河","牛"]
["品味","中式","中式粉麵飯","中式河","乾炒牛河","牛"]
["和味","中式","中式粉麵飯","中式飯","肉碎茄子飯","雜肉"]
["品味","中式","中式粉麵飯","中式飯","揚州炒飯","粉麵飯"]
["和味","中式","中式粉麵飯","中式飯","揚州炒飯","粉麵飯"]
["和味","越式","越式粉麵飯","越式河","和味皇牌湯河","粉麵飯"]
["品味","越式","越式粉麵飯","越式河","品味湯河粉","粉麵飯"]
["品味","越式","越式粉麵飯","越式飯","越式炒飯","雜肉"]
["和味","越式","越式粉麵飯","越式飯","越式炒飯","雜肉"]
["品味","中式","燒味","燒味飯","明爐燒鵝飯","鵝"]
["品味","中式","燒味","燒味飯","脆皮燒腩仔飯","豬"]
["品味","中式","燒味","燒味飯","燻蹄飯","豬"]
["品味","中式","燒味","燒味飯","蜜汁叉燒飯","豬"]
["品味","中式","燒味","燒味飯","白切雞飯","雞"]
["品味","中式","燒味","燒味飯","豉油雞飯","雞"]
["品味","中式","燒味","燒味飯","明爐燒鵝髀飯","鵝"]
["品味","中式","燒味","燒味飯","白切雞髀飯","雞"]
["品味","中式","燒味","燒味飯","豉油雞髀飯","雞"]
["品味","中式","燒味","燒味飯","海蜇燻蹄飯","雜肉"]
["品味","中式","中式粉麵飯","中式飯","菠蘿海鮮炒飯","海鮮"]
["和味","中式","燒味","燒味飯","海蜇燻蹄飯","雜肉"]
["和味","中式","中式粉麵飯","中式飯","菠蘿海鮮炒飯","海鮮"]
["品味","越式","越式粉麵飯","越式河","河內生牛肉湯河","牛"]
["品味","中式","中式粉麵飯","中式飯","肉碎茄子飯","雜肉"]
["品味","中式","燒味","燒味飯","燒味四寶飯","雜肉"]
["品味","越式","檬","撈檬","蝦餅扎肉撈檬","雜肉"]
["品味","越式","檬","撈檬","迷你春卷撈檬","菜"]
["品味","越式","檬","撈檬","雞絲扎肉芝麻醬撈檬","雞"]
["品味","越式","檬","撈檬","香茅牛肉撈檬","牛"]
["品味","越式","檬","湯檬","鮮茄蟹肉丸湯檬","海鮮"]
["品味","西式","西式粉麵飯","西式粉麵飯菜式","雞翼拼豬頸肉飯","雜肉"]
["品味","越式","越式粉麵飯","越式飯","香葉肉碎伴太陽蛋飯","雜肉"]
["品味","中式","中式粉麵飯","中式飯","菠蘿海鮮炒飯","海鮮"]
["品味","越式","越式粉麵飯","越式其他","越式炒金邊粉","粉麵飯"]
["品味","飲料","無酒精","熱飲","熱檸檬茶","飲品"]
["品味","飲料","無酒精","熱飲","熱檸檬水","飲品"]
["品味","飲料","無酒精","熱飲","熱咖啡","飲品"]
["品味","飲料","無酒精","熱飲","熱檸蜜","飲品"]
["品味","飲料","無酒精","熱飲","熱檸樂","飲品"]
["品味","中式","燒味","燒味飯","豉油雞髀飯","雞"]
["品味","中式","燒味","淨燒味","紅燒乳鴿","鴿"]
["品味","中式","中式頭盤","中式頭盤菜式","涼伴豬肚絲","豬"]
["和味","中式","中式頭盤","中式頭盤菜式","涼伴豬肚絲","豬"]
["品味","中式","中式頭盤","中式頭盤菜式","手拍青瓜","菜"]
["品味","中式","中式頭盤","中式頭盤菜式","陳醋雲耳","菜"]
["品味","中式","中式頭盤","中式頭盤菜式","酸辣無骨鳯爪","雞"]
["品味","越式","越式素菜","越式素菜菜式","馬拉盞炒通菜","菜"]
["和味","中式","中式頭盤","中式頭盤菜式","涼伴豬耳絲","豬"]
["品味","中式","中式頭盤","中式頭盤菜式","涼伴豬耳絲","豬"]
["品味","越式","越式小菜","越式小菜菜式","越式炸蝦餅","海鮮"]
["和味","越式","越式小菜","越式小菜菜式","越式炸蝦餅","海鮮"]
["品味","越式","越式小菜","越式小菜菜式","迷你春卷","菜"]
["和味","越式","越式粉麵飯","越式河","河内雞絲湯河","雞"]
["和味","西式","西式粉麵飯","西式粉麵飯菜式","豬頸肉炒公仔麵","豬"]
["和味","中式","中式粉麵飯","中式其他","馬来炒貴刁","粉麵飯"]
["品味","西式","西式小食","西式小食菜式","炸雞中翼配薯條","雞"]
["品味","西式","西式小食","西式小食菜式","炸魚柳薯條","海鮮"]
["和味","西式","西式小食","西式小食菜式","炸魚柳薯條","海鮮"]
["和味","越式","越式粉麵飯","越式河","越南扎肉湯河","豬"]
["品味","西式","西式小食","西式小食菜式","雞全翼配蒜蓉包","雞"]
["品味","越式","越式麵包","越式麵包菜式","越式三文治","包類"]
["品味","西式","西式麵包","西式麵包菜式","雙拼三文治","包類"]
["品味","西式","西式麵包","西式麵包菜式","雙拼多士","包類"]
["品味","西式","西式麵包","西式麵包菜式","脆脆豬仔包","包類"]
["品味","西式","西式麵包","西式麵包菜式","菠蘿油","包類"]
["和味","越式","越式粉麵飯","越式河","迷你春卷湯河","菜"]
["和味","越式","檬","撈檬","蝦餅扎肉撈檬","雜肉"]
["和味","中式","中式粉麵飯","中式其他","和味焼鵝濑","鵝"]
["和味","西式","西式粉麵飯","西式粉麵飯菜式","豬扒炒公仔麵","豬"]
["和味","西式","西式粉麵飯","西式粉麵飯菜式","雞扒炒公仔麵","雞"]
["和味","其他","餐牌其他","套餐","午餐套餐","無分類"]
["品味","飲料","酒精","酒精款式","二鍋頭(細)","酒類"]
["品味","飲料","無酒精","熱飲","凍好立克","飲品"]
["品味","其他","餐牌其他","套餐","早餐套餐","無分類"]
["品味","飲料","無酒精","特飲","三色冰","飲品"]
["品味","中式","燒味","燒味飯","雙拼飯","雜肉"]
["品味","中式","燒味","燒味飯","蜜汁叉燒飯","豬"]
["和味","中式","燒味","燒味飯","蜜汁叉燒飯","豬"]
["品味","中式","燒味","燒味飯","白切雞飯","雞"]
["和味","中式","燒味","燒味飯","明爐燒鵝飯","鵝"]
["品味","中式","燒味","燒味飯","明爐燒鵝飯","鵝"]
["品味","中式","燒味","燒味飯","豉油雞飯","雞"]
["品味","中式","燒味","燒味飯","脆皮燒腩仔飯","豬"]
["和味","中式","燒味","燒味飯","海蜇燻蹄飯","雜肉"]
["品味","越式","越式小菜","越式小菜菜式","香茅雞翼","雞"]
["和味","越式","檬","撈檬","香茅雞翼撈檬","雞"]
["品味","越式","檬","湯檬","鮮茄豬肉丸扎肉湯檬","豬"]
["品味","越式","越式粉麵飯","越式其他","馬拉盞野菌炒金邊粉","菜"]
["品味","越式","越式粉麵飯","越式河","河內生牛肉湯河","牛"]
["和味","越式","越式粉麵飯","越式河","河內生牛肉湯河","牛"]
["品味","越式","越式粉麵飯","越式河","越式三寶湯河","雜肉"]
["和味","越式","越式粉麵飯","越式河","雞絲扎肉河","雞"]
["和味","越式","檬","撈檬","迷你春卷撈檬","菜"]
["品味","越式","越式粉麵飯","越式河","迷你春卷湯河","菜"]
["和味","中式","中式粉麵飯","中式河","乾炒牛河","牛"]
["品味","越式","越式粉麵飯","越式其他","越式炒金邊粉","粉麵飯"]
["品味","越式","越式粉麵飯","越式飯","香葉肉碎伴太陽蛋飯","雜肉"]
["品味","越式","越式粉麵飯","越式飯","豬頸肉飯","豬"]
["品味","越式","越式粉麵飯","越式飯","香茅豬扒飯","豬"]
["品味","越式","越式粉麵飯","越式飯","香茅雞扒飯","雞"]
["和味","西式","西式粉麵飯","西式粉麵飯菜式","雞扒飯","雞"]
["和味","中式","中式粉麵飯","中式飯","揚州炒飯","粉麵飯"]
["品味","越式","越式粉麵飯","越式飯","越式炒飯","粉麵飯"]
["和味","越式","越式粉麵飯","越式飯","越式炒飯","粉麵飯"]
["和味","中式","中式頭盤","中式頭盤菜式","酸辣無骨鳯爪","雞"]
["和味","中式","中式頭盤","中式頭盤菜式","蔥油海蜇","海鮮"]
["品味","越式","越式麵包","越式麵包菜式","越式三文治","包類"]
["和味","中式","中式粉麵飯","中式河","豬扒炒河","豬"]
["和味","中式","中式粉麵飯","中式河","豬扒炒河","豬"]
["和味","中式","中式粉麵飯","中式飯","田園菜粒炒飯","菜"]
["和味","越式","越式粉麵飯","越式河","豬肚絲豬肉丸湯河","豬"]
["和味","越式","越式粉麵飯","越式河","豬肚絲豬肉丸湯河","豬"]
["和味","中式","中式粉麵飯","中式河","豬手牛肉湯河","雜肉"]
["和味","中式","中式粉麵飯","中式河","豬手牛肉湯河","雜肉"]
["和味","越式","檬","湯檬","蝦餅湯檬","海鮮"]
["和味","越式","檬","湯檬","蝦餅湯檬","海鮮"]
["和味","中式","中式粉麵飯","中式米線","豬肉丸雪菜米線","豬"]
["和味","中式","中式粉麵飯","中式河","油雞湯河","雞"]
["和味","西式","西式粉麵飯","西式粉麵飯菜式","午餐肉肉碎飯","豬"]
["和味","中式","中式粉麵飯","中式飯","涼瓜牛肉飯","牛"]
["品味","中式","中式頭盤","中式頭盤菜式","蔥油海蜇","海鮮"]
["和味","越式","檬","撈檬","蝦餅扎肉撈檬","雜肉"]
["和味","中式","中式粉麵飯","中式飯","叉燒炒滑蛋飯","豬"]
["品味","中式","燒味","淨燒味","蜜汁叉燒","豬"]
["品味","中式","燒味","淨燒味","蜜汁叉燒","豬"]
["品味","中式","中式小菜","中式小菜菜式","叉燒炒滑蛋","豬"]
["品味","中式","中式粉麵飯","中式飯","叉燒炒滑蛋飯","豬"]
["品味","中式","中式粉麵飯","中式河","鮮蝦雲吞河","海鮮"]
["品味","其他","餐牌其他","雜項","雜項","無分類"]
["品味","西式","西式麵包","西式麵包菜式","公司三文治","包類"]
["和味","其他","餐牌其他","套餐","午餐套餐","無分類"]
["品味","其他","餐牌其他","套餐","午餐套餐","無分類"]
["和味","其他","餐牌其他","套餐","午餐套餐","無分類"]
["和味","其他","餐牌其他","套餐","午餐套餐","無分類"]
["品味","其他","餐牌其他","套餐","午餐套餐","無分類"]
["和味","其他","餐牌其他","套餐","午餐套餐","無分類"]
["和味","其他","餐牌其他","套餐","午餐套餐","無分類"]
["品味","其他","餐牌其他","套餐","午餐套餐","無分類"]
["和味","其他","餐牌其他","套餐","午餐套餐","無分類"]
["和味","其他","餐牌其他","套餐","午餐套餐","無分類"]
["品味","其他","餐牌其他","套餐","午餐套餐","無分類"]
["和味","其他","餐牌其他","套餐","午餐套餐","無分類"]
["和味","其他","餐牌其他","套餐","午餐套餐","無分類"]
["品味","其他","餐牌其他","套餐","午餐套餐","無分類"]
["和味","其他","餐牌其他","套餐","午餐套餐","無分類"]
["和味","其他","餐牌其他","套餐","午餐套餐","無分類"]
["品味","其他","餐牌其他","套餐","午餐套餐","無分類"]
["和味","其他","餐牌其他","套餐","午餐套餐","無分類"]
["品味","其他","餐牌其他","套餐","午餐套餐","無分類"]
["和味","其他","餐牌其他","套餐","午餐套餐","無分類"]
["和味","其他","餐牌其他","套餐","午餐套餐","無分類"]
["品味","中式","中式頭盤","中式頭盤菜式","手拍青瓜","菜"]
["品味","越式","越式海鮮","越式海鮮菜式","水煮鯇魚","海鮮"]
["和味","中式","中式粉麵飯","中式飯","豆腐火腩飯","豬"]
["和味","中式","中式小菜","中式小菜菜式","豆腐火腩煲","豬"]
["品味","越式","越式素菜","越式素菜菜式","牙車快","菜"]
["品味","其他","餐牌其他","雜項","雜項","無分類"]
["和味","其他","餐牌其他","雜項","雜項","無分類"]
["品味","飲料","無酒精","特飲","可樂","飲品"]
["品味","中式","燒味","燒味飯","燒味四寶飯","雜肉"]
["品味","其他","餐牌其他","雜項","雜項","無分類"]
["品味","其他","餐牌其他","雜項","雜項","無分類"]
["和味","其他","餐牌其他","雜項","雜項","無分類"]
["品味","飲料","無酒精","熱飲","熱鴛鴦","飲品"]
["和味","飲料","無酒精","熱飲","熱鴛鴦","飲品"]
["品味","飲料","無酒精","熱飲","熱鴛鴦","飲品"]
["品味","西式","西式麵包","西式麵包菜式","奶油豬仔包","包類"]
["品味","西式","西式麵包","西式麵包菜式","奶油豬仔包","包類"]
["品味","飲料","無酒精","熱飲","熱奶茶","飲品"]
["和味","飲料","無酒精","熱飲","熱奶茶","飲品"]
["和味","西式","西式麵包","西式麵包菜式","奶醬包","包類"]
["品味","飲料","無酒精","熱飲","凍阿華田","飲品"]
["品味","中式","中式粉麵飯","中式飯","田園菜粒炒飯","菜"]
["品味","中式","燒味","淨燒味","白切農場雞","雞"]
["品味","中式","燒味","淨燒味","白切農場雞","雞"]
["品味","中式","燒味","淨燒味","白切雞脾","雞"]
["品味","中式","中式粉麵飯","中式飯","白飯","粉麵飯"]
["品味","中式","中式粉麵飯","中式飯","白飯","粉麵飯"]
["和味","中式","中式粉麵飯","中式飯","白飯","粉麵飯"]
["和味","中式","中式粉麵飯","中式飯","白飯","粉麵飯"]
["和味","越式","檬","撈檬","蝦餅扎肉撈檬","雜肉"]
["和味","越式","檬","撈檬","蝦餅扎肉撈檬","雜肉"]
["和味","越式","檬","撈檬","鮮蝦撈檬","海鮮"]
["品味","西式","西式麵包","西式麵包菜式","奶油多","包類"]
["品味","西式","西式麵包","西式麵包菜式","奶油豬仔包","包類"]
["品味","西式","西式麵包","西式麵包菜式","菠蘿包","包類"]
["品味","飲料","無酒精","熱飲","熱巧克力","飲品"]
["品味","中式","中式粉麵飯","中式其他","米粉","粉麵飯"]
["品味","中式","中式粉麵飯","中式飯","肉碎茄子飯","雜肉"]
["品味","中式","中式粉麵飯","中式飯","肉碎茄子飯","雜肉"]
["和味","中式","中式粉麵飯","中式飯","肉碎茄子飯","雜肉"]
["品味","中式","中式小菜","中式小菜菜式","肉碎茄子煲","雜肉"]
["和味","中式","中式小菜","中式小菜菜式","肉碎茄子煲","雜肉"]
["品味","其他","餐牌其他","套餐","午餐套餐","無分類"]
["和味","其他","餐牌其他","套餐","午餐套餐","無分類"]
["和味","其他","餐牌其他","套餐","午餐套餐","無分類"]
["品味","其他","餐牌其他","套餐","午餐套餐","無分類"]
["品味","其他","餐牌其他","套餐","早餐套餐","無分類"]
["和味","越式","米紙卷","米紙卷菜式","西堤素菜米紙卷","菜"]
["品味","越式","越式燒物","越式燒物菜式","串焼大虎蝦","海鮮"]
["和味","越式","越式燒物","越式燒物菜式","串焼大虎蝦","海鮮"]
["品味","越式","越式燒物","越式燒物菜式","串焼大虎蝦","海鮮"]
["品味","飲料","無酒精","熱飲","杏仁霜","飲品"]
["品味","中式","中式素菜","中式素菜菜式","灼時蔬","菜"]
["品味","飲料","無酒精","特飲","芒果涼粉冰","飲品"]
["品味","中式","中式小菜","中式小菜菜式","豆豉凌魚油麥菜","菜"]
["品味","中式","中式粉麵飯","中式飯","豆腐火腩飯","豬"]
["品味","中式","中式小菜","中式小菜菜式","豆腐火腩煲","豬"]
["和味","中式","中式小菜","中式小菜菜式","豆腐魚腩煲","海鮮"]
["和味","中式","中式湯","中式湯菜式","豆腐魚頭雑菜湯","海鮮"]
["品味","中式","中式湯","中式湯菜式","例湯","湯"]
["品味","中式","中式湯","中式湯菜式","例湯","湯"]
["品味","中式","中式湯","中式湯菜式","例湯","湯"]
["品味","中式","中式湯","中式湯菜式","例湯","湯"]
["品味","中式","中式湯","中式湯菜式","例湯","湯"]
["和味","中式","中式湯","中式湯菜式","例湯","湯"]
["和味","中式","中式海鮮","中式海鮮菜式","剁椒魚頭","海鮮"]
["和味","越式","越式粉麵飯","越式河","和味皇牌湯河","雜肉"]
["品味","中式","中式小菜","中式小菜菜式","咖哩豬扒鍋","豬"]
["品味","中式","中式小菜","中式小菜菜式","咖哩雞鍋","雞"]
["品味","越式","咖喱","咖喱菜式","咖喱牛腩鍋","牛"]
["品味","越式","咖喱","咖喱菜式","咖喱軟殼蟹鍋","海鮮"]
["品味","越式","咖喱","咖喱菜式","咖喱雑菜鍋","菜"]
["品味","中式","中式海鮮","中式海鮮菜式","明爐烏頭","海鮮"]
["品味","中式","中式海鮮","中式海鮮菜式","明爐烏頭","海鮮"]
["品味","中式","燒味","淨燒味","燒鵝皇","鵝"]
["品味","中式","中式小菜","中式小菜菜式","枝竹豬肚煲","豬"]
["和味","中式","中式小菜","中式小菜菜式","枝竹豬肚煲","豬"]
["品味","越式","越式粉麵飯","越式河","河內生牛肉湯河","牛"]
["品味","西式","西式麵包","西式麵包菜式","油占包","包類"]
["品味","越式","越式小菜","越式小菜菜式","法式牛油雞翼","雞"]
["品味","西式","西式麵包","西式麵包菜式","炒蛋三文治","包類"]
["品味","中式","燒味","淨燒味","玫瑰豉油雞","雞"]
["品味","中式","燒味","淨燒味","玫瑰豉油雞","雞"]
["和味","中式","燒味","淨燒味","玫瑰豉油雞","雞"]
["品味","飲料","酒精","酒精款式","青島啤酒(大支)","酒類"]
["和味","飲料","酒精","酒精款式","青島啤酒(大支)","酒類"]
["和味","飲料","酒精","酒精款式","青島啤酒(大支)","酒類"]
["品味","中式","中式頭盤","中式頭盤菜式","和味三小拼(海蜇.叉燒.青瓜)","雜肉"]
["品味","越式","越式粉麵飯","越式河","品味湯河粉","雜肉"]
["和味","中式","中式素菜","中式素菜菜式","姜汁芥菜","菜"]
["品味","飲料","無酒精","特飲","珍多冰","飲品"]
["品味","飲料","無酒精","凍飲","凍紅豆奶茶","飲品"]
["和味","飲料","無酒精","凍飲","凍紅豆奶茶","飲品"]
["品味","飲料","無酒精","特飲","紅豆冰","飲品"]
["品味","飲料","無酒精","凍飲","凍紅豆咖啡","飲品"]
["和味","飲料","無酒精","凍飲","凍紅豆咖啡","飲品"]
["和味","中式","中式小菜","中式小菜菜式","紅青椒炒牛肉","牛"]
["和味","飲料","酒精","酒精款式","紅酒","酒類"]
["品味","中式","燒味","淨燒味","紅燒乳鴿","鴿"]
["品味","中式","中式素菜","中式素菜菜式","郊外油菜","菜"]
["品味","中式","中式素菜","中式素菜菜式","郊外油菜","菜"]
["品味","越式","米紙卷","米紙卷菜式","香芒軟殻蟹米紙卷","海鮮"]
["品味","越式","米紙卷","米紙卷菜式","香茅牛肉米紙卷","牛"]
["和味","越式","檬","湯檬","香茅牛肉湯檬","牛"]
["品味","越式","檬","湯檬","香茅牛肉湯檬","牛"]
["品味","越式","越式粉麵飯","越式飯","香茅牛肉飯","牛"]
["品味","越式","檬","撈檬","香茅牛肉撈檬","牛"]
["品味","越式","越式燒物","越式燒物菜式","香茅串焼牛肉","牛"]
["品味","越式","越式燒物","越式燒物菜式","香茅串焼拼盤","雜肉"]
["品味","越式","越式燒物","越式燒物菜式","香茅串焼雞肉","雞"]
["品味","越式","越式燒物","越式燒物菜式","香茅串燒豬頸肉","豬"]
["品味","越式","越式小菜","越式小菜菜式","香茅豬扒","豬"]
["和味","越式","越式小菜","越式小菜菜式","香茅豬扒","豬"]
["品味","越式","米紙卷","米紙卷菜式","香茅豬頸肉米紙卷","豬"]
["品味","越式","檬","湯檬","香茅豬頸肉串湯檬","豬"]
["品味","越式","檬","撈檬","香茅豬頸肉串撈檬","豬"]
["品味","越式","越式粉麵飯","越式飯","香葉肉碎伴太陽蛋飯","雜肉"]
["和味","越式","越式粉麵飯","越式飯","香葉肉碎伴太陽蛋飯","雜肉"]
["品味","飲料","無酒精","凍飲","凍檸檬茶","飲品"]
["品味","飲料","無酒精","凍飲","凍檸檬水","飲品"]
["品味","飲料","無酒精","凍飲","凍好立克","飲品"]
["品味","飲料","無酒精","凍飲","凍鴛鴦","飲品"]
["品味","飲料","無酒精","凍飲","凍奶茶","飲品"]
["品味","飲料","無酒精","凍飲","凍阿華田","飲品"]
["品味","飲料","無酒精","凍飲","凍巧克力","飲品"]
["品味","飲料","無酒精","凍飲","凍杏雙","飲品"]
["品味","飲料","無酒精","凍飲","凍柚子蜜","飲品"]
["品味","飲料","無酒精","凍飲","凍咖啡","飲品"]
["品味","飲料","無酒精","凍飲","凍菜蜜","飲品"]
["品味","飲料","無酒精","凍飲","凍利賓納","飲品"]
["品味","飲料","無酒精","凍飲","凍齋啡","飲品"]
["品味","飲料","無酒精","凍飲","凍檸檬水","飲品"]
["品味","飲料","無酒精","凍飲","凍檸啡","飲品"]
["品味","飲料","無酒精","凍飲","凍檸蜜","飲品"]
["品味","飲料","無酒精","凍飲","凍檸賓","飲品"]
["品味","飲料","無酒精","凍飲","凍檸樂","飲品"]
["品味","中式","中式小菜","中式小菜菜式","時菜炒斑球","海鮮"]
["和味","飲料","無酒精","特飲","梳打水","飲品"]
["和味","中式","中式粉麵飯","中式飯","海皇豆腐飯","海鮮"]
["品味","中式","中式小菜","中式小菜菜式","海皇豆腐煲","海鮮"]
["和味","中式","中式小菜","中式小菜菜式","海皇豆腐煲","海鮮"]
["品味","中式","中式粉麵飯","中式飯","海皇蛋白炒飯","海鮮"]
["品味","中式","中式海鮮","中式海鮮菜式","烤鯇魚","海鮮"]
["和味","中式","中式海鮮","中式海鮮菜式","烤鯇魚","海鮮"]
["品味","中式","燒味","燒味飯","脆皮燒腩仔飯","豬"]
["品味","中式","燒味","燒味飯","脆皮燒腩仔飯","豬"]
["品味","中式","燒味","燒味飯","脆皮燒腩仔飯","豬"]
["品味","西式","西式麵包","西式麵包菜式","脆脆豬仔包","包類"]
["品味","西式","西式麵包","西式麵包菜式","脆脆豬扒包","包類"]
["品味","飲料","無酒精","熱飲","熱奶茶","飲品"]
["品味","中式","燒味","淨燒味","迷你拼盤","雜肉"]
["品味","越式","檬","撈檬","迷你春卷撈檬","菜"]
["和味","越式","越式小菜","越式小菜菜式","迷你春卷","菜"]
["和味","中式","中式素菜","中式素菜菜式","灼白菜","菜"]
["和味","中式","中式素菜","中式素菜菜式","灼菜芯","菜"]
["和味","中式","中式湯","中式湯菜式","例湯","湯"]
["品味","中式","中式湯","中式湯菜式","例湯","湯"]
["和味","中式","中式頭盤","中式頭盤菜式","酸辣無骨鳯爪","雞"]
["和味","越式","越式素菜","越式素菜菜式","馬拉盞時蔬","菜"]
["品味","越式","越式素菜","越式素菜菜式","馬拉盞炒通菜","菜"]
["品味","越式","越式素菜","越式素菜菜式","馬拉盞時蔬","菜"]
["品味","中式","中式粉麵飯","中式河","乾炒牛河","牛"]
["品味","中式","中式粉麵飯","中式河","乾炒雑菜河粉","菜"]
["和味","中式","中式粉麵飯","中式河","乾炒雑菜河粉","菜"]
["品味","中式","中式粉麵飯","中式河","乾炒雑菜河粉","菜"]
["品味","飲料","無酒精","熱飲","熱咖啡","飲品"]
["品味","飲料","無酒精","熱飲","熱咖啡","飲品"]
["品味","其他","餐牌其他","套餐","晚餐套餐","無分類"]
["品味","中式","中式小菜","中式小菜菜式","涼瓜火腩煲","豬"]
["品味","中式","中式小菜","中式小菜菜式","涼瓜火腩煲","豬"]
["和味","中式","中式粉麵飯","中式飯","涼瓜牛肉飯","牛"]
["和味","中式","中式小菜","中式小菜菜式","涼瓜火腩煲","豬"]
["和味","中式","中式小菜","中式小菜菜式","涼瓜煎蛋","菜"]
["品味","中式","中式小菜","中式小菜菜式","涼瓜煎蛋","菜"]
["品味","中式","中式粉麵飯","中式其他","淨湯粉","粉麵飯"]
["品味","中式","中式小菜","中式小菜菜式","淨雲吞","海鮮"]
["品味","中式","中式素菜","中式素菜菜式","清炒時蔬","菜"]
["和味","中式","中式素菜","中式素菜菜式","清炒時蔬","菜"]
["品味","西式","西式麵包","西式麵包菜式","炒蛋三文治","包類"]
["和味","中式","中式海鮮","中式海鮮菜式","豉汁蒸烏頭","海鮮"]
["和味","中式","中式海鮮","中式海鮮菜式","豉汁蒸盲曹","海鮮"]
["品味","中式","中式海鮮","中式海鮮菜式","豉汁蒸倉魚","海鮮"]
["和味","中式","中式海鮮","中式海鮮菜式","豉汁蒸倉魚","海鮮"]
["品味","中式","中式海鮮","中式海鮮菜式","豉汁蒸倉魚","海鮮"]
["品味","中式","中式海鮮","中式海鮮菜式","豉汁蒸烏頭","海鮮"]
["和味","中式","中式海鮮","中式海鮮菜式","豉汁蒸魚頭","海鮮"]
["品味","中式","中式海鮮","中式海鮮菜式","豉汁蒸魚頭","海鮮"]
["品味","中式","中式海鮮","中式海鮮菜式","豉汁蒸鱔","海鮮"]
["和味","中式","中式海鮮","中式海鮮菜式","豉油皇大虎蝦","海鮮"]
["品味","中式","中式粉麵飯","中式河","豉油皇野菌炒河粉","菜"]
["和味","中式","中式粉麵飯","中式河","豉油皇野菌炒河粉","菜"]
["品味","中式","中式粉麵飯","中式河","豉油皇野菌炒河粉","菜"]
["品味","中式","中式粉麵飯","中式河","豉油皇野菌炒河粉","菜"]
["品味","中式","燒味","淨燒味","豉油雞脾","雞"]
["和味","中式","中式小菜","中式小菜菜式","通菜炒鮮魷","海鮮"]
["品味","中式","中式小菜","中式小菜菜式","通菜炒鮮魷","海鮮"]
["品味","中式","中式小菜","中式小菜菜式","通菜炒鮮魷","海鮮"]
["品味","中式","中式粉麵飯","中式飯","通菜炒鮮魷飯","海鮮"]
["品味","中式","中式粉麵飯","中式飯","通菜炒鮮魷飯","海鮮"]
["和味","中式","中式粉麵飯","中式飯","通菜炒鮮魷飯","海鮮"]
["品味","中式","中式頭盤","中式頭盤菜式","陳醋雲耳","雞"]
["品味","飲料","無酒精","特飲","雪碧","飲品"]
["品味","其他","餐牌其他","套餐","早餐套餐","粉麵飯"]
["和味","中式","中式小菜","中式小菜菜式","麻婆豆腐","菜"]
["品味","中式","中式粉麵飯","中式飯","揚州炒飯","粉麵飯"]
["品味","中式","中式粉麵飯","中式飯","揚州炒飯","粉麵飯"]
["和味","中式","中式小菜","中式小菜菜式","椒絲腐乳通菜","菜"]
["和味","中式","中式小菜","中式小菜菜式","椒鹽豆腐","菜"]
["和味","中式","中式小菜","中式小菜菜式","椒鹽豆腐","菜"]
["和味","中式","中式海鮮","中式海鮮菜式","椒鹽虎蝦","海鮮"]
["品味","中式","中式小菜","中式小菜菜式","椒鹽脆皮豆腐","菜"]
["品味","中式","中式小菜","中式小菜菜式","椒鹽脆皮豆腐","菜"]
["品味","中式","中式小菜","中式小菜菜式","椒鹽脆皮豆腐","菜"]
["品味","越式","越式海鮮","越式海鮮菜式","椒鹽軟殻蟹","海鮮"]
["品味","中式","中式小菜","中式小菜菜式","椒鹽鮮魷","海鮮"]
["和味","中式","中式小菜","中式小菜菜式","椒鹽鮮魷","海鮮"]
["和味","中式","中式小菜","中式小菜菜式","椒鹽鮮魷","海鮮"]
["品味","越式","越式海鮮","越式海鮮菜式","湄公河大頭蝦","海鮮"]
["品味","其他","餐牌其他","套餐","早餐套餐","無分類"]
["品味","飲料","無酒精","特飲","無糖可樂","飲品"]
["品味","越式","米紙卷","米紙卷菜式","香茅豬頸肉米紙卷","海鮮"]
["品味","越式","越式燒物","越式燒物菜式","焼雞肉串","雞"]
["和味","中式","中式小菜","中式小菜菜式","粟米魚柳","海鮮"]
["和味","中式","中式小菜","中式小菜菜式","菜心炒牛肉","牛"]
["品味","中式","中式小菜","中式小菜菜式","菜心炒牛肉","牛"]
["品味","中式","中式粉麵飯","中式飯","菜心炒牛肉飯","牛"]
["品味","中式","中式粉麵飯","中式飯","菜心炒牛肉飯","牛"]
["和味","中式","中式粉麵飯","中式飯","菜心炒牛肉飯","牛"]
["品味","飲料","無酒精","熱飲","熱菜蜜","飲品"]
["品味","西式","西式麵包","西式麵包菜式","菠蘿包","酒類"]
["和味","中式","中式小菜","中式小菜菜式","菠蘿生炒骨","豬"]
["品味","飲料","無酒精","特飲","菠蘿冰","飲品"]
["品味","中式","中式小菜","中式小菜菜式","菠蘿咕嚕肉","豬"]
["品味","中式","中式小菜","中式小菜菜式","菠蘿咕嚕肉","豬"]
["和味","中式","中式小菜","中式小菜菜式","菠蘿咕嚕肉","豬"]
["品味","中式","中式粉麵飯","中式飯","菠蘿咕嚕肉飯","豬"]
["品味","中式","中式粉麵飯","中式飯","菠蘿咕嚕肉飯","豬"]
["和味","中式","中式粉麵飯","中式飯","菠蘿咕嚕肉飯","豬"]
["品味","西式","西式麵包","西式麵包菜式","菠蘿油","包類"]
["品味","越式","越式粉麵飯","越式飯","越式三寶飯","雜肉"]
["品味","其他","餐牌其他","套餐","早餐套餐","無分類"]
["品味","越式","越式粉麵飯","越式飯","越式炒飯","粉麵飯"]
["品味","越式","越式小菜","越式小菜菜式","越式炸香蕉","菜"]
["品味","飲料","無酒精","熱飲","越南滴漏咖啡","飲品"]
["和味","中式","中式粉麵飯","中式飯","黑椒豬手飯","豬"]
["品味","飲料","無酒精","特飲","新鮮椰青","飲品"]
["品味","越式","越式小菜","越式小菜菜式","會安炸春卷","菜"]
["和味","越式","越式小菜","越式小菜菜式","會安炸春卷","菜"]
["和味","越式","越式小菜","越式小菜菜式","會安炸春卷","菜"]
["品味","飲料","無酒精","特飲","椰汁冰","飲品"]
["和味","飲料","無酒精","特飲","新鮮椰青","飲品"]
["和味","中式","中式粉麵飯","中式飯","滑蛋蝦仁飯","海鮮"]
["品味","中式","中式小菜","中式小菜菜式","滑蛋蝦仁","海鮮"]
["品味","中式","中式粉麵飯","中式飯","滑蛋蝦仁飯","海鮮"]
["品味","中式","中式粉麵飯","中式飯","滑蛋蝦仁飯","海鮮"]
["和味","中式","中式海鮮","中式海鮮菜式","煎倉魚","海鮮"]
["品味","西式","西式小食","西式小食菜式","煎荷包蛋","無分類"]
["品味","飲料","無酒精","熱飲","熱蜂蜜柚子茶","飲品"]
["和味","中式","中式粉麵飯","中式飯","醬爆豬頸肉飯","豬"]
["品味","飲料","無酒精","特飲","綠豆冰","飲品"]
["品味","中式","中式小菜","中式小菜菜式","椒絲腐乳通菜","菜"]
["品味","中式","中式小菜","中式小菜菜式","蒜子火腩大鱔煲","海鮮"]
["和味","中式","中式小菜","中式小菜菜式","蒜子火腩大鱔煲","海鮮"]
["品味","越式","越式麵包","越式麵包菜式","蒜蓉包","包類"]
["品味","中式","中式素菜","中式素菜菜式","蒜蓉炒時蔬","菜"]
["和味","中式","中式素菜","中式素菜菜式","蒜蓉炒時蔬","菜"]
["和味","中式","中式素菜","中式素菜菜式","蒜蓉炒時蔬","菜"]
["品味","中式","中式素菜","中式素菜菜式","蒜蓉炒時蔬飯","菜"]
["和味","中式","中式海鮮","中式海鮮菜式","蒸東星魚","海鮮"]
["和味","中式","中式海鮮","中式海鮮菜式","豉汁蒸倉魚","海鮮"]
["品味","中式","燒味","淨燒味","蜜汁叉燒","豬"]
["品味","中式","燒味","淨燒味","蜜汁叉燒","豬"]
["品味","中式","燒味","淨燒味","蜜汁叉燒","豬"]
["品味","飲料","無酒精","熱飲","熱利賓納","飲品"]
["品味","中式","中式小菜","中式小菜菜式","辣椒炒牛肉","牛"]
["品味","中式","中式海鮮","中式海鮮菜式","辣椒魚頭","海鮮"]
["品味","中式","中式頭盤","中式頭盤菜式","酸辣無骨鳯爪","雞"]
["品味","其他","餐牌其他","套餐","早餐套餐","無分類"]
["品味","飲料","無酒精","熱飲","熱香片茶","飲品"]
["品味","中式","中式頭盤","中式頭盤菜式","蔥油海蜇","海鮮"]
["和味","越式","越式小菜","越式小菜菜式","越式炸蝦餅","海鮮"]
["和味","越式","越式小菜","越式小菜菜式","蝦餠紮肉拼蝦片","雜肉"]
["和味","西式","西式粉麵飯","西式粉麵飯菜式","豬扒煎蛋飯","豬"]
["品味","西式","西式粉麵飯","西式粉麵飯菜式","豬扒煎蛋飯","豬"]
["品味","中式","燒味","淨燒味","脆皮三層焼腩仔","豬"]
["品味","中式","燒味","淨燒味","脆皮三層焼腩仔","豬"]
["和味","中式","燒味","淨燒味","燒味三拼","雜肉"]
["品味","中式","燒味","燒味飯","雙拼飯","雜肉"]
["品味","中式","燒味","淨燒味","燒鵝皇","鵝"]
["品味","中式","燒味","淨燒味","燒鵝皇","鵝"]
["品味","中式","燒味","淨燒味","燒鵝皇","鵝"]
["品味","中式","燒味","淨燒味","燒鵝皇","鵝"]
["品味","越式","越式湯","越式湯菜式","蕃茄蟹肉湯","海鮮"]
["品味","西式","西式麵包","西式麵包菜式","餐蛋三文治","包類"]
["品味","飲料","無酒精","特飲","鹹檸七喜","飲品"]
["和味","中式","中式粉麵飯","中式飯","薑米菜粒炒飯","菜"]
["品味","中式","中式小菜","中式小菜菜式","薑蔥魚頭煲","海鮮"]
["品味","中式","中式海鮮","中式海鮮菜式","薑蔥蒸鯇魚","海鮮"]
["品味","西式","西式小食","西式小食菜式","薯條","菜"]
["品味","中式","中式小菜","中式小菜菜式","鮮茄炒蛋","菜"]
["品味","越式","檬","湯檬","鮮茄蟹肉丸湯檬","海鮮"]
["品味","飲料","無酒精","熱飲","熱齋啡","飲品"]
["品味","其他","餐牌其他","雜項","雜項","飲品"]
["和味","飲料","酒精","酒精款式","藍妹(大支)","酒類"]
["品味","飲料","酒精","酒精款式","藍妹(大支)","酒類"]
["和味","飲料","酒精","酒精款式","藍妹(大支)","酒類"]
["和味","中式","中式海鮮","中式海鮮菜式","豉汁蒸鱔","海鮮"]
["品味","中式","中式小菜","中式小菜菜式","醬爆豬頸肉","豬"]
["品味","中式","中式粉麵飯","中式飯","醬爆豬頸肉飯","豬"]
["品味","西式","西式麵包","西式麵包菜式","雙拼三文治","包類"]
["品味","中式","燒味","燒味飯","雙拼飯","雜肉"]
["品味","中式","燒味","燒味飯","雙拼飯","雜肉"]
["品味","西式","西式麵包","西式麵包菜式","雞扒包","雞"]
["品味","西式","西式小食","西式小食菜式","雞全翼配春卷","雞"]
["和味","越式","越式燒物","越式燒物菜式","焼雞肉串","雞"]
["品味","西式","西式粉麵飯","西式粉麵飯菜式","雞翼拼豬頸肉飯","雜肉"]
["和味","中式","燒味","淨燒味","鵝腸","鵝"]
["品味","中式","燒味","淨燒味","鵝頭","鵝"]
["品味","中式","燒味","淨燒味","鹹蛋","鴨"]
["品味","中式","燒味","淨燒味","鹹蛋","鴨"]
["品味","飲料","無酒精","特飲","鹹檸七喜","飲品"]
["品味","中式","中式粉麵飯","中式飯","欖菜薑米炒飯","菜"]
["品味","中式","中式粉麵飯","中式飯","欖菜薑米炒飯","菜"]
["品味","其他","餐牌其他","套餐","午餐套餐","無分類"]
["品味","中式","中式小菜","中式小菜菜式","臘味炒芥蘭","雜肉"]
["品味","中式","中式小菜","中式小菜菜式","沙爹肥牛粉絲煲","牛"]
["品味","中式","中式小菜","中式小菜菜式","土魷蒸肉餅","雜肉"]
["品味","中式","燒味","淨燒味","燒味三拼","雜肉"]
["品味","中式","中式小菜","中式小菜菜式","燒腩仔鮑魚小棠菜","雜肉"]
["品味","中式","中式小菜","中式小菜菜式","欖菜肉碎四季豆","雜肉"]
["品味","中式","燒味","淨燒味","燒味雙拼","雜肉"]
["品味","中式","中式粉麵飯","中式飯","椒鹽鮮魷飯","海鮮"]
["品味","中式","中式粉麵飯","中式米線","牛肉扎肉米線","牛"]
["品味","中式","中式粉麵飯","中式河","豬手豬肚絲湯河","豬"]
["品味","越式","越式粉麵飯","越式飯","蝦餅煎蛋飯","海鮮"]
["品味","中式","中式小菜","中式小菜菜式","枝竹羊腩煲","羊"]
["品味","中式","中式小菜","中式小菜菜式","枝竹羊腩煲","羊"]
["品味","中式","中式小菜","中式小菜菜式","臘味炒芥蘭","雜肉"]
["品味","西式","西式麵包","西式麵包菜式","脆脆豬扒包","包類"]
["品味","中式","中式粉麵飯","中式飯","枝竹羊腩飯","羊"]
["品味","中式","中式海鮮","中式海鮮菜式","豉汁涼瓜倉魚","海鮮"]
["品味","中式","中式粉麵飯","中式飯","滑蛋蝦仁飯","海鮮"]
["品味","西式","西式粉麵飯","西式粉麵飯菜式","雞扒肉碎飯","雞"]
["品味","越式","檬","撈檬","蝦餅拼春卷撈檬","海鮮"]
["品味","越式","越式粉麵飯","越式河","豬肉丸拼豬肚絲湯河","豬"]
["品味","中式","中式粉麵飯","中式飯","豆腐火腩飯","豬"]
["品味","越式","檬","湯檬","鮮茄三寶湯檬","雜肉"]
["品味","越式","越式小菜","越式小菜菜式","順化蔗蝦","海鮮"]
["品味","越式","米紙卷","米紙卷菜式","龍脷魚柳米紙卷","海鮮"]
["品味","越式","米紙卷","米紙卷菜式","越式扎肉米紙卷","豬"]
["品味","越式","越式湯","越式湯菜式","蕃茄蟹肉湯","湯"]
["品味","越式","越式湯","越式湯菜式","蕃茄蟹肉湯","湯"]
["品味","越式","越式粉麵飯","越式河","品味湯河粉","粉麵飯"]
["品味","飲料","酒精","酒精款式","青島啤酒(大支)","酒類"]
["品味","飲料","酒精","酒精款式","紅酒","酒類"]
["品味","越式","越式燒物","越式燒物菜式","豬頸肉串","豬"]
["品味","飲料","無酒精","特飲","檸七喜","飲品"]
["品味","西式","西式麵包","西式麵包菜式","火腿蛋三文治","包類"]
["品味","中式","燒味","淨燒味","燒味三拼","雜肉"]
["品味","西式","西式麵包","西式麵包菜式","奶醬包","包類"]
["品味","越式","檬","撈檬","蝦餅扎肉撈檬","雜肉"]
["品味","越式","越式小菜","越式小菜菜式","香茅雞翼","雞"]
["品味","越式","越式麵包","越式麵包菜式","越式三文治","包類"]
["品味","中式","中式海鮮","中式海鮮菜式","煎倉魚","海鮮"]
["品味","中式","中式海鮮","中式海鮮菜式","蒸倉魚","海鮮"]
["品味","越式","越式粉麵飯","越式其他","越式炒金邊粉","粉麵飯"]
["品味","越式","越式粉麵飯","越式飯","冬陰公海鮮飯","海鮮"]
["品味","越式","越式粉麵飯","越式飯","越式炒飯","粉麵飯"]
["品味","中式","中式粉麵飯","中式河","乾炒牛河","牛"]
["品味","越式","越式小菜","越式小菜菜式","越式炸蝦餅","海鮮"]
["品味","中式","中式海鮮","中式海鮮菜式","豉汁蒸鱔","海鮮"]
["品味","中式","中式小菜","中式小菜菜式","麻婆豆腐","菜"]
["品味","越式","越式粉麵飯","越式飯","冬陰公海鮮飯","海鮮"]
["品味","中式","中式小菜","中式小菜菜式","醬爆牛肉","牛"]
["品味","中式","中式小菜","中式小菜菜式","海皇粉絲雜菜煲","海鮮"]
["品味","中式","中式小菜","中式小菜菜式","枝竹羊腩煲","羊"]
["品味","越式","咖喱","咖喱菜式","咖哩牛腩配蒜茸包","牛"]
["品味","越式","越式粉麵飯","越式飯","蝦餅餐肉飯","雜肉"]
["品味","西式","西式粉麵飯","西式粉麵飯菜式","雞扒煎蛋飯","雞"]
["品味","越式","越式粉麵飯","越式其他","冬蔭公牛肉豬米線","雜肉"]
["品味","西式","西式粉麵飯","西式粉麵飯菜式","豬扒雞翼飯","雜肉"]
["品味","越式","越式粉麵飯","越式飯","香茅牛肉腸仔飯","雜肉"]
["品味","西式","西式粉麵飯","西式粉麵飯菜式","雞扒餐肉飯","雜肉"]
["品味","越式","檬","湯檬","豬手雞絲湯檬","雜肉"]
["品味","越式","越式粉麵飯","越式河","豬手扎肉湯河","豬"]
["品味","西式","西式粉麵飯","西式粉麵飯菜式","豬頸肉煎蛋飯","豬"]
["品味","越式","越式粉麵飯","越式飯","豬頸肉蝦餅飯","雜肉"]
["品味","中式","燒味","淨燒味","乳豬全體","豬"]
["品味","越式","檬","湯檬","蝦餅扎肉湯檬","雜肉"]
["品味","越式","檬","撈檬","鮮蝦撈檬","海鮮"]
["品味","越式","檬","湯檬","春卷湯檬","菜"]
["品味","中式","中式粉麵飯","中式河","鮮蝦雲吞河","海鮮"]
["品味","中式","中式粉麵飯","中式飯","枝竹羊腩飯","羊"]
["品味","中式","中式粉麵飯","中式飯","叉燒炒滑蛋飯","粉麵飯"]
["品味","越式","越式粉麵飯","越式飯","馬拉盞時蔬飯","粉麵飯"]
["品味","越式","檬","湯檬","冬蔭公三寶湯檬","粉麵飯"]
["品味","越式","越式粉麵飯","越式其他","鮮茄三寶米線","粉麵飯"]
["品味","越式","越式粉麵飯","越式其他","冬陰功三寶米線","粉麵飯"]
["品味","中式","中式素菜","中式素菜菜式","姜汁芥菜","菜"]
["品味","中式","中式小菜","中式小菜菜式","羅白排骨煲","豬"]
["品味","中式","中式粉麵飯","中式飯","粟米斑腩飯","海鮮"]
["品味","中式","中式小菜","中式小菜菜式","涼瓜野菌炒牛肉","牛"]
["品味","中式","燒味","淨燒味","油鴨脾拼臘味","雜肉"]
["品味","中式","中式小菜","中式小菜菜式","蝦醬豆卜蒸腩片","海鮮"]
["品味","中式","中式粉麵飯","中式飯","北菇蒸雞飯","雞"]
["品味","中式","中式小菜","中式小菜菜式","豉汁鳳爪蒸排骨","雜肉"]
["品味","中式","中式小菜","中式小菜菜式","水煮牛肉鍋","牛"]
["品味","中式","中式海鮮","中式海鮮菜式","椒鹽魚腩","海鮮"]
["品味","中式","中式小菜","中式小菜菜式","雲耳蓮藕片炒鮮魷","海鮮"]
["品味","中式","中式小菜","中式小菜菜式","乾蔥鮑魚雞煲","海鮮"]
["品味","中式","中式小菜","中式小菜菜式","枝竹火腩鮑魚煲","海鮮"]
["品味","中式","中式小菜","中式小菜菜式","虎皮尖椒肉碎","菜"]
["品味","中式","中式小菜","中式小菜菜式","豆腐豬肚煲","豬"]
["品味","中式","中式小菜","中式小菜菜式","豆腐豬肚煲","豬"]
["品味","中式","中式小菜","中式小菜菜式","咕嚕蝦球","海鮮"]
["品味","中式","中式小菜","中式小菜菜式","金不換野菌炒豬頸肉","豬"]
["品味","中式","中式小菜","中式小菜菜式","Ⅹ0醬韭菜花炒鮮魷","海鮮"]
["品味","中式","中式海鮮","中式海鮮菜式","薑蔥蒸黃花魚","海鮮"]
["品味","中式","中式小菜","中式小菜菜式","上湯魚滑浸娃娃菜","菜"]
["品味","中式","燒味","淨燒味","燒味三拼","雜肉"]
["品味","中式","燒味","淨燒味","燒味雙拼","雜肉"]
["品味","西式","西式粉麵飯","西式粉麵飯菜式","豬扒炒公仔麵","豬"]
["品味","中式","中式小菜","中式小菜菜式","麻婆豆腐","菜"]
["品味","中式","中式小菜","中式小菜菜式","翠玉瓜炒蝦球","海鮮"]
["品味","中式","中式小菜","中式小菜菜式","水煮豬大腸","豬"]
["品味","中式","中式小菜","中式小菜菜式","菜脯肉鬆煎蛋角","雜肉"]
["品味","飲料","無酒精","凍飲","凍阿華田","飲品"]
["品味","中式","中式小菜","中式小菜菜式","菠蘿咕嚕肉","豬"]
["品味","中式","中式小菜","中式小菜菜式","菜心炒牛肉","牛"]
["品味","中式","中式小菜","中式小菜菜式","菜心炒牛肉","牛"]
["品味","中式","中式小菜","中式小菜菜式","叉燒炒滑蛋","豬"]
["品味","中式","中式粉麵飯","中式飯","滑蛋蝦仁飯","海鮮"]
["品味","中式","中式粉麵飯","中式飯","醬爆豬頸肉飯","豬"]
["品味","中式","中式小菜","中式小菜菜式","通菜炒鮮魷","海鮮"]
["品味","中式","中式小菜","中式小菜菜式","椒鹽豆腐","菜"]
["品味","中式","中式小菜","中式海鮮菜式","薑蔥蒸鯇魚","海鮮"]
["品味","中式","中式小菜","中式海鮮菜式","豉汁蒸倉魚","海鮮"]
["品味","中式","中式小菜","中式小菜菜式","涼瓜火腩煲","豬"]
["品味","中式","中式小菜","中式小菜菜式","涼瓜火腩煲","豬"]
["品味","中式","中式小菜","中式小菜菜式","蒜子火腩大鱔煲","海鮮"]
["品味","中式","中式小菜","中式小菜菜式","薑蔥魚頭煲","海鮮"]
["品味","中式","中式小菜","中式小菜菜式","枝竹豬肚煲","豬"]
["品味","中式","中式粉麵飯","中式飯","肉碎茄子飯","雜肉"]
["品味","中式","中式海鮮","中式海鮮菜式","明爐烏頭","海鮮"]
["品味","中式","中式海鮮","中式海鮮菜式","豉汁蒸鱔","海鮮"]
["品味","中式","中式小菜","中式小菜菜式","椒鹽鮮魷","海鮮"]
["品味","中式","燒味","淨燒味","油鴨脾拼臘味","雜肉"]
["品味","中式","中式小菜","中式小菜菜式","四季豆炒肉碎","菜"]
["品味","中式","中式小菜","中式小菜菜式","炸雲吞","海鮮"]
["品味","中式","中式粉麵飯","中式米線","餐肉湯米線","粉麵飯"]
["品味","越式","米紙卷","米紙卷菜式","香芒軟殻蟹米紙卷","海鮮"]
["品味","飲料","無酒精","熱飲","熱檸賓","飲品"]
["品味","中式","燒味","燒味飯","白切雞髀飯","雞"]
["品味","飲料","無酒精","特飲","蒸餾水","飲品"]
["品味","西式","西式麵包","西式麵包菜式","脆脆豬仔包","包類"]
["品味","越式","越式燒物","越式燒物菜式","串燒大虎蝦","海鮮"]
["品味","中式","中式粉麵飯","中式飯","菠蘿海鮮炒飯","粉麵飯"]
["品味","飲料","無酒精","特飲","梳打水","飲品"]
["品味","中式","燒味","淨燒味","紅燒乳鴿","鴿"]
["品味","中式","燒味","淨燒味","豉油雞脾","雞"]
["品味","越式","越式粉麵飯","越式飯","越式炒飯","粉麵飯"]
["品味","中式","中式湯","中式湯菜式","粟米魚肚羹","湯"]
["品味","中式","中式湯","中式湯菜式","豆腐魚頭雑菜湯","湯"]
["品味","中式","中式素菜","中式素菜菜式","清炒通菜","菜"]
["品味","中式","中式小菜","中式小菜菜式","肉碎茄子煲","雜肉"]
["品味","越式","越式小菜","越式小菜菜式","馬拉盞通菜豬頸肉","豬"]
["品味","西式","西式小食","西式小食菜式","煎荷包蛋","雞"]
["品味","西式","西式麵包","西式麵包菜式","魚柳包","包類"]
["品味","西式","西式麵包","西式麵包菜式","魚柳三文治","包類"]
["品味","中式","中式小菜","中式小菜菜式","發財豬俐","豬"]
["品味","中式","中式小菜","中式小菜菜式","芥菜豆腐肉片鍋","雜肉"]
["品味","中式","中式小菜","中式小菜菜式","虎皮尖椒肉碎","雜肉"]
["品味","越式","越式粉麵飯","越式飯","蝦餅雞扒飯","粉麵飯"]
["品味","中式","中式粉麵飯","中式米線","鮮茄雞絲豬肚絲米線","粉麵飯"]
["品味","越式","越式粉麵飯","越式河","鮮茄牛肉扎肉湯河","粉麵飯"]
["品味","越式","越式粉麵飯","越式河","冬蔭公雞絲豬肉丸湯河","粉麵飯"]
["品味","西式","西式粉麵飯","西式粉麵飯菜式","雞扒香腸飯","雜肉"]
["品味","西式","西式粉麵飯","西式粉麵飯菜式","雞扒肉碎飯","雜肉"]
["品味","越式","越式粉麵飯","越式飯","香茅牛肉煎蛋飯","牛"]
["品味","西式","西式粉麵飯","西式粉麵飯菜式","豬扒餐肉飯","雜肉"]
["品味","西式","西式粉麵飯","西式粉麵飯菜式","豬扒雞翼飯","雜肉"]
["品味","越式","越式粉麵飯","越式其他","冬陰功三寶米線","粉麵飯"]
["品味","中式","中式小菜","中式小菜菜式","節瓜豆卜火腩","豬"]
["品味","中式","中式小菜","中式小菜菜式","茄子班腩煲","海鮮"]
["品味","中式","中式小菜","中式小菜菜式","醬爆西芹肉丁","雜肉"]
["品味","中式","中式小菜","中式小菜菜式","鹹魚蒸肉餅","雜肉"]
["品味","中式","中式小菜","中式小菜菜式","梅菜扣肉","豬"]
["品味","中式","中式小菜","中式小菜菜式","金銀蛋肉碎浸菜苗","菜"]
["品味","中式","中式小菜","中式小菜菜式","臘味炒荷芹","雜肉"]
["品味","中式","中式小菜","中式小菜菜式","椒絲腐乳通菜炒牛肉","牛"]
["品味","中式","中式小菜","中式小菜菜式","椒絲腐乳通菜炒牛肉","牛"]
["品味","中式","中式小菜","中式小菜菜式","蝦球叉燒炒滑蛋","雜肉"]
["品味","中式","中式小菜","中式小菜菜式","啫啫芥蘭蝦干煲","海鮮"]
["品味","中式","中式海鮮","中式海鮮菜式","冬菜蒸黃花魚","海鮮"]
["品味","中式","中式小菜","中式小菜菜式","胡椒豬肚雞煲","雜肉"]
["品味","中式","中式小菜","中式小菜菜式","芥菜豆腐肉片鍋","菜"]
["品味","中式","中式小菜","中式小菜菜式","尖椒炒豬肚","豬"]
["品味","中式","中式小菜","中式小菜菜式","蝦球叉燒炒滑蛋","海鮮"]
["品味","西式","西式粉麵飯","西式粉麵飯菜式","豬頸肉腸仔飯","雜肉"]
["品味","越式","檬","湯檬","雞扒煎蛋冬蔭公豬湯檬","雜肉"]
["品味","中式","中式小菜","中式小菜菜式","欖菜肉碎四季豆","雜肉"]
["品味","中式","中式海鮮","中式海鮮菜式","酸菜鯇魚鍋","海鮮"]
["品味","中式","中式小菜","中式小菜菜式","枝竹火腩鮑魚煲","海鮮"]
["品味","中式","中式粉麵飯","中式其他","無分類","無分類"]
["品味","中式","中式海鮮","中式海鮮菜式","豉汁蒸烏頭","海鮮"]
["品味","中式","中式小菜","中式小菜菜式","茄子班腩煲","海鮮"]
["品味","越式","檬","湯檬","蝦餅扎肉湯檬","雜肉"]
["品味","中式","中式海鮮","中式海鮮菜式","豉汁蒸烏頭","海鮮"]
["品味","中式","中式湯","中式湯菜式","海皇豆腐羹","湯"]
["品味","中式","中式海鮮","中式海鮮菜式","豉油皇大虎蝦","海鮮"]
["品味","越式","檬","湯檬","香茅牛肉湯檬","牛"]
["品味","中式","中式海鮮","中式海鮮菜式","茄汁大虎蝦","海鮮"]
["品味","越式","檬","撈檬","蝦餅扎肉撈檬","雜肉"]
["品味","越式","檬","湯檬","鮮蝦湯檬","海鮮"]
["品味","西式","西式粉麵飯","西式粉麵飯菜式","麥皮","粉麵飯"]
["品味","中式","燒味","燒味飯","豉油雞髀飯","雞"]
["品味","越式","越式小菜","越式小菜菜式","香茅雞扒","雞"]
["品味","越式","越式粉麵飯","越式飯","越式三寶飯","雜肉"]
["品味","越式","檬","撈檬","蝦餅扎肉撈檬","雜肉"]
["品味","越式","檬","湯檬","鮮蝦湯檬","海鮮"]
["品味","越式","檬","湯檬","香茅豬頸肉串湯檬","豬"]
["品味","中式","中式小菜","中式小菜菜式","時菜蝦球","海鮮"]
["品味","中式","中式海鮮","中式海鮮菜式","豉汁蒸倉魚","海鮮"]
["品味","中式","中式小菜","中式小菜菜式","梅菜扣肉","豬"]
["品味","越式","越式小菜","越式小菜菜式","香茅雞扒","雞"]
["品味","越式","越式粉麵飯","越式飯","香茅雞扒飯","雞"]
["品味"]
["品味"]
["品味"]
["品味"]
["品味"]
["品味"]
["品味"]
["品味"]
["品味"]
["品味"]

{"sheet":"工作表1","index":7,"n_rows":39,"n_cols":20,"rows_kept":39,"cut":false,"hidden":false,"merged":[]}
[]
[]
[null,"店舖"]
[null,"主類別"]
[null,"副類別"]
[null,"=LOOKUP(F12,DataNov.xlsm!UniFoodItem[gdName],DataNov.xlsm!UniFoodItem[amount])"]
[null,"=INDIRECT(\"[DataNov.xlsm]UniGroup!$G\" & MATCH(F12,DataNov.xlsm!UniFoodItem[gdName],0)+4)"]
[]
[]
[]
[null,"店舖","主類別","副類別","次類別","食品名稱","主食材","總銷售額","一月","二月","三月","4月","5月","6月","7月","8月","9月","10月","11月","12月"]
[null,"品味","中式","燒味","燒味飯","明爐燒鵝髀飯","鵝",{"$f":"SUM(I12:T12)","v":4185},null,null,null,null,null,null,null,null,null,{"$f":"[12]UniGroup!$G117","v":4185}]
[null,"品味","中式","燒味","燒味飯","海蜇燻蹄飯","雜肉",{"$f":"SUM(I13:T13)","v":0}]
[null,"品味","中式","燒味","淨燒味","紅燒乳鴿","鴿",0]
[null,"品味","中式","燒味","淨燒味","燒味三拼","雜肉",0]
[null,"品味","中式","燒味","燒味飯","燒味三寶飯","雜肉",0]
[null,"品味","中式","燒味","淨燒味","燒味雙拼","雜肉",0]
[null,"品味","中式","燒味","燒味飯","明爐燒鵝飯","鵝",0]
[null,"品味","中式","燒味","燒味飯","脆皮燒腩仔飯","豬",{"$f":"SUM(I19:T19)","v":0}]
[null,"品味","中式","燒味","燒味飯","蜜汁叉燒飯","豬",0]
[null,"品味","中式","燒味","燒味飯","白切雞飯","雞",0]
[null,"品味","中式","燒味","燒味飯","豉油雞飯","雞",0]
[null,"品味","中式","燒味","燒味飯","燻蹄飯","豬",0]
[null,"品味","中式","燒味","燒味飯","白切雞髀飯","雞",0]
[null,"品味","中式","燒味","燒味飯","豉油雞髀飯","雞",0]
[null,"品味","中式","燒味","燒味飯","燒味四寶飯","雜肉",0]
[null,"品味","中式","燒味","燒味飯","雙拼飯","雜肉",0]
[null,"品味","中式","燒味","淨燒味","蜜汁叉燒","豬",0]
[null,"品味","中式","燒味","淨燒味","白切農場雞","雞",0]
[null,"品味","中式","燒味","淨燒味","白切雞脾","雞",0]
[null,"品味","中式","燒味","淨燒味","燒鵝皇","鵝",0]
[null,"品味","中式","燒味","淨燒味","玫瑰豉油雞","雞",0]
[null,"品味","中式","燒味","淨燒味","迷你拼盤","雜肉",0]
[null,"品味","中式","燒味","淨燒味","豉油雞脾","雞",0]
[null,"品味","中式","燒味","淨燒味","脆皮三層焼腩仔","豬",0]
[null,"品味","中式","燒味","淨燒味","鵝頭","鵝",0]
[null,"品味","中式","燒味","淨燒味","鹹蛋","鴨",0]
[null,"品味","中式","燒味","淨燒味","乳豬全體","豬",0]
[null,"品味","中式","燒味","淨燒味","油鴨脾拼臘味","雜肉",0]

{"sheet":"工作表2","index":8,"n_rows":20,"n_cols":13,"rows_kept":20,"cut":false,"hidden":false,"merged":[]}
[null,{"$f":"'[14]FOOD TYPE MASTER'!$B3","v":"食材分類"},null,{"$f":"'[14]MENU MASTER'!$A3","v":"中式"},null,{"$f":"'[14]MENU MASTER'!$B4","v":"中式頭盤"},{"$f":"'[14]MENU MASTER'!$C4","v":"西式小食"},{"$f":"'[14]MENU MASTER'!$D4","v":"越式小菜"},{"$f":"'[14]MENU MASTER'!$E4","v":"酒精"},{"$f":"'[14]MENU MASTER'!$F4","v":"餐牌其他"},null,{"$f":"_xlfn.IFS(FoodItem!$J$4=1,F1,FoodItem!$J$4=2,G1,FoodItem!$J$4=3,H1,FoodItem!$J$4=4,I1,FoodItem!$J$4=5,J1)","v":{"$error":"#NAME?"}},"品味"]
[null,{"$f":"'[14]FOOD TYPE MASTER'!$B4","v":"無分類"},null,{"$f":"'[14]MENU MASTER'!$A4","v":"西式"},null,{"$f":"'[14]MENU MASTER'!$B5","v":"燒味"},{"$f":"'[14]MENU MASTER'!$C5","v":"西式麵包"},{"$f":"'[14]MENU MASTER'!$D5","v":"越式燒物"},{"$f":"'[14]MENU MASTER'!$E5","v":"無酒精"},{"$f":"'[14]MENU MASTER'!$F5","v":0},null,{"$f":"_xlfn.IFS(FoodItem!$J$4=1,F2,FoodItem!$J$4=2,G2,FoodItem!$J$4=3,H2,FoodItem!$J$4=4,I2,FoodItem!$J$4=5,J2)","v":{"$error":"#NAME?"}},"和味"]
[null,{"$f":"'[14]FOOD TYPE MASTER'!$B5","v":"豬"},null,{"$f":"'[14]MENU MASTER'!$A5","v":"越式"},null,{"$f":"'[14]MENU MASTER'!$B6","v":"中式小菜"},{"$f":"'[14]MENU MASTER'!$C6","v":"西式粉麵飯"},{"$f":"'[14]MENU MASTER'!$D6","v":"越式海鮮"},{"$f":"'[14]MENU MASTER'!$E6","v":0},{"$f":"'[14]MENU MASTER'!$F6","v":0},null,{"$f":"_xlfn.IFS(FoodItem!$J$4=1,F3,FoodItem!$J$4=2,G3,FoodItem!$J$4=3,H3,FoodItem!$J$4=4,I3,FoodItem!$J$4=5,J3)","v":{"$error":"#NAME?"}},"全部"]
[null,{"$f":"'[14]FOOD TYPE MASTER'!$B6","v":"牛"},null,{"$f":"'[14]MENU MASTER'!$A6","v":"飲料"},null,{"$f":"'[14]MENU MASTER'!$B7","v":"中式海鮮"},{"$f":"'[14]MENU MASTER'!$C7","v":0},{"$f":"'[14]MENU MASTER'!$D7","v":"咖喱"},{"$f":"'[14]MENU MASTER'!$E7","v":0},{"$f":"'[14]MENU MASTER'!$F7","v":0},null,{"$f":"_xlfn.IFS(FoodItem!$J$4=1,F4,FoodItem!$J$4=2,G4,FoodItem!$J$4=3,H4,FoodItem!$J$4=4,I4,FoodItem!$J$4=5,J4)","v":{"$error":"#NAME?"}}]
[null,{"$f":"'[14]FOOD TYPE MASTER'!$B7","v":"羊"},null,{"$f":"'[14]MENU MASTER'!$A7","v":"其他"},null,{"$f":"'[14]MENU MASTER'!$B8","v":"中式素菜"},{"$f":"'[14]MENU MASTER'!$C8","v":0},{"$f":"'[14]MENU MASTER'!$D8","v":"越式素菜"},{"$f":"'[14]MENU MASTER'!$E8","v":0},{"$f":"'[14]MENU MASTER'!$F8","v":0},null,{"$f":"_xlfn.IFS(FoodItem!$J$4=1,F5,FoodItem!$J$4=2,G5,FoodItem!$J$4=3,H5,FoodItem!$J$4=4,I5,FoodItem!$J$4=5,J5)","v":{"$error":"#NAME?"}}]
[null,{"$f":"'[14]FOOD TYPE MASTER'!$B8","v":"雞"},null,{"$f":"'[14]MENU MASTER'!$A8","v":" "},null,{"$f":"'[14]MENU MASTER'!$B9","v":"中式粉麵飯"},{"$f":"'[14]MENU MASTER'!$C9","v":0},{"$f":"'[14]MENU MASTER'!$D9","v":"米紙卷"},{"$f":"'[14]MENU MASTER'!$E9","v":0},{"$f":"'[14]MENU MASTER'!$F9","v":0},null,{"$f":"_xlfn.IFS(FoodItem!$J$4=1,F6,FoodItem!$J$4=2,G6,FoodItem!$J$4=3,H6,FoodItem!$J$4=4,I6,FoodItem!$J$4=5,J6)","v":{"$error":"#NAME?"}}]
[null,{"$f":"'[14]FOOD TYPE MASTER'!$B9","v":"鴨"},null,{"$f":"'[14]MENU MASTER'!$A9","v":" "},null,{"$f":"'[14]MENU MASTER'!$B10","v":"中式湯"},{"$f":"'[14]MENU MASTER'!$C10","v":0},{"$f":"'[14]MENU MASTER'!$D10","v":"檬"},{"$f":"'[14]MENU MASTER'!$E10","v":0},{"$f":"'[14]MENU MASTER'!$F10","v":0},null,{"$f":"_xlfn.IFS(FoodItem!$J$4=1,F7,FoodItem!$J$4=2,G7,FoodItem!$J$4=3,H7,FoodItem!$J$4=4,I7,FoodItem!$J$4=5,J7)","v":{"$error":"#NAME?"}}]
[null,{"$f":"'[14]FOOD TYPE MASTER'!$B10","v":"鵝"},null,{"$f":"'[14]MENU MASTER'!$A10","v":" "},null,{"$f":"'[14]MENU MASTER'!$B11","v":0},{"$f":"'[14]MENU MASTER'!$C11","v":0},{"$f":"'[14]MENU MASTER'!$D11","v":"越式麵包"},{"$f":"'[14]MENU MASTER'!$E11","v":0},{"$f":"'[14]MENU MASTER'!$F11","v":0},null,{"$f":"_xlfn.IFS(FoodItem!$J$4=1,F8,FoodItem!$J$4=2,G8,FoodItem!$J$4=3,H8,FoodItem!$J$4=4,I8,FoodItem!$J$4=5,J8)","v":{"$error":"#NAME?"}}]
[null,{"$f":"'[14]FOOD TYPE MASTER'!$B11","v":"鴿"},null,{"$f":"'[14]MENU MASTER'!$A11","v":" "},null,{"$f":"'[14]MENU MASTER'!$B12","v":0},{"$f":"'[14]MENU MASTER'!$C12","v":0},{"$f":"'[14]MENU MASTER'!$D12","v":"越式粉麵飯"},{"$f":"'[14]MENU MASTER'!$E12","v":0},{"$f":"'[14]MENU MASTER'!$F12","v":0},null,{"$f":"_xlfn.IFS(FoodItem!$J$4=1,F9,FoodItem!$J$4=2,G9,FoodItem!$J$4=3,H9,FoodItem!$J$4=4,I9,FoodItem!$J$4=5,J9)","v":{"$error":"#NAME?"}}]
[null,{"$f":"'[14]FOOD TYPE MASTER'!$B12","v":"雜肉"},null,{"$f":"'[14]MENU MASTER'!$A12","v":0},null,{"$f":"'[14]MENU MASTER'!$B13","v":0},{"$f":"'[14]MENU MASTER'!$C13","v":0},{"$f":"'[14]MENU MASTER'!$D13","v":"越式湯"},{"$f":"'[14]MENU MASTER'!$E13","v":0},{"$f":"'[14]MENU MASTER'!$F13","v":0},null,{"$f":"_xlfn.IFS(FoodItem!$J$4=1,F10,FoodItem!$J$4=2,G10,FoodItem!$J$4=3,H10,FoodItem!$J$4=4,I10,FoodItem!$J$4=5,J10)","v":{"$error":"#NAME?"}}]
[null,{"$f":"'[14]FOOD TYPE MASTER'!$B13","v":"海鮮"},null,{"$f":"'[14]MENU MASTER'!$A13","v":0},null,{"$f":"'[14]MENU MASTER'!$B14","v":0},{"$f":"'[14]MENU MASTER'!$C14","v":0},{"$f":"'[14]MENU MASTER'!$D14","v":0},{"$f":"'[14]MENU MASTER'!$E14","v":0},{"$f":"'[14]MENU MASTER'!$F14","v":0},null,{"$f":"_xlfn.IFS(FoodItem!$J$4=1,F11,FoodItem!$J$4=2,G11,FoodItem!$J$4=3,H11,FoodItem!$J$4=4,I11,FoodItem!$J$4=5,J11)","v":{"$error":"#NAME?"}}]
[null,{"$f":"'[14]FOOD TYPE MASTER'!$B14","v":"菜"},null,{"$f":"'[14]MENU MASTER'!$A14","v":0},null,{"$f":"'[14]MENU MASTER'!$B15","v":0},{"$f":"'[14]MENU MASTER'!$C15","v":0},{"$f":"'[14]MENU MASTER'!$D15","v":0},{"$f":"'[14]MENU MASTER'!$E15","v":0},{"$f":"'[14]MENU MASTER'!$F15","v":0},null,{"$f":"_xlfn.IFS(FoodItem!$J$4=1,F12,FoodItem!$J$4=2,G12,FoodItem!$J$4=3,H12,FoodItem!$J$4=4,I12,FoodItem!$J$4=5,J12)","v":{"$error":"#NAME?"}}]
[null,{"$f":"'[14]FOOD TYPE MASTER'!$B15","v":"飲品"},null,{"$f":"'[14]MENU MASTER'!$A15","v":0},null,{"$f":"'[14]MENU MASTER'!$B16","v":0},{"$f":"'[14]MENU MASTER'!$C16","v":0},{"$f":"'[14]MENU MASTER'!$D16","v":0},{"$f":"'[14]MENU MASTER'!$E16","v":0},{"$f":"'[14]MENU MASTER'!$F16","v":0},null,{"$f":"_xlfn.IFS(FoodItem!$J$4=1,F13,FoodItem!$J$4=2,G13,FoodItem!$J$4=3,H13,FoodItem!$J$4=4,I13,FoodItem!$J$4=5,J13)","v":{"$error":"#NAME?"}}]
[null,{"$f":"'[14]FOOD TYPE MASTER'!$B16","v":"酒類"},null,{"$f":"'[14]MENU MASTER'!$A16","v":0},null,{"$f":"'[14]MENU MASTER'!$B17","v":0},{"$f":"'[14]MENU MASTER'!$C17","v":0},{"$f":"'[14]MENU MASTER'!$D17","v":0},{"$f":"'[14]MENU MASTER'!$E17","v":0},{"$f":"'[14]MENU MASTER'!$F17","v":0},null,{"$f":"_xlfn.IFS(FoodItem!$J$4=1,F14,FoodItem!$J$4=2,G14,FoodItem!$J$4=3,H14,FoodItem!$J$4=4,I14,FoodItem!$J$4=5,J14)","v":{"$error":"#NAME?"}}]
[null,{"$f":"'[14]FOOD TYPE MASTER'!$B17","v":"包類"},null,{"$f":"'[14]MENU MASTER'!$A17","v":0},null,{"$f":"'[14]MENU MASTER'!$B18","v":0},{"$f":"'[14]MENU MASTER'!$C18","v":0},{"$f":"'[14]MENU MASTER'!$D18","v":0},{"$f":"'[14]MENU MASTER'!$E18","v":0},{"$f":"'[14]MENU MASTER'!$F18","v":0},null,{"$f":"_xlfn.IFS(FoodItem!$J$4=1,F15,FoodItem!$J$4=2,G15,FoodItem!$J$4=3,H15,FoodItem!$J$4=4,I15,FoodItem!$J$4=5,J15)","v":{"$error":"#NAME?"}}]
[null,{"$f":"'[14]FOOD TYPE MASTER'!$B18","v":"粉麵飯"},null,{"$f":"'[14]MENU MASTER'!$A18","v":0},null,{"$f":"'[14]MENU MASTER'!$B19","v":0},{"$f":"'[14]MENU MASTER'!$C19","v":0},{"$f":"'[14]MENU MASTER'!$D19","v":0},{"$f":"'[14]MENU MASTER'!$E19","v":0},{"$f":"'[14]MENU MASTER'!$F19","v":0},null,{"$f":"_xlfn.IFS(FoodItem!$J$4=1,F16,FoodItem!$J$4=2,G16,FoodItem!$J$4=3,H16,FoodItem!$J$4=4,I16,FoodItem!$J$4=5,J16)","v":{"$error":"#NAME?"}}]
[null,{"$f":"'[14]FOOD TYPE MASTER'!$B19","v":"湯"},null,{"$f":"'[14]MENU MASTER'!$A19","v":0},null,{"$f":"'[14]MENU MASTER'!$B20","v":0},{"$f":"'[14]MENU MASTER'!$C20","v":0},{"$f":"'[14]MENU MASTER'!$D20","v":0},{"$f":"'[14]MENU MASTER'!$E20","v":0},{"$f":"'[14]MENU MASTER'!$F20","v":0},null,{"$f":"_xlfn.IFS(FoodItem!$J$4=1,F17,FoodItem!$J$4=2,G17,FoodItem!$J$4=3,H17,FoodItem!$J$4=4,I17,FoodItem!$J$4=5,J17)","v":{"$error":"#NAME?"}}]
[null,{"$f":"'[14]FOOD TYPE MASTER'!$B20","v":"無分類"}]
[null,{"$f":"'[14]FOOD TYPE MASTER'!$B21","v":0}]
[null,{"$f":"'[14]FOOD TYPE MASTER'!$B22","v":0}]